BEGIN:VCALENDAR
VERSION:2.0
PRODID:-//Welcome to HOPE Lutheran Church - ECPv6.15.20//NONSGML v1.0//EN
CALSCALE:GREGORIAN
METHOD:PUBLISH
X-WR-CALNAME:Welcome to HOPE Lutheran Church
X-ORIGINAL-URL:https://www.hopelutheranrf.com
X-WR-CALDESC:Events for Welcome to HOPE Lutheran Church
REFRESH-INTERVAL;VALUE=DURATION:PT1H
X-Robots-Tag:noindex
X-PUBLISHED-TTL:PT1H
BEGIN:VTIMEZONE
TZID:America/New_York
BEGIN:DAYLIGHT
TZOFFSETFROM:-0500
TZOFFSETTO:-0400
TZNAME:EDT
DTSTART:20240310T070000
END:DAYLIGHT
BEGIN:STANDARD
TZOFFSETFROM:-0400
TZOFFSETTO:-0500
TZNAME:EST
DTSTART:20241103T060000
END:STANDARD
BEGIN:DAYLIGHT
TZOFFSETFROM:-0500
TZOFFSETTO:-0400
TZNAME:EDT
DTSTART:20250309T070000
END:DAYLIGHT
BEGIN:STANDARD
TZOFFSETFROM:-0400
TZOFFSETTO:-0500
TZNAME:EST
DTSTART:20251102T060000
END:STANDARD
BEGIN:DAYLIGHT
TZOFFSETFROM:-0500
TZOFFSETTO:-0400
TZNAME:EDT
DTSTART:20260308T070000
END:DAYLIGHT
BEGIN:STANDARD
TZOFFSETFROM:-0400
TZOFFSETTO:-0500
TZNAME:EST
DTSTART:20261101T060000
END:STANDARD
END:VTIMEZONE
BEGIN:VEVENT
DTSTART;TZID=America/New_York:20251117T100000
DTEND;TZID=America/New_York:20251117T110000
DTSTAMP:20260424T182610
CREATED:20250107T165728Z
LAST-MODIFIED:20250107T165728Z
UID:14196-1763373600-1763377200@www.hopelutheranrf.com
SUMMARY:Coffee & Faithful Conversation
DESCRIPTION:
URL:https://www.hopelutheranrf.com/event/coffee-faithful-conversation-6/2025-11-17/
LOCATION:HOPE Lutheran Church\, 3337 Kingsbarn Ave\, River Falls\, WI\, 54022\, United States
GEO:44.898581;-92.6327652
X-APPLE-STRUCTURED-LOCATION;VALUE=URI;X-ADDRESS=HOPE Lutheran Church 3337 Kingsbarn Ave River Falls WI 54022 United States;X-APPLE-RADIUS=500;X-TITLE=3337 Kingsbarn Ave:geo:-92.6327652,44.898581
END:VEVENT
BEGIN:VEVENT
DTSTART;TZID=America/New_York:20251117T183000
DTEND;TZID=America/New_York:20251117T193000
DTSTAMP:20260424T182610
CREATED:20250909T164810Z
LAST-MODIFIED:20250909T164810Z
UID:14700-1763404200-1763407800@www.hopelutheranrf.com
SUMMARY:Carols and Candles Rehearsal
DESCRIPTION:
URL:https://www.hopelutheranrf.com/event/carols-and-candles-rehearsal-5/
LOCATION:HOPE Lutheran Church\, 3337 Kingsbarn Ave\, River Falls\, WI\, 54022\, United States
GEO:44.898581;-92.6327652
X-APPLE-STRUCTURED-LOCATION;VALUE=URI;X-ADDRESS=HOPE Lutheran Church 3337 Kingsbarn Ave River Falls WI 54022 United States;X-APPLE-RADIUS=500;X-TITLE=3337 Kingsbarn Ave:geo:-92.6327652,44.898581
END:VEVENT
BEGIN:VEVENT
DTSTART;TZID=America/New_York:20251118T183000
DTEND;TZID=America/New_York:20251118T193000
DTSTAMP:20260424T182610
CREATED:20180123T192118Z
LAST-MODIFIED:20180123T192118Z
UID:13205-1763490600-1763494200@www.hopelutheranrf.com
SUMMARY:Council Ministry
DESCRIPTION:
URL:https://www.hopelutheranrf.com/event/council-ministry/2025-11-18/
LOCATION:HOPE Lutheran Church\, 3337 Kingsbarn Ave\, River Falls\, WI\, 54022\, United States
GEO:44.898581;-92.6327652
X-APPLE-STRUCTURED-LOCATION;VALUE=URI;X-ADDRESS=HOPE Lutheran Church 3337 Kingsbarn Ave River Falls WI 54022 United States;X-APPLE-RADIUS=500;X-TITLE=3337 Kingsbarn Ave:geo:-92.6327652,44.898581
END:VEVENT
BEGIN:VEVENT
DTSTART;TZID=America/New_York:20251119T173000
DTEND;TZID=America/New_York:20251119T193000
DTSTAMP:20260424T182610
CREATED:20250909T165421Z
LAST-MODIFIED:20250909T165421Z
UID:14710-1763573400-1763580600@www.hopelutheranrf.com
SUMMARY:Advent Fair
DESCRIPTION:
URL:https://www.hopelutheranrf.com/event/advent-fair/
LOCATION:HOPE Lutheran Church\, 3337 Kingsbarn Ave\, River Falls\, WI\, 54022\, United States
GEO:44.898581;-92.6327652
X-APPLE-STRUCTURED-LOCATION;VALUE=URI;X-ADDRESS=HOPE Lutheran Church 3337 Kingsbarn Ave River Falls WI 54022 United States;X-APPLE-RADIUS=500;X-TITLE=3337 Kingsbarn Ave:geo:-92.6327652,44.898581
END:VEVENT
BEGIN:VEVENT
DTSTART;TZID=America/New_York:20251119T174500
DTEND;TZID=America/New_York:20251119T193000
DTSTAMP:20260424T182610
CREATED:20250910T150315Z
LAST-MODIFIED:20250910T150315Z
UID:14721-1763574300-1763580600@www.hopelutheranrf.com
SUMMARY:Wednesdays of HOPE
DESCRIPTION:
URL:https://www.hopelutheranrf.com/event/wednesdays-of-hope-5/2025-11-19/
LOCATION:HOPE Lutheran Church\, 3337 Kingsbarn Ave\, River Falls\, WI\, 54022\, United States
GEO:44.898581;-92.6327652
X-APPLE-STRUCTURED-LOCATION;VALUE=URI;X-ADDRESS=HOPE Lutheran Church 3337 Kingsbarn Ave River Falls WI 54022 United States;X-APPLE-RADIUS=500;X-TITLE=3337 Kingsbarn Ave:geo:-92.6327652,44.898581
END:VEVENT
END:VCALENDAR