BEGIN:VCALENDAR
VERSION:2.0
PRODID:-//Welcome to HOPE Lutheran Church - ECPv6.15.20//NONSGML v1.0//EN
CALSCALE:GREGORIAN
METHOD:PUBLISH
X-WR-CALNAME:Welcome to HOPE Lutheran Church
X-ORIGINAL-URL:https://www.hopelutheranrf.com
X-WR-CALDESC:Events for Welcome to HOPE Lutheran Church
REFRESH-INTERVAL;VALUE=DURATION:PT1H
X-Robots-Tag:noindex
X-PUBLISHED-TTL:PT1H
BEGIN:VTIMEZONE
TZID:America/New_York
BEGIN:DAYLIGHT
TZOFFSETFROM:-0500
TZOFFSETTO:-0400
TZNAME:EDT
DTSTART:20150308T070000
END:DAYLIGHT
BEGIN:STANDARD
TZOFFSETFROM:-0400
TZOFFSETTO:-0500
TZNAME:EST
DTSTART:20151101T060000
END:STANDARD
BEGIN:DAYLIGHT
TZOFFSETFROM:-0500
TZOFFSETTO:-0400
TZNAME:EDT
DTSTART:20160313T070000
END:DAYLIGHT
BEGIN:STANDARD
TZOFFSETFROM:-0400
TZOFFSETTO:-0500
TZNAME:EST
DTSTART:20161106T060000
END:STANDARD
BEGIN:DAYLIGHT
TZOFFSETFROM:-0500
TZOFFSETTO:-0400
TZNAME:EDT
DTSTART:20170312T070000
END:DAYLIGHT
BEGIN:STANDARD
TZOFFSETFROM:-0400
TZOFFSETTO:-0500
TZNAME:EST
DTSTART:20171105T060000
END:STANDARD
END:VTIMEZONE
BEGIN:VEVENT
DTSTART;TZID=America/New_York:20160525T190000
DTEND;TZID=America/New_York:20160525T210000
DTSTAMP:20260424T214626
CREATED:20160420T195109Z
LAST-MODIFIED:20160420T195109Z
UID:2260-1464202800-1464210000@www.hopelutheranrf.com
SUMMARY:Baccalaureate 7 PM at RFHS
DESCRIPTION:Baccalaureate will be held at 7PM at River Falls High School.
URL:https://www.hopelutheranrf.com/event/baccalaureate-7-pm-at-rfhs/
LOCATION:WI
END:VEVENT
BEGIN:VEVENT
DTSTART;TZID=America/New_York:20160529T093000
DTEND;TZID=America/New_York:20160529T103000
DTSTAMP:20260424T214626
CREATED:20160410T155545Z
LAST-MODIFIED:20160410T155545Z
UID:2233-1464514200-1464517800@www.hopelutheranrf.com
SUMMARY:Sunday Worship 9:30 AM
DESCRIPTION:Please join us for Sunday morning worship at 9:30 AM at our new location:  3337 Kingsbarn Avenue\, River Falls\, near the east entrance of the Sterling Ponds neighborhood.  Coffee Fellowship follows the service.
URL:https://www.hopelutheranrf.com/event/sunday-worship-930-am-4/
LOCATION:HOPE Lutheran Church\, 3337 Kingsbarn Ave\, River Falls\, WI\, 54022\, United States
GEO:44.898581;-92.6327652
X-APPLE-STRUCTURED-LOCATION;VALUE=URI;X-ADDRESS=HOPE Lutheran Church 3337 Kingsbarn Ave River Falls WI 54022 United States;X-APPLE-RADIUS=500;X-TITLE=3337 Kingsbarn Ave:geo:-92.6327652,44.898581
END:VEVENT
BEGIN:VEVENT
DTSTART;TZID=America/New_York:20160601T120000
DTEND;TZID=America/New_York:20160601T130000
DTSTAMP:20260424T214626
CREATED:20160523T143235Z
LAST-MODIFIED:20160523T143235Z
UID:2309-1464782400-1464786000@www.hopelutheranrf.com
SUMMARY:Faith Talk
DESCRIPTION:Lunchtime conversation of faith topics. Bring your lunch. Coffee will be served.
URL:https://www.hopelutheranrf.com/event/faith-talk-2/
LOCATION:HOPE Lutheran Church\, 3337 Kingsbarn Ave\, River Falls\, WI\, 54022\, United States
GEO:44.898581;-92.6327652
X-APPLE-STRUCTURED-LOCATION;VALUE=URI;X-ADDRESS=HOPE Lutheran Church 3337 Kingsbarn Ave River Falls WI 54022 United States;X-APPLE-RADIUS=500;X-TITLE=3337 Kingsbarn Ave:geo:-92.6327652,44.898581
END:VEVENT
BEGIN:VEVENT
DTSTART;TZID=America/New_York:20160601T131500
DTEND;TZID=America/New_York:20160601T141500
DTSTAMP:20260424T214626
CREATED:20160426T212745Z
LAST-MODIFIED:20160517T133654Z
UID:2273-1464786900-1464790500@www.hopelutheranrf.com
SUMMARY:Strings of HOPE 1:15 PM
DESCRIPTION:Strings of HOPE rehearses every Wednesday at 1:15pm at church.
URL:https://www.hopelutheranrf.com/event/strings-of-hope-200-pm-5/
LOCATION:HOPE Lutheran Church\, 3337 Kingsbarn Ave\, River Falls\, WI\, 54022\, United States
GEO:44.898581;-92.6327652
X-APPLE-STRUCTURED-LOCATION;VALUE=URI;X-ADDRESS=HOPE Lutheran Church 3337 Kingsbarn Ave River Falls WI 54022 United States;X-APPLE-RADIUS=500;X-TITLE=3337 Kingsbarn Ave:geo:-92.6327652,44.898581
END:VEVENT
BEGIN:VEVENT
DTSTART;TZID=America/New_York:20160608T131500
DTEND;TZID=America/New_York:20160608T141500
DTSTAMP:20260424T214626
CREATED:20160426T212814Z
LAST-MODIFIED:20160517T133624Z
UID:2274-1465391700-1465395300@www.hopelutheranrf.com
SUMMARY:Strings of HOPE 1:15 PM
DESCRIPTION:Strings of HOPE rehearses every Wednesday at 1:15pm at church.
URL:https://www.hopelutheranrf.com/event/strings-of-hope-200-pm-6/
LOCATION:HOPE Lutheran Church\, 3337 Kingsbarn Ave\, River Falls\, WI\, 54022\, United States
GEO:44.898581;-92.6327652
X-APPLE-STRUCTURED-LOCATION;VALUE=URI;X-ADDRESS=HOPE Lutheran Church 3337 Kingsbarn Ave River Falls WI 54022 United States;X-APPLE-RADIUS=500;X-TITLE=3337 Kingsbarn Ave:geo:-92.6327652,44.898581
END:VEVENT
BEGIN:VEVENT
DTSTART;TZID=America/New_York:20160615T131500
DTEND;TZID=America/New_York:20160615T141500
DTSTAMP:20260424T214626
CREATED:20160426T212902Z
LAST-MODIFIED:20160517T133451Z
UID:2275-1465996500-1466000100@www.hopelutheranrf.com
SUMMARY:Strings of HOPE 1:15 PM
DESCRIPTION:Strings of HOPE rehearses every Wednesday at 1:15pm at church.
URL:https://www.hopelutheranrf.com/event/strings-of-hope-200-pm-7/
LOCATION:HOPE Lutheran Church\, 3337 Kingsbarn Ave\, River Falls\, WI\, 54022\, United States
GEO:44.898581;-92.6327652
X-APPLE-STRUCTURED-LOCATION;VALUE=URI;X-ADDRESS=HOPE Lutheran Church 3337 Kingsbarn Ave River Falls WI 54022 United States;X-APPLE-RADIUS=500;X-TITLE=3337 Kingsbarn Ave:geo:-92.6327652,44.898581
END:VEVENT
BEGIN:VEVENT
DTSTART;TZID=America/New_York:20160622T131500
DTEND;TZID=America/New_York:20160622T141500
DTSTAMP:20260424T214626
CREATED:20160426T212931Z
LAST-MODIFIED:20160517T133411Z
UID:2276-1466601300-1466604900@www.hopelutheranrf.com
SUMMARY:Strings of HOPE 1:15 PM
DESCRIPTION:Strings of HOPE rehearses every Wednesday at 1:15pm at church.
URL:https://www.hopelutheranrf.com/event/strings-of-hope-200-pm-8/
LOCATION:HOPE Lutheran Church\, 3337 Kingsbarn Ave\, River Falls\, WI\, 54022\, United States
GEO:44.898581;-92.6327652
X-APPLE-STRUCTURED-LOCATION;VALUE=URI;X-ADDRESS=HOPE Lutheran Church 3337 Kingsbarn Ave River Falls WI 54022 United States;X-APPLE-RADIUS=500;X-TITLE=3337 Kingsbarn Ave:geo:-92.6327652,44.898581
END:VEVENT
BEGIN:VEVENT
DTSTART;TZID=America/New_York:20160626T093000
DTEND;TZID=America/New_York:20160626T103000
DTSTAMP:20260424T214626
CREATED:20160301T012322Z
LAST-MODIFIED:20160301T012322Z
UID:2145-1466933400-1466937000@www.hopelutheranrf.com
SUMMARY:Dedication Sunday 9:30 AM
DESCRIPTION:Please join us for the official dedication of our new church building! \nSunday morning worship is at 9:30 AM at our new location\, 3337 Kingsbarn Avenue\, River Falls\, near the east entrance to the Sterling Ponds neighborhood. \nA special meal is planned to follow worship.  Please check back here for further updates as the special day approaches.
URL:https://www.hopelutheranrf.com/event/dedication-sunday-930-am/
LOCATION:HOPE Lutheran Church\, 3337 Kingsbarn Ave\, River Falls\, WI\, 54022\, United States
GEO:44.898581;-92.6327652
X-APPLE-STRUCTURED-LOCATION;VALUE=URI;X-ADDRESS=HOPE Lutheran Church 3337 Kingsbarn Ave River Falls WI 54022 United States;X-APPLE-RADIUS=500;X-TITLE=3337 Kingsbarn Ave:geo:-92.6327652,44.898581
END:VEVENT
BEGIN:VEVENT
DTSTART;TZID=America/New_York:20160629T131500
DTEND;TZID=America/New_York:20160629T141500
DTSTAMP:20260424T214626
CREATED:20160426T212955Z
LAST-MODIFIED:20160517T133340Z
UID:2277-1467206100-1467209700@www.hopelutheranrf.com
SUMMARY:Strings of HOPE 1:15 PM
DESCRIPTION:Strings of HOPE rehearses every Wednesday at 1:15pm at church.
URL:https://www.hopelutheranrf.com/event/strings-of-hope-200-pm-9/
LOCATION:HOPE Lutheran Church\, 3337 Kingsbarn Ave\, River Falls\, WI\, 54022\, United States
GEO:44.898581;-92.6327652
X-APPLE-STRUCTURED-LOCATION;VALUE=URI;X-ADDRESS=HOPE Lutheran Church 3337 Kingsbarn Ave River Falls WI 54022 United States;X-APPLE-RADIUS=500;X-TITLE=3337 Kingsbarn Ave:geo:-92.6327652,44.898581
END:VEVENT
BEGIN:VEVENT
DTSTART;TZID=America/New_York:20160706T131500
DTEND;TZID=America/New_York:20160706T141500
DTSTAMP:20260424T214626
CREATED:20160426T213159Z
LAST-MODIFIED:20160517T133248Z
UID:2278-1467810900-1467814500@www.hopelutheranrf.com
SUMMARY:Strings of HOPE 1:15 PM
DESCRIPTION:Strings of HOPE rehearses every Wednesday at 1:15pm at church.
URL:https://www.hopelutheranrf.com/event/strings-of-hope-200-pm-10/
LOCATION:HOPE Lutheran Church\, 3337 Kingsbarn Ave\, River Falls\, WI\, 54022\, United States
GEO:44.898581;-92.6327652
X-APPLE-STRUCTURED-LOCATION;VALUE=URI;X-ADDRESS=HOPE Lutheran Church 3337 Kingsbarn Ave River Falls WI 54022 United States;X-APPLE-RADIUS=500;X-TITLE=3337 Kingsbarn Ave:geo:-92.6327652,44.898581
END:VEVENT
BEGIN:VEVENT
DTSTART;TZID=America/New_York:20160712T063000
DTEND;TZID=America/New_York:20160712T193000
DTSTAMP:20260424T214626
CREATED:20160713T002656Z
LAST-MODIFIED:20160713T002656Z
UID:2345-1468305000-1468351800@www.hopelutheranrf.com
SUMMARY:Communications Ministry Mtg
DESCRIPTION:
URL:https://www.hopelutheranrf.com/event/communications-ministry-mtg/
LOCATION:WI
END:VEVENT
BEGIN:VEVENT
DTSTART;TZID=America/New_York:20160713T120000
DTEND;TZID=America/New_York:20160713T130000
DTSTAMP:20260424T214626
CREATED:20160713T143434Z
LAST-MODIFIED:20160713T143434Z
UID:2386-1468411200-1468414800@www.hopelutheranrf.com
SUMMARY:Faith Talk
DESCRIPTION:Bring your lunch and join others in conversations of faith. Coffee will be provided.
URL:https://www.hopelutheranrf.com/event/faith-talk-8/
LOCATION:HOPE Lutheran Church\, 3337 Kingsbarn Ave\, River Falls\, WI\, 54022\, United States
GEO:44.898581;-92.6327652
X-APPLE-STRUCTURED-LOCATION;VALUE=URI;X-ADDRESS=HOPE Lutheran Church 3337 Kingsbarn Ave River Falls WI 54022 United States;X-APPLE-RADIUS=500;X-TITLE=3337 Kingsbarn Ave:geo:-92.6327652,44.898581
END:VEVENT
BEGIN:VEVENT
DTSTART;TZID=America/New_York:20160713T170000
DTEND;TZID=America/New_York:20160713T180000
DTSTAMP:20260424T214626
CREATED:20160713T001757Z
LAST-MODIFIED:20160713T002231Z
UID:2338-1468429200-1468432800@www.hopelutheranrf.com
SUMMARY:Exec Ministry Mtg
DESCRIPTION:
URL:https://www.hopelutheranrf.com/event/exec-ministry-mtg/
LOCATION:WI
END:VEVENT
BEGIN:VEVENT
DTSTART;TZID=America/New_York:20160717T093000
DTEND;TZID=America/New_York:20160717T103000
DTSTAMP:20260424T214626
CREATED:20160713T005447Z
LAST-MODIFIED:20160713T005447Z
UID:2369-1468747800-1468751400@www.hopelutheranrf.com
SUMMARY:Sunday Worship 9:30 AM
DESCRIPTION:Please join us for Sunday worship at HOPE Lutheran at our new church in the Sterling Ponds neighborhood of River Falls.  Our worship time is 9:30 AM\, followed by coffee fellowship at 10:30 AM.
URL:https://www.hopelutheranrf.com/event/sunday-worship-930-am-5/
LOCATION:HOPE Lutheran Church\, 3337 Kingsbarn Ave\, River Falls\, WI\, 54022\, United States
GEO:44.898581;-92.6327652
X-APPLE-STRUCTURED-LOCATION;VALUE=URI;X-ADDRESS=HOPE Lutheran Church 3337 Kingsbarn Ave River Falls WI 54022 United States;X-APPLE-RADIUS=500;X-TITLE=3337 Kingsbarn Ave:geo:-92.6327652,44.898581
END:VEVENT
BEGIN:VEVENT
DTSTART;TZID=America/New_York:20160720T120000
DTEND;TZID=America/New_York:20160720T130000
DTSTAMP:20260424T214626
CREATED:20160713T143509Z
LAST-MODIFIED:20160713T143509Z
UID:2387-1469016000-1469019600@www.hopelutheranrf.com
SUMMARY:Faith Talk
DESCRIPTION:Bring your lunch and join others in conversations of faith. Coffee will be provided.
URL:https://www.hopelutheranrf.com/event/faith-talk-9/
LOCATION:HOPE Lutheran Church\, 3337 Kingsbarn Ave\, River Falls\, WI\, 54022\, United States
GEO:44.898581;-92.6327652
X-APPLE-STRUCTURED-LOCATION;VALUE=URI;X-ADDRESS=HOPE Lutheran Church 3337 Kingsbarn Ave River Falls WI 54022 United States;X-APPLE-RADIUS=500;X-TITLE=3337 Kingsbarn Ave:geo:-92.6327652,44.898581
END:VEVENT
BEGIN:VEVENT
DTSTART;TZID=America/New_York:20160720T131500
DTEND;TZID=America/New_York:20160720T141500
DTSTAMP:20260424T214626
CREATED:20160426T213257Z
LAST-MODIFIED:20160517T133151Z
UID:2280-1469020500-1469024100@www.hopelutheranrf.com
SUMMARY:Strings of HOPE 1:15PM
DESCRIPTION:Strings of HOPE rehearses every Wednesday at 1:15pm at church.
URL:https://www.hopelutheranrf.com/event/strings-of-hope-200-pm-12/
LOCATION:HOPE Lutheran Church\, 3337 Kingsbarn Ave\, River Falls\, WI\, 54022\, United States
GEO:44.898581;-92.6327652
X-APPLE-STRUCTURED-LOCATION;VALUE=URI;X-ADDRESS=HOPE Lutheran Church 3337 Kingsbarn Ave River Falls WI 54022 United States;X-APPLE-RADIUS=500;X-TITLE=3337 Kingsbarn Ave:geo:-92.6327652,44.898581
END:VEVENT
BEGIN:VEVENT
DTSTART;TZID=America/New_York:20160720T170000
DTEND;TZID=America/New_York:20160720T183000
DTSTAMP:20260424T214626
CREATED:20160719T161520Z
LAST-MODIFIED:20160719T161520Z
UID:2391-1469034000-1469039400@www.hopelutheranrf.com
SUMMARY:VBS Planning Meeting
DESCRIPTION:
URL:https://www.hopelutheranrf.com/event/vbs-planning-meeting/
LOCATION:HOPE Lutheran Church\, 3337 Kingsbarn Ave\, River Falls\, WI\, 54022\, United States
GEO:44.898581;-92.6327652
X-APPLE-STRUCTURED-LOCATION;VALUE=URI;X-ADDRESS=HOPE Lutheran Church 3337 Kingsbarn Ave River Falls WI 54022 United States;X-APPLE-RADIUS=500;X-TITLE=3337 Kingsbarn Ave:geo:-92.6327652,44.898581
END:VEVENT
BEGIN:VEVENT
DTSTART;TZID=America/New_York:20160720T183000
DTEND;TZID=America/New_York:20160720T200000
DTSTAMP:20260424T214626
CREATED:20160713T003254Z
LAST-MODIFIED:20160713T003254Z
UID:2346-1469039400-1469044800@www.hopelutheranrf.com
SUMMARY:Church Council
DESCRIPTION:
URL:https://www.hopelutheranrf.com/event/church-council/
LOCATION:HOPE Lutheran Church\, 3337 Kingsbarn Ave\, River Falls\, WI\, 54022\, United States
GEO:44.898581;-92.6327652
X-APPLE-STRUCTURED-LOCATION;VALUE=URI;X-ADDRESS=HOPE Lutheran Church 3337 Kingsbarn Ave River Falls WI 54022 United States;X-APPLE-RADIUS=500;X-TITLE=3337 Kingsbarn Ave:geo:-92.6327652,44.898581
END:VEVENT
BEGIN:VEVENT
DTSTART;TZID=America/New_York:20160724T093000
DTEND;TZID=America/New_York:20160724T103000
DTSTAMP:20260424T214626
CREATED:20160713T005535Z
LAST-MODIFIED:20160713T005554Z
UID:2370-1469352600-1469356200@www.hopelutheranrf.com
SUMMARY:Sunday Worship 9:30 AM
DESCRIPTION:Please join us for Sunday worship at HOPE Lutheran at our new church in the Sterling Ponds neighborhood of River Falls.  Our worship time is 9:30 AM\, followed by coffee fellowship at 10:30 AM.
URL:https://www.hopelutheranrf.com/event/sunday-worship-930-am-6/
LOCATION:HOPE Lutheran Church\, 3337 Kingsbarn Ave\, River Falls\, WI\, 54022\, United States
GEO:44.898581;-92.6327652
X-APPLE-STRUCTURED-LOCATION;VALUE=URI;X-ADDRESS=HOPE Lutheran Church 3337 Kingsbarn Ave River Falls WI 54022 United States;X-APPLE-RADIUS=500;X-TITLE=3337 Kingsbarn Ave:geo:-92.6327652,44.898581
END:VEVENT
BEGIN:VEVENT
DTSTART;TZID=America/New_York:20160725T160000
DTEND;TZID=America/New_York:20160725T170000
DTSTAMP:20260424T214626
CREATED:20160725T152338Z
LAST-MODIFIED:20160725T152338Z
UID:2409-1469462400-1469466000@www.hopelutheranrf.com
SUMMARY:VBS Planning Mtg
DESCRIPTION:
URL:https://www.hopelutheranrf.com/event/vbs-planning-mtg/
LOCATION:HOPE Lutheran Church\, 3337 Kingsbarn Ave\, River Falls\, WI\, 54022\, United States
GEO:44.898581;-92.6327652
X-APPLE-STRUCTURED-LOCATION;VALUE=URI;X-ADDRESS=HOPE Lutheran Church 3337 Kingsbarn Ave River Falls WI 54022 United States;X-APPLE-RADIUS=500;X-TITLE=3337 Kingsbarn Ave:geo:-92.6327652,44.898581
END:VEVENT
BEGIN:VEVENT
DTSTART;TZID=America/New_York:20160727T120000
DTEND;TZID=America/New_York:20160727T130000
DTSTAMP:20260424T214626
CREATED:20160713T143549Z
LAST-MODIFIED:20160713T143549Z
UID:2388-1469620800-1469624400@www.hopelutheranrf.com
SUMMARY:Faith Talk
DESCRIPTION:Bring your lunch and join others in conversations of faith. Coffee will be provided.
URL:https://www.hopelutheranrf.com/event/faith-talk-10/
LOCATION:HOPE Lutheran Church\, 3337 Kingsbarn Ave\, River Falls\, WI\, 54022\, United States
GEO:44.898581;-92.6327652
X-APPLE-STRUCTURED-LOCATION;VALUE=URI;X-ADDRESS=HOPE Lutheran Church 3337 Kingsbarn Ave River Falls WI 54022 United States;X-APPLE-RADIUS=500;X-TITLE=3337 Kingsbarn Ave:geo:-92.6327652,44.898581
END:VEVENT
BEGIN:VEVENT
DTSTART;TZID=America/New_York:20160727T131500
DTEND;TZID=America/New_York:20160727T141500
DTSTAMP:20260424T214626
CREATED:20160426T213328Z
LAST-MODIFIED:20160517T132943Z
UID:2281-1469625300-1469628900@www.hopelutheranrf.com
SUMMARY:Strings of HOPE 1:15 PM
DESCRIPTION:Strings of HOPE rehearses every Wednesday at 1:15pm at church.
URL:https://www.hopelutheranrf.com/event/strings-of-hope-200-pm-13/
LOCATION:HOPE Lutheran Church\, 3337 Kingsbarn Ave\, River Falls\, WI\, 54022\, United States
GEO:44.898581;-92.6327652
X-APPLE-STRUCTURED-LOCATION;VALUE=URI;X-ADDRESS=HOPE Lutheran Church 3337 Kingsbarn Ave River Falls WI 54022 United States;X-APPLE-RADIUS=500;X-TITLE=3337 Kingsbarn Ave:geo:-92.6327652,44.898581
END:VEVENT
BEGIN:VEVENT
DTSTART;VALUE=DATE:20160728
DTEND;VALUE=DATE:20160729
DTSTAMP:20260424T214626
CREATED:20160620T192806Z
LAST-MODIFIED:20160620T192806Z
UID:2313-1469664000-1469750399@www.hopelutheranrf.com
SUMMARY:Community Connect
DESCRIPTION:  \nCommunity Connect happens twice a year on the last Thursday in January and July. It is an event that brings people in need to one location (First Congregational United Church of Christ) to connect them to resources in the community and the county. \nPlease see a member of the Mission Ministry for specific details.
URL:https://www.hopelutheranrf.com/event/community-connect/
LOCATION:Congregational Church\, 3rd Street\, River Falls\, WI\, United States
END:VEVENT
BEGIN:VEVENT
DTSTART;TZID=America/New_York:20160731T093000
DTEND;TZID=America/New_York:20160731T103000
DTSTAMP:20260424T214626
CREATED:20160713T005659Z
LAST-MODIFIED:20160713T005659Z
UID:2372-1469957400-1469961000@www.hopelutheranrf.com
SUMMARY:Sunday Worship 9:30 AM
DESCRIPTION:Please join us for Sunday worship at HOPE Lutheran at our new church in the Sterling Ponds neighborhood of River Falls.  Our worship time is 9:30 AM\, followed by coffee fellowship at 10:30 AM.
URL:https://www.hopelutheranrf.com/event/sunday-worship-930-am-7/
LOCATION:HOPE Lutheran Church\, 3337 Kingsbarn Ave\, River Falls\, WI\, 54022\, United States
GEO:44.898581;-92.6327652
X-APPLE-STRUCTURED-LOCATION;VALUE=URI;X-ADDRESS=HOPE Lutheran Church 3337 Kingsbarn Ave River Falls WI 54022 United States;X-APPLE-RADIUS=500;X-TITLE=3337 Kingsbarn Ave:geo:-92.6327652,44.898581
END:VEVENT
BEGIN:VEVENT
DTSTART;TZID=America/New_York:20160801T160000
DTEND;TZID=America/New_York:20160801T170000
DTSTAMP:20260424T214626
CREATED:20160713T004629Z
LAST-MODIFIED:20160713T004629Z
UID:2361-1470067200-1470070800@www.hopelutheranrf.com
SUMMARY:Congregational Life Ministry Mtg
DESCRIPTION:
URL:https://www.hopelutheranrf.com/event/congregational-life-ministry-mtg/
LOCATION:WI
END:VEVENT
BEGIN:VEVENT
DTSTART;TZID=America/New_York:20160802T190000
DTEND;TZID=America/New_York:20160802T200000
DTSTAMP:20260424T214626
CREATED:20160713T004941Z
LAST-MODIFIED:20160713T004941Z
UID:2364-1470164400-1470168000@www.hopelutheranrf.com
SUMMARY:Property Ministry Mtg
DESCRIPTION:
URL:https://www.hopelutheranrf.com/event/property-ministry-mtg/
LOCATION:WI
END:VEVENT
BEGIN:VEVENT
DTSTART;TZID=America/New_York:20160803T000000
DTEND;TZID=America/New_York:20160803T130000
DTSTAMP:20260424T214626
CREATED:20160713T003649Z
LAST-MODIFIED:20160713T003649Z
UID:2350-1470182400-1470229200@www.hopelutheranrf.com
SUMMARY:Faith Talk
DESCRIPTION:
URL:https://www.hopelutheranrf.com/event/faith-talk-3/
LOCATION:WI
END:VEVENT
BEGIN:VEVENT
DTSTART;TZID=America/New_York:20160804T190000
DTEND;TZID=America/New_York:20160804T200000
DTSTAMP:20260424T214626
CREATED:20160719T161415Z
LAST-MODIFIED:20160719T161415Z
UID:2390-1470337200-1470340800@www.hopelutheranrf.com
SUMMARY:Mission Ministry Meeting
DESCRIPTION:
URL:https://www.hopelutheranrf.com/event/mission-ministry-meeting/
LOCATION:HOPE Lutheran Church\, 3337 Kingsbarn Ave\, River Falls\, WI\, 54022\, United States
GEO:44.898581;-92.6327652
X-APPLE-STRUCTURED-LOCATION;VALUE=URI;X-ADDRESS=HOPE Lutheran Church 3337 Kingsbarn Ave River Falls WI 54022 United States;X-APPLE-RADIUS=500;X-TITLE=3337 Kingsbarn Ave:geo:-92.6327652,44.898581
END:VEVENT
BEGIN:VEVENT
DTSTART;TZID=America/New_York:20160807T093000
DTEND;TZID=America/New_York:20160807T103000
DTSTAMP:20260424T214626
CREATED:20160713T005809Z
LAST-MODIFIED:20160713T005809Z
UID:2373-1470562200-1470565800@www.hopelutheranrf.com
SUMMARY:Sunday Worship 9:30 AM
DESCRIPTION:Please join us for Sunday worship at HOPE Lutheran at our new church in the Sterling Ponds neighborhood of River Falls.  Our worship time is 9:30 AM\, followed by coffee fellowship at 10:30 AM.
URL:https://www.hopelutheranrf.com/event/sunday-worship-930-am-8/
LOCATION:WI
END:VEVENT
BEGIN:VEVENT
DTSTART;TZID=America/New_York:20160809T063000
DTEND;TZID=America/New_York:20160809T193000
DTSTAMP:20260424T214626
CREATED:20160713T003434Z
LAST-MODIFIED:20160713T003434Z
UID:2347-1470724200-1470771000@www.hopelutheranrf.com
SUMMARY:Communications Ministry Mtg
DESCRIPTION:
URL:https://www.hopelutheranrf.com/event/communications-ministry-mtg-2/
LOCATION:WI
END:VEVENT
END:VCALENDAR