BEGIN:VCALENDAR
VERSION:2.0
PRODID:-//Welcome to HOPE Lutheran Church - ECPv6.15.20//NONSGML v1.0//EN
CALSCALE:GREGORIAN
METHOD:PUBLISH
X-WR-CALNAME:Welcome to HOPE Lutheran Church
X-ORIGINAL-URL:https://www.hopelutheranrf.com
X-WR-CALDESC:Events for Welcome to HOPE Lutheran Church
REFRESH-INTERVAL;VALUE=DURATION:PT1H
X-Robots-Tag:noindex
X-PUBLISHED-TTL:PT1H
BEGIN:VTIMEZONE
TZID:America/New_York
BEGIN:DAYLIGHT
TZOFFSETFROM:-0500
TZOFFSETTO:-0400
TZNAME:EDT
DTSTART:20150308T070000
END:DAYLIGHT
BEGIN:STANDARD
TZOFFSETFROM:-0400
TZOFFSETTO:-0500
TZNAME:EST
DTSTART:20151101T060000
END:STANDARD
BEGIN:DAYLIGHT
TZOFFSETFROM:-0500
TZOFFSETTO:-0400
TZNAME:EDT
DTSTART:20160313T070000
END:DAYLIGHT
BEGIN:STANDARD
TZOFFSETFROM:-0400
TZOFFSETTO:-0500
TZNAME:EST
DTSTART:20161106T060000
END:STANDARD
BEGIN:DAYLIGHT
TZOFFSETFROM:-0500
TZOFFSETTO:-0400
TZNAME:EDT
DTSTART:20170312T070000
END:DAYLIGHT
BEGIN:STANDARD
TZOFFSETFROM:-0400
TZOFFSETTO:-0500
TZNAME:EST
DTSTART:20171105T060000
END:STANDARD
END:VTIMEZONE
BEGIN:VEVENT
DTSTART;TZID=America/New_York:20160501T110000
DTEND;TZID=America/New_York:20160501T130000
DTSTAMP:20260424T214535
CREATED:20160407T013303Z
LAST-MODIFIED:20160407T013303Z
UID:2212-1462100400-1462107600@www.hopelutheranrf.com
SUMMARY:HOPE's Got Talent
DESCRIPTION:HOPE’s Got Talent is back!  Our annual talent event will be held at church on Sunday\, May 1\, following our 9:30 service.  Come for worship\, stay for the talent!
URL:https://www.hopelutheranrf.com/event/hopes-got-talent/
LOCATION:WI
END:VEVENT
BEGIN:VEVENT
DTSTART;TZID=America/New_York:20160503T140000
DTEND;TZID=America/New_York:20160503T150000
DTSTAMP:20260424T214535
CREATED:20160426T212150Z
LAST-MODIFIED:20160426T212432Z
UID:2269-1462284000-1462287600@www.hopelutheranrf.com
SUMMARY:Strings of HOPE 2:00 PM
DESCRIPTION:Strings of HOPE rehearses every Tuesday at 2:00pm at church.
URL:https://www.hopelutheranrf.com/event/strings-of-hope-200-pm/
LOCATION:HOPE Lutheran Church\, 3337 Kingsbarn Ave\, River Falls\, WI\, 54022\, United States
GEO:44.898581;-92.6327652
X-APPLE-STRUCTURED-LOCATION;VALUE=URI;X-ADDRESS=HOPE Lutheran Church 3337 Kingsbarn Ave River Falls WI 54022 United States;X-APPLE-RADIUS=500;X-TITLE=3337 Kingsbarn Ave:geo:-92.6327652,44.898581
END:VEVENT
BEGIN:VEVENT
DTSTART;TZID=America/New_York:20160504T120000
DTEND;TZID=America/New_York:20160504T130000
DTSTAMP:20260424T214535
CREATED:20160414T204223Z
LAST-MODIFIED:20160414T204223Z
UID:2246-1462363200-1462366800@www.hopelutheranrf.com
SUMMARY:Faith Talk - Noon
DESCRIPTION:People are invited to come to HOPE at noon on Wednesdays for engaging faith conversation.  Bring a lunch.  Coffee will be provided.
URL:https://www.hopelutheranrf.com/event/faith-talk-noon-2/
LOCATION:HOPE Lutheran Church\, 3337 Kingsbarn Ave\, River Falls\, WI\, 54022\, United States
GEO:44.898581;-92.6327652
X-APPLE-STRUCTURED-LOCATION;VALUE=URI;X-ADDRESS=HOPE Lutheran Church 3337 Kingsbarn Ave River Falls WI 54022 United States;X-APPLE-RADIUS=500;X-TITLE=3337 Kingsbarn Ave:geo:-92.6327652,44.898581
END:VEVENT
BEGIN:VEVENT
DTSTART;TZID=America/New_York:20160504T160000
DTEND;TZID=America/New_York:20160504T170000
DTSTAMP:20260424T214535
CREATED:20160418T180746Z
LAST-MODIFIED:20160418T181400Z
UID:2257-1462377600-1462381200@www.hopelutheranrf.com
SUMMARY:Cong. Life 4:00 PM
DESCRIPTION:Congregational Life ministry team will meet at church on May 4th at 4:00PM.
URL:https://www.hopelutheranrf.com/event/cong-life-400-pm/
LOCATION:HOPE Lutheran Church\, 3337 Kingsbarn Ave\, River Falls\, WI\, 54022\, United States
GEO:44.898581;-92.6327652
X-APPLE-STRUCTURED-LOCATION;VALUE=URI;X-ADDRESS=HOPE Lutheran Church 3337 Kingsbarn Ave River Falls WI 54022 United States;X-APPLE-RADIUS=500;X-TITLE=3337 Kingsbarn Ave:geo:-92.6327652,44.898581
END:VEVENT
BEGIN:VEVENT
DTSTART;TZID=America/New_York:20160504T173000
DTEND;TZID=America/New_York:20160504T183000
DTSTAMP:20260424T214535
CREATED:20160407T014100Z
LAST-MODIFIED:20160407T014100Z
UID:2222-1462383000-1462386600@www.hopelutheranrf.com
SUMMARY:Confirmation 5:30-6:30pm
DESCRIPTION:This is the final Confirmation class of the 2015-2016 season.
URL:https://www.hopelutheranrf.com/event/confirmation-530-630pm-4/
LOCATION:WI
END:VEVENT
BEGIN:VEVENT
DTSTART;TZID=America/New_York:20160504T190000
DTEND;TZID=America/New_York:20160504T200000
DTSTAMP:20260424T214535
CREATED:20160407T005254Z
LAST-MODIFIED:20160407T010516Z
UID:2204-1462388400-1462392000@www.hopelutheranrf.com
SUMMARY:Communications Ministry
DESCRIPTION:Communication Ministry to meet at church.
URL:https://www.hopelutheranrf.com/event/communications-ministry/
LOCATION:HOPE Lutheran Church\, 3337 Kingsbarn Ave\, River Falls\, WI\, 54022\, United States
GEO:44.898581;-92.6327652
X-APPLE-STRUCTURED-LOCATION;VALUE=URI;X-ADDRESS=HOPE Lutheran Church 3337 Kingsbarn Ave River Falls WI 54022 United States;X-APPLE-RADIUS=500;X-TITLE=3337 Kingsbarn Ave:geo:-92.6327652,44.898581
END:VEVENT
BEGIN:VEVENT
DTSTART;TZID=America/New_York:20160507T150000
DTEND;TZID=America/New_York:20160507T203000
DTSTAMP:20260424T214535
CREATED:20160414T204618Z
LAST-MODIFIED:20160414T204618Z
UID:2250-1462633200-1462653000@www.hopelutheranrf.com
SUMMARY:Brill Birthday Party
DESCRIPTION:
URL:https://www.hopelutheranrf.com/event/brill-birthday-party/
LOCATION:HOPE Lutheran Church\, 3337 Kingsbarn Ave\, River Falls\, WI\, 54022\, United States
GEO:44.898581;-92.6327652
X-APPLE-STRUCTURED-LOCATION;VALUE=URI;X-ADDRESS=HOPE Lutheran Church 3337 Kingsbarn Ave River Falls WI 54022 United States;X-APPLE-RADIUS=500;X-TITLE=3337 Kingsbarn Ave:geo:-92.6327652,44.898581
END:VEVENT
BEGIN:VEVENT
DTSTART;TZID=America/New_York:20160508T093000
DTEND;TZID=America/New_York:20160508T103000
DTSTAMP:20260424T214535
CREATED:20160407T005518Z
LAST-MODIFIED:20160407T005542Z
UID:2205-1462699800-1462703400@www.hopelutheranrf.com
SUMMARY:Sunday Worship 9:30 AM
DESCRIPTION:Please join us for Sunday Worship at 9:30 AM at our location on 3337 Kingsbarn Avenue\, River Falls\, near the east entrance to the Sterling Ponds neighborhood.  Coffee Fellowship follows at 10:30am.
URL:https://www.hopelutheranrf.com/event/sunday-worship/
LOCATION:HOPE Lutheran Church\, 3337 Kingsbarn Ave\, River Falls\, WI\, 54022\, United States
GEO:44.898581;-92.6327652
X-APPLE-STRUCTURED-LOCATION;VALUE=URI;X-ADDRESS=HOPE Lutheran Church 3337 Kingsbarn Ave River Falls WI 54022 United States;X-APPLE-RADIUS=500;X-TITLE=3337 Kingsbarn Ave:geo:-92.6327652,44.898581
END:VEVENT
BEGIN:VEVENT
DTSTART;TZID=America/New_York:20160510T140000
DTEND;TZID=America/New_York:20160510T150000
DTSTAMP:20260424T214535
CREATED:20160426T212222Z
LAST-MODIFIED:20160426T212348Z
UID:2270-1462888800-1462892400@www.hopelutheranrf.com
SUMMARY:Strings of HOPE 2:00 PM
DESCRIPTION:Strings of HOPE rehearses every Tuesday at 2:00pm at church.
URL:https://www.hopelutheranrf.com/event/strings-of-hope-200-pm-2/
LOCATION:WI
END:VEVENT
BEGIN:VEVENT
DTSTART;TZID=America/New_York:20160511T120000
DTEND;TZID=America/New_York:20160511T130000
DTSTAMP:20260424T214535
CREATED:20160414T204252Z
LAST-MODIFIED:20160414T204252Z
UID:2247-1462968000-1462971600@www.hopelutheranrf.com
SUMMARY:Faith Talk - Noon
DESCRIPTION:People are invited to come to HOPE at noon on Wednesdays for engaging faith conversation.  Bring a lunch.  Coffee will be provided.
URL:https://www.hopelutheranrf.com/event/faith-talk-noon-3/
LOCATION:HOPE Lutheran Church\, 3337 Kingsbarn Ave\, River Falls\, WI\, 54022\, United States
GEO:44.898581;-92.6327652
X-APPLE-STRUCTURED-LOCATION;VALUE=URI;X-ADDRESS=HOPE Lutheran Church 3337 Kingsbarn Ave River Falls WI 54022 United States;X-APPLE-RADIUS=500;X-TITLE=3337 Kingsbarn Ave:geo:-92.6327652,44.898581
END:VEVENT
BEGIN:VEVENT
DTSTART;TZID=America/New_York:20160512T120000
DTEND;TZID=America/New_York:20160512T130000
DTSTAMP:20260424T214535
CREATED:20160301T011144Z
LAST-MODIFIED:20160301T011144Z
UID:2143-1463054400-1463058000@www.hopelutheranrf.com
SUMMARY:Chamber Of Commerce Luncheon At Hope:  Noon
DESCRIPTION:The River Falls Area Chamber of Commerce will convene at Hope at Noon on Thursday\, May 12 for a short meeting\, ribbon cutting and lunch.
URL:https://www.hopelutheranrf.com/event/chamber-of-commerce-luncheon-at-hope-noon/
LOCATION:HOPE Lutheran Church\, 3337 Kingsbarn Ave\, River Falls\, WI\, 54022\, United States
GEO:44.898581;-92.6327652
X-APPLE-STRUCTURED-LOCATION;VALUE=URI;X-ADDRESS=HOPE Lutheran Church 3337 Kingsbarn Ave River Falls WI 54022 United States;X-APPLE-RADIUS=500;X-TITLE=3337 Kingsbarn Ave:geo:-92.6327652,44.898581
END:VEVENT
BEGIN:VEVENT
DTSTART;TZID=America/New_York:20160515T093000
DTEND;TZID=America/New_York:20160515T103000
DTSTAMP:20260424T214535
CREATED:20160407T010707Z
LAST-MODIFIED:20160407T010707Z
UID:2207-1463304600-1463308200@www.hopelutheranrf.com
SUMMARY:Sunday Worship 9:30 AM
DESCRIPTION:Please join us for Sunday mornings at 9:30 AM at our new location at 3337 Kingsbarn  Avenue\, River Falls\, near the east entrance to the Sterling Ponds neighborhood.  Coffee fellowship follows at 10:30 AM.
URL:https://www.hopelutheranrf.com/event/sunday-worship-930-am-3/
LOCATION:HOPE Lutheran Church\, 3337 Kingsbarn Ave\, River Falls\, WI\, 54022\, United States
GEO:44.898581;-92.6327652
X-APPLE-STRUCTURED-LOCATION;VALUE=URI;X-ADDRESS=HOPE Lutheran Church 3337 Kingsbarn Ave River Falls WI 54022 United States;X-APPLE-RADIUS=500;X-TITLE=3337 Kingsbarn Ave:geo:-92.6327652,44.898581
END:VEVENT
BEGIN:VEVENT
DTSTART;TZID=America/New_York:20160517T010000
DTEND;TZID=America/New_York:20160517T150000
DTSTAMP:20260424T214535
CREATED:20160517T151603Z
LAST-MODIFIED:20160517T151603Z
UID:2292-1463446800-1463497200@www.hopelutheranrf.com
SUMMARY:Funeral for Michael Toenjes
DESCRIPTION:Visitation begins at 1:00. The funeral service is at 2:00. A reception for family and friends will follow at St. Croix Lanes in River Falls.
URL:https://www.hopelutheranrf.com/event/funeral-for-michael-toenjes/
LOCATION:WI
END:VEVENT
BEGIN:VEVENT
DTSTART;TZID=America/New_York:20160518T120000
DTEND;TZID=America/New_York:20160518T130000
DTSTAMP:20260424T214535
CREATED:20160414T204324Z
LAST-MODIFIED:20160414T204324Z
UID:2248-1463572800-1463576400@www.hopelutheranrf.com
SUMMARY:Faith Talk - Noon
DESCRIPTION:People are invited to come to HOPE at noon on Wednesdays for engaging faith conversation.  Bring a lunch.  Coffee will be provided.
URL:https://www.hopelutheranrf.com/event/faith-talk-noon-4/
LOCATION:HOPE Lutheran Church\, 3337 Kingsbarn Ave\, River Falls\, WI\, 54022\, United States
GEO:44.898581;-92.6327652
X-APPLE-STRUCTURED-LOCATION;VALUE=URI;X-ADDRESS=HOPE Lutheran Church 3337 Kingsbarn Ave River Falls WI 54022 United States;X-APPLE-RADIUS=500;X-TITLE=3337 Kingsbarn Ave:geo:-92.6327652,44.898581
END:VEVENT
BEGIN:VEVENT
DTSTART;TZID=America/New_York:20160518T131500
DTEND;TZID=America/New_York:20160518T141500
DTSTAMP:20260424T214535
CREATED:20160426T212303Z
LAST-MODIFIED:20160517T133524Z
UID:2271-1463577300-1463580900@www.hopelutheranrf.com
SUMMARY:Strings of HOPE 1:15 PM
DESCRIPTION:Strings of HOPE rehearses every Wednesday at 1:15pm at church.
URL:https://www.hopelutheranrf.com/event/strings-of-hope-200-pm-3/
LOCATION:WI
END:VEVENT
BEGIN:VEVENT
DTSTART;TZID=America/New_York:20160518T183000
DTEND;TZID=America/New_York:20160518T200000
DTSTAMP:20260424T214535
CREATED:20160505T001850Z
LAST-MODIFIED:20160505T001940Z
UID:2284-1463596200-1463601600@www.hopelutheranrf.com
SUMMARY:Church Council 6:30 PM
DESCRIPTION:Church Council will convene for their monthly meeting on May 18 at 6:30 at church.
URL:https://www.hopelutheranrf.com/event/church-council-630-pm/
LOCATION:HOPE Lutheran Church\, 3337 Kingsbarn Ave\, River Falls\, WI\, 54022\, United States
GEO:44.898581;-92.6327652
X-APPLE-STRUCTURED-LOCATION;VALUE=URI;X-ADDRESS=HOPE Lutheran Church 3337 Kingsbarn Ave River Falls WI 54022 United States;X-APPLE-RADIUS=500;X-TITLE=3337 Kingsbarn Ave:geo:-92.6327652,44.898581
END:VEVENT
BEGIN:VEVENT
DTSTART;TZID=America/New_York:20160522T093000
DTEND;TZID=America/New_York:20160522T103000
DTSTAMP:20260424T214535
CREATED:20160302T152912Z
LAST-MODIFIED:20160407T013408Z
UID:2150-1463909400-1463913000@www.hopelutheranrf.com
SUMMARY:Graduation Sunday
DESCRIPTION:Join us for worship and help us celebrate HOPE’s RFHS graduates.
URL:https://www.hopelutheranrf.com/event/graduation-sunday/
LOCATION:HOPE Lutheran Church\, 3337 Kingsbarn Ave\, River Falls\, WI\, 54022\, United States
GEO:44.898581;-92.6327652
X-APPLE-STRUCTURED-LOCATION;VALUE=URI;X-ADDRESS=HOPE Lutheran Church 3337 Kingsbarn Ave River Falls WI 54022 United States;X-APPLE-RADIUS=500;X-TITLE=3337 Kingsbarn Ave:geo:-92.6327652,44.898581
END:VEVENT
BEGIN:VEVENT
DTSTART;TZID=America/New_York:20160522T110000
DTEND;TZID=America/New_York:20160522T120000
DTSTAMP:20260424T214535
CREATED:20160418T181542Z
LAST-MODIFIED:20160418T181610Z
UID:2259-1463914800-1463918400@www.hopelutheranrf.com
SUMMARY:Dedication Planning Meeting:  11 AM
DESCRIPTION:The planning committee for Dedication Sunday (June 26) will convene after coffee fellowship on Sunday\, May 22.  Start time is approximately 11 AM.
URL:https://www.hopelutheranrf.com/event/dedication-planning-meeting-11-am/
LOCATION:HOPE Lutheran Church\, 3337 Kingsbarn Ave\, River Falls\, WI\, 54022\, United States
GEO:44.898581;-92.6327652
X-APPLE-STRUCTURED-LOCATION;VALUE=URI;X-ADDRESS=HOPE Lutheran Church 3337 Kingsbarn Ave River Falls WI 54022 United States;X-APPLE-RADIUS=500;X-TITLE=3337 Kingsbarn Ave:geo:-92.6327652,44.898581
END:VEVENT
BEGIN:VEVENT
DTSTART;TZID=America/New_York:20160525T120000
DTEND;TZID=America/New_York:20160525T130000
DTSTAMP:20260424T214535
CREATED:20160414T204412Z
LAST-MODIFIED:20160414T204412Z
UID:2249-1464177600-1464181200@www.hopelutheranrf.com
SUMMARY:Faith Talk - Noon
DESCRIPTION:People are invited to come to HOPE at noon on Wednesdays for engaging faith conversation.  Bring a lunch.  Coffee will be provided.
URL:https://www.hopelutheranrf.com/event/faith-talk-noon-5/
LOCATION:WI
END:VEVENT
BEGIN:VEVENT
DTSTART;TZID=America/New_York:20160525T131500
DTEND;TZID=America/New_York:20160525T141500
DTSTAMP:20260424T214535
CREATED:20160426T212522Z
LAST-MODIFIED:20160517T133558Z
UID:2272-1464182100-1464185700@www.hopelutheranrf.com
SUMMARY:Strings of HOPE 1:15 PM
DESCRIPTION:Strings of HOPE rehearses every Wednesday at 1:15pm at church.
URL:https://www.hopelutheranrf.com/event/strings-of-hope-200-pm-4/
LOCATION:WI
END:VEVENT
BEGIN:VEVENT
DTSTART;TZID=America/New_York:20160525T190000
DTEND;TZID=America/New_York:20160525T210000
DTSTAMP:20260424T214535
CREATED:20160420T195109Z
LAST-MODIFIED:20160420T195109Z
UID:2260-1464202800-1464210000@www.hopelutheranrf.com
SUMMARY:Baccalaureate 7 PM at RFHS
DESCRIPTION:Baccalaureate will be held at 7PM at River Falls High School.
URL:https://www.hopelutheranrf.com/event/baccalaureate-7-pm-at-rfhs/
LOCATION:WI
END:VEVENT
BEGIN:VEVENT
DTSTART;TZID=America/New_York:20160529T093000
DTEND;TZID=America/New_York:20160529T103000
DTSTAMP:20260424T214535
CREATED:20160410T155545Z
LAST-MODIFIED:20160410T155545Z
UID:2233-1464514200-1464517800@www.hopelutheranrf.com
SUMMARY:Sunday Worship 9:30 AM
DESCRIPTION:Please join us for Sunday morning worship at 9:30 AM at our new location:  3337 Kingsbarn Avenue\, River Falls\, near the east entrance of the Sterling Ponds neighborhood.  Coffee Fellowship follows the service.
URL:https://www.hopelutheranrf.com/event/sunday-worship-930-am-4/
LOCATION:HOPE Lutheran Church\, 3337 Kingsbarn Ave\, River Falls\, WI\, 54022\, United States
GEO:44.898581;-92.6327652
X-APPLE-STRUCTURED-LOCATION;VALUE=URI;X-ADDRESS=HOPE Lutheran Church 3337 Kingsbarn Ave River Falls WI 54022 United States;X-APPLE-RADIUS=500;X-TITLE=3337 Kingsbarn Ave:geo:-92.6327652,44.898581
END:VEVENT
BEGIN:VEVENT
DTSTART;TZID=America/New_York:20160601T120000
DTEND;TZID=America/New_York:20160601T130000
DTSTAMP:20260424T214535
CREATED:20160523T143235Z
LAST-MODIFIED:20160523T143235Z
UID:2309-1464782400-1464786000@www.hopelutheranrf.com
SUMMARY:Faith Talk
DESCRIPTION:Lunchtime conversation of faith topics. Bring your lunch. Coffee will be served.
URL:https://www.hopelutheranrf.com/event/faith-talk-2/
LOCATION:HOPE Lutheran Church\, 3337 Kingsbarn Ave\, River Falls\, WI\, 54022\, United States
GEO:44.898581;-92.6327652
X-APPLE-STRUCTURED-LOCATION;VALUE=URI;X-ADDRESS=HOPE Lutheran Church 3337 Kingsbarn Ave River Falls WI 54022 United States;X-APPLE-RADIUS=500;X-TITLE=3337 Kingsbarn Ave:geo:-92.6327652,44.898581
END:VEVENT
BEGIN:VEVENT
DTSTART;TZID=America/New_York:20160601T131500
DTEND;TZID=America/New_York:20160601T141500
DTSTAMP:20260424T214535
CREATED:20160426T212745Z
LAST-MODIFIED:20160517T133654Z
UID:2273-1464786900-1464790500@www.hopelutheranrf.com
SUMMARY:Strings of HOPE 1:15 PM
DESCRIPTION:Strings of HOPE rehearses every Wednesday at 1:15pm at church.
URL:https://www.hopelutheranrf.com/event/strings-of-hope-200-pm-5/
LOCATION:HOPE Lutheran Church\, 3337 Kingsbarn Ave\, River Falls\, WI\, 54022\, United States
GEO:44.898581;-92.6327652
X-APPLE-STRUCTURED-LOCATION;VALUE=URI;X-ADDRESS=HOPE Lutheran Church 3337 Kingsbarn Ave River Falls WI 54022 United States;X-APPLE-RADIUS=500;X-TITLE=3337 Kingsbarn Ave:geo:-92.6327652,44.898581
END:VEVENT
BEGIN:VEVENT
DTSTART;TZID=America/New_York:20160608T131500
DTEND;TZID=America/New_York:20160608T141500
DTSTAMP:20260424T214535
CREATED:20160426T212814Z
LAST-MODIFIED:20160517T133624Z
UID:2274-1465391700-1465395300@www.hopelutheranrf.com
SUMMARY:Strings of HOPE 1:15 PM
DESCRIPTION:Strings of HOPE rehearses every Wednesday at 1:15pm at church.
URL:https://www.hopelutheranrf.com/event/strings-of-hope-200-pm-6/
LOCATION:HOPE Lutheran Church\, 3337 Kingsbarn Ave\, River Falls\, WI\, 54022\, United States
GEO:44.898581;-92.6327652
X-APPLE-STRUCTURED-LOCATION;VALUE=URI;X-ADDRESS=HOPE Lutheran Church 3337 Kingsbarn Ave River Falls WI 54022 United States;X-APPLE-RADIUS=500;X-TITLE=3337 Kingsbarn Ave:geo:-92.6327652,44.898581
END:VEVENT
BEGIN:VEVENT
DTSTART;TZID=America/New_York:20160615T131500
DTEND;TZID=America/New_York:20160615T141500
DTSTAMP:20260424T214535
CREATED:20160426T212902Z
LAST-MODIFIED:20160517T133451Z
UID:2275-1465996500-1466000100@www.hopelutheranrf.com
SUMMARY:Strings of HOPE 1:15 PM
DESCRIPTION:Strings of HOPE rehearses every Wednesday at 1:15pm at church.
URL:https://www.hopelutheranrf.com/event/strings-of-hope-200-pm-7/
LOCATION:HOPE Lutheran Church\, 3337 Kingsbarn Ave\, River Falls\, WI\, 54022\, United States
GEO:44.898581;-92.6327652
X-APPLE-STRUCTURED-LOCATION;VALUE=URI;X-ADDRESS=HOPE Lutheran Church 3337 Kingsbarn Ave River Falls WI 54022 United States;X-APPLE-RADIUS=500;X-TITLE=3337 Kingsbarn Ave:geo:-92.6327652,44.898581
END:VEVENT
BEGIN:VEVENT
DTSTART;TZID=America/New_York:20160622T131500
DTEND;TZID=America/New_York:20160622T141500
DTSTAMP:20260424T214535
CREATED:20160426T212931Z
LAST-MODIFIED:20160517T133411Z
UID:2276-1466601300-1466604900@www.hopelutheranrf.com
SUMMARY:Strings of HOPE 1:15 PM
DESCRIPTION:Strings of HOPE rehearses every Wednesday at 1:15pm at church.
URL:https://www.hopelutheranrf.com/event/strings-of-hope-200-pm-8/
LOCATION:HOPE Lutheran Church\, 3337 Kingsbarn Ave\, River Falls\, WI\, 54022\, United States
GEO:44.898581;-92.6327652
X-APPLE-STRUCTURED-LOCATION;VALUE=URI;X-ADDRESS=HOPE Lutheran Church 3337 Kingsbarn Ave River Falls WI 54022 United States;X-APPLE-RADIUS=500;X-TITLE=3337 Kingsbarn Ave:geo:-92.6327652,44.898581
END:VEVENT
BEGIN:VEVENT
DTSTART;TZID=America/New_York:20160626T093000
DTEND;TZID=America/New_York:20160626T103000
DTSTAMP:20260424T214535
CREATED:20160301T012322Z
LAST-MODIFIED:20160301T012322Z
UID:2145-1466933400-1466937000@www.hopelutheranrf.com
SUMMARY:Dedication Sunday 9:30 AM
DESCRIPTION:Please join us for the official dedication of our new church building! \nSunday morning worship is at 9:30 AM at our new location\, 3337 Kingsbarn Avenue\, River Falls\, near the east entrance to the Sterling Ponds neighborhood. \nA special meal is planned to follow worship.  Please check back here for further updates as the special day approaches.
URL:https://www.hopelutheranrf.com/event/dedication-sunday-930-am/
LOCATION:HOPE Lutheran Church\, 3337 Kingsbarn Ave\, River Falls\, WI\, 54022\, United States
GEO:44.898581;-92.6327652
X-APPLE-STRUCTURED-LOCATION;VALUE=URI;X-ADDRESS=HOPE Lutheran Church 3337 Kingsbarn Ave River Falls WI 54022 United States;X-APPLE-RADIUS=500;X-TITLE=3337 Kingsbarn Ave:geo:-92.6327652,44.898581
END:VEVENT
BEGIN:VEVENT
DTSTART;TZID=America/New_York:20160629T131500
DTEND;TZID=America/New_York:20160629T141500
DTSTAMP:20260424T214535
CREATED:20160426T212955Z
LAST-MODIFIED:20160517T133340Z
UID:2277-1467206100-1467209700@www.hopelutheranrf.com
SUMMARY:Strings of HOPE 1:15 PM
DESCRIPTION:Strings of HOPE rehearses every Wednesday at 1:15pm at church.
URL:https://www.hopelutheranrf.com/event/strings-of-hope-200-pm-9/
LOCATION:HOPE Lutheran Church\, 3337 Kingsbarn Ave\, River Falls\, WI\, 54022\, United States
GEO:44.898581;-92.6327652
X-APPLE-STRUCTURED-LOCATION;VALUE=URI;X-ADDRESS=HOPE Lutheran Church 3337 Kingsbarn Ave River Falls WI 54022 United States;X-APPLE-RADIUS=500;X-TITLE=3337 Kingsbarn Ave:geo:-92.6327652,44.898581
END:VEVENT
BEGIN:VEVENT
DTSTART;TZID=America/New_York:20160706T131500
DTEND;TZID=America/New_York:20160706T141500
DTSTAMP:20260424T214535
CREATED:20160426T213159Z
LAST-MODIFIED:20160517T133248Z
UID:2278-1467810900-1467814500@www.hopelutheranrf.com
SUMMARY:Strings of HOPE 1:15 PM
DESCRIPTION:Strings of HOPE rehearses every Wednesday at 1:15pm at church.
URL:https://www.hopelutheranrf.com/event/strings-of-hope-200-pm-10/
LOCATION:HOPE Lutheran Church\, 3337 Kingsbarn Ave\, River Falls\, WI\, 54022\, United States
GEO:44.898581;-92.6327652
X-APPLE-STRUCTURED-LOCATION;VALUE=URI;X-ADDRESS=HOPE Lutheran Church 3337 Kingsbarn Ave River Falls WI 54022 United States;X-APPLE-RADIUS=500;X-TITLE=3337 Kingsbarn Ave:geo:-92.6327652,44.898581
END:VEVENT
END:VCALENDAR