BEGIN:VCALENDAR
VERSION:2.0
PRODID:-//Welcome to HOPE Lutheran Church - ECPv6.15.20//NONSGML v1.0//EN
CALSCALE:GREGORIAN
METHOD:PUBLISH
X-WR-CALNAME:Welcome to HOPE Lutheran Church
X-ORIGINAL-URL:https://www.hopelutheranrf.com
X-WR-CALDESC:Events for Welcome to HOPE Lutheran Church
REFRESH-INTERVAL;VALUE=DURATION:PT1H
X-Robots-Tag:noindex
X-PUBLISHED-TTL:PT1H
BEGIN:VTIMEZONE
TZID:America/New_York
BEGIN:DAYLIGHT
TZOFFSETFROM:-0500
TZOFFSETTO:-0400
TZNAME:EDT
DTSTART:20150308T070000
END:DAYLIGHT
BEGIN:STANDARD
TZOFFSETFROM:-0400
TZOFFSETTO:-0500
TZNAME:EST
DTSTART:20151101T060000
END:STANDARD
BEGIN:DAYLIGHT
TZOFFSETFROM:-0500
TZOFFSETTO:-0400
TZNAME:EDT
DTSTART:20160313T070000
END:DAYLIGHT
BEGIN:STANDARD
TZOFFSETFROM:-0400
TZOFFSETTO:-0500
TZNAME:EST
DTSTART:20161106T060000
END:STANDARD
BEGIN:DAYLIGHT
TZOFFSETFROM:-0500
TZOFFSETTO:-0400
TZNAME:EDT
DTSTART:20170312T070000
END:DAYLIGHT
BEGIN:STANDARD
TZOFFSETFROM:-0400
TZOFFSETTO:-0500
TZNAME:EST
DTSTART:20171105T060000
END:STANDARD
END:VTIMEZONE
BEGIN:VEVENT
DTSTART;TZID=America/New_York:20160324T190000
DTEND;TZID=America/New_York:20160324T200000
DTSTAMP:20260425T000131
CREATED:20160301T010312Z
LAST-MODIFIED:20160301T010852Z
UID:2139-1458846000-1458849600@www.hopelutheranrf.com
SUMMARY:Maundy Thursday Service 7PM
DESCRIPTION:Please join us for Maundy Thursday service of communion at 7:00 PM at our  new location:  3337 Kingsbarn Avenue\, River Falls.
URL:https://www.hopelutheranrf.com/event/maundy-thursday-service-7pm/
LOCATION:HOPE Lutheran Church\, 3337 Kingsbarn Ave\, River Falls\, WI\, 54022\, United States
GEO:44.898581;-92.6327652
X-APPLE-STRUCTURED-LOCATION;VALUE=URI;X-ADDRESS=HOPE Lutheran Church 3337 Kingsbarn Ave River Falls WI 54022 United States;X-APPLE-RADIUS=500;X-TITLE=3337 Kingsbarn Ave:geo:-92.6327652,44.898581
END:VEVENT
BEGIN:VEVENT
DTSTART;TZID=America/New_York:20160325T190000
DTEND;TZID=America/New_York:20160325T200000
DTSTAMP:20260425T000131
CREATED:20160301T010455Z
LAST-MODIFIED:20160301T010908Z
UID:2140-1458932400-1458936000@www.hopelutheranrf.com
SUMMARY:Good Friday Service 7PM
DESCRIPTION:Please join us for Good Friday Service at 7:00 PM at our new location:  3337 Kingsbarn Avenue\, River Falls.
URL:https://www.hopelutheranrf.com/event/good-friday-service-7pm/
LOCATION:HOPE Lutheran Church\, 3337 Kingsbarn Ave\, River Falls\, WI\, 54022\, United States
GEO:44.898581;-92.6327652
X-APPLE-STRUCTURED-LOCATION;VALUE=URI;X-ADDRESS=HOPE Lutheran Church 3337 Kingsbarn Ave River Falls WI 54022 United States;X-APPLE-RADIUS=500;X-TITLE=3337 Kingsbarn Ave:geo:-92.6327652,44.898581
END:VEVENT
BEGIN:VEVENT
DTSTART;TZID=America/New_York:20160327T070000
DTEND;TZID=America/New_York:20160327T080000
DTSTAMP:20260425T000131
CREATED:20160301T010634Z
LAST-MODIFIED:20160301T010634Z
UID:2141-1459062000-1459065600@www.hopelutheranrf.com
SUMMARY:Easter Sunrise Service 7:00 AM
DESCRIPTION:Please join us for our Easter Sunrise Service at 7:00 AM.
URL:https://www.hopelutheranrf.com/event/easter-sunrise-service-700-am/
LOCATION:HOPE Lutheran Church\, 3337 Kingsbarn Ave\, River Falls\, WI\, 54022\, United States
GEO:44.898581;-92.6327652
X-APPLE-STRUCTURED-LOCATION;VALUE=URI;X-ADDRESS=HOPE Lutheran Church 3337 Kingsbarn Ave River Falls WI 54022 United States;X-APPLE-RADIUS=500;X-TITLE=3337 Kingsbarn Ave:geo:-92.6327652,44.898581
END:VEVENT
BEGIN:VEVENT
DTSTART;TZID=America/New_York:20160327T093000
DTEND;TZID=America/New_York:20160327T103000
DTSTAMP:20260425T000131
CREATED:20160301T010804Z
LAST-MODIFIED:20160301T010804Z
UID:2142-1459071000-1459074600@www.hopelutheranrf.com
SUMMARY:Easter Sunday Service 9:30 AM
DESCRIPTION:Please join us for Easter Sunday service at 9:30 AM at our new location:   3337 Kingsbarn Avenue\, River Falls.
URL:https://www.hopelutheranrf.com/event/easter-sunday-service-930-am/
LOCATION:HOPE Lutheran Church\, 3337 Kingsbarn Ave\, River Falls\, WI\, 54022\, United States
GEO:44.898581;-92.6327652
X-APPLE-STRUCTURED-LOCATION;VALUE=URI;X-ADDRESS=HOPE Lutheran Church 3337 Kingsbarn Ave River Falls WI 54022 United States;X-APPLE-RADIUS=500;X-TITLE=3337 Kingsbarn Ave:geo:-92.6327652,44.898581
END:VEVENT
BEGIN:VEVENT
DTSTART;TZID=America/New_York:20160403T093000
DTEND;TZID=America/New_York:20160403T103000
DTSTAMP:20260425T000131
CREATED:20160224T213743Z
LAST-MODIFIED:20160224T214251Z
UID:2126-1459675800-1459679400@www.hopelutheranrf.com
SUMMARY:Sunday Morning Worship 9:30 AM
DESCRIPTION:Please join us for worship on Sunday mornings at 9:30 AM.  Our new location is 3337 Kingsbarn Avenue\, River Falls\, near the east entrance to the Sterling Ponds neighborhood in River Falls.  Please stay for the coffee fellowship that follows worship!
URL:https://www.hopelutheranrf.com/event/sunday-morning-worship-930-am/
LOCATION:HOPE Lutheran Church\, 3337 Kingsbarn Ave\, River Falls\, WI\, 54022\, United States
GEO:44.898581;-92.6327652
X-APPLE-STRUCTURED-LOCATION;VALUE=URI;X-ADDRESS=HOPE Lutheran Church 3337 Kingsbarn Ave River Falls WI 54022 United States;X-APPLE-RADIUS=500;X-TITLE=3337 Kingsbarn Ave:geo:-92.6327652,44.898581
END:VEVENT
BEGIN:VEVENT
DTSTART;TZID=America/New_York:20160410T093000
DTEND;TZID=America/New_York:20160410T103000
DTSTAMP:20260425T000131
CREATED:20160328T195410Z
LAST-MODIFIED:20160328T195410Z
UID:2190-1460280600-1460284200@www.hopelutheranrf.com
SUMMARY:Sunday Morning Worship 9:30 AM
DESCRIPTION:Please join us for worship at 9:30 AM. Our new location is 3337 Kingsbarn Avenue\, River Falls\, near the east entrance to the Sterling Ponds neighborhood in River Falls. Please stay for the coffee fellowship that follows worship!
URL:https://www.hopelutheranrf.com/event/sunday-morning-worship-930-am-2/
LOCATION:HOPE Lutheran Church\, 3337 Kingsbarn Ave\, River Falls\, WI\, 54022\, United States
GEO:44.898581;-92.6327652
X-APPLE-STRUCTURED-LOCATION;VALUE=URI;X-ADDRESS=HOPE Lutheran Church 3337 Kingsbarn Ave River Falls WI 54022 United States;X-APPLE-RADIUS=500;X-TITLE=3337 Kingsbarn Ave:geo:-92.6327652,44.898581
END:VEVENT
BEGIN:VEVENT
DTSTART;TZID=America/New_York:20160413T160000
DTEND;TZID=America/New_York:20160413T171500
DTSTAMP:20260425T000131
CREATED:20160407T013523Z
LAST-MODIFIED:20160407T013523Z
UID:2216-1460563200-1460567700@www.hopelutheranrf.com
SUMMARY:Faith Adventures 4:00-5:15PM
DESCRIPTION:
URL:https://www.hopelutheranrf.com/event/faith-adventures-400-515pm/
LOCATION:WI
END:VEVENT
BEGIN:VEVENT
DTSTART;TZID=America/New_York:20160413T173000
DTEND;TZID=America/New_York:20160413T183000
DTSTAMP:20260425T000131
CREATED:20160407T013917Z
LAST-MODIFIED:20160407T013917Z
UID:2219-1460568600-1460572200@www.hopelutheranrf.com
SUMMARY:Confirmation 5:30-6:30pm
DESCRIPTION:
URL:https://www.hopelutheranrf.com/event/confirmation-530-630pm/
LOCATION:WI
END:VEVENT
BEGIN:VEVENT
DTSTART;TZID=America/New_York:20160417T093000
DTEND;TZID=America/New_York:20160417T103000
DTSTAMP:20260425T000131
CREATED:20160328T195514Z
LAST-MODIFIED:20160407T013115Z
UID:2191-1460885400-1460889000@www.hopelutheranrf.com
SUMMARY:NEW MEMBER Sunday Morning Worship 9:30 AM
DESCRIPTION:Please join us for worship and NEW MEMBER SUNDAY at 9:30 AM. Our new location is 3337 Kingsbarn Avenue\, River Falls\, near the east entrance to the Sterling Ponds neighborhood in River Falls. Please stay for the coffee fellowship that follows worship!
URL:https://www.hopelutheranrf.com/event/sunday-morning-worship-930-am-3/
LOCATION:HOPE Lutheran Church\, 3337 Kingsbarn Ave\, River Falls\, WI\, 54022\, United States
GEO:44.898581;-92.6327652
X-APPLE-STRUCTURED-LOCATION;VALUE=URI;X-ADDRESS=HOPE Lutheran Church 3337 Kingsbarn Ave River Falls WI 54022 United States;X-APPLE-RADIUS=500;X-TITLE=3337 Kingsbarn Ave:geo:-92.6327652,44.898581
END:VEVENT
BEGIN:VEVENT
DTSTART;TZID=America/New_York:20160417T113000
DTEND;TZID=America/New_York:20160417T123000
DTSTAMP:20260425T000131
CREATED:20160410T154830Z
LAST-MODIFIED:20160410T155332Z
UID:2231-1460892600-1460896200@www.hopelutheranrf.com
SUMMARY:Dedication Sunday Planning Meeting 11:30 AM
DESCRIPTION:We will be meeting at approximately 11:30 AM on Sunday\, April 17 to begin planning for Dedication Sunday\, which is Sunday\, June 26. \n  \nMeeting location:  HOPE Lutheran\, 3337 Kingsbarn Ave.\, River Falls\, following coffee fellowship.
URL:https://www.hopelutheranrf.com/event/dedication-sunday-planning-meeting-1130-am/
LOCATION:HOPE Lutheran Church\, 3337 Kingsbarn Ave\, River Falls\, WI\, 54022\, United States
GEO:44.898581;-92.6327652
X-APPLE-STRUCTURED-LOCATION;VALUE=URI;X-ADDRESS=HOPE Lutheran Church 3337 Kingsbarn Ave River Falls WI 54022 United States;X-APPLE-RADIUS=500;X-TITLE=3337 Kingsbarn Ave:geo:-92.6327652,44.898581
END:VEVENT
BEGIN:VEVENT
DTSTART;TZID=America/New_York:20160418T190000
DTEND;TZID=America/New_York:20160418T203000
DTSTAMP:20260425T000131
CREATED:20160415T160228Z
LAST-MODIFIED:20160417T164428Z
UID:2251-1461006000-1461011400@www.hopelutheranrf.com
SUMMARY:Sound Checks 7:00p
DESCRIPTION:The sanctuary will be testing potential sound systems.
URL:https://www.hopelutheranrf.com/event/sound-checks-630p/
LOCATION:WI
END:VEVENT
BEGIN:VEVENT
DTSTART;TZID=America/New_York:20160420T120000
DTEND;TZID=America/New_York:20160420T130000
DTSTAMP:20260425T000131
CREATED:20160414T204005Z
LAST-MODIFIED:20160414T204047Z
UID:2244-1461153600-1461157200@www.hopelutheranrf.com
SUMMARY:Faith Talk - Noon
DESCRIPTION:People are invited to come to HOPE at noon on Wednesdays for engaging faith conversation.  Bring a lunch.  Coffee will be provided.
URL:https://www.hopelutheranrf.com/event/faith-talk/
LOCATION:HOPE Lutheran Church\, 3337 Kingsbarn Ave\, River Falls\, WI\, 54022\, United States
GEO:44.898581;-92.6327652
X-APPLE-STRUCTURED-LOCATION;VALUE=URI;X-ADDRESS=HOPE Lutheran Church 3337 Kingsbarn Ave River Falls WI 54022 United States;X-APPLE-RADIUS=500;X-TITLE=3337 Kingsbarn Ave:geo:-92.6327652,44.898581
END:VEVENT
BEGIN:VEVENT
DTSTART;TZID=America/New_York:20160420T160000
DTEND;TZID=America/New_York:20160420T171500
DTSTAMP:20260425T000131
CREATED:20160407T013547Z
LAST-MODIFIED:20160407T013547Z
UID:2217-1461168000-1461172500@www.hopelutheranrf.com
SUMMARY:Faith Adventures 4:00-5:15PM
DESCRIPTION:
URL:https://www.hopelutheranrf.com/event/faith-adventures-400-515pm-2/
LOCATION:WI
END:VEVENT
BEGIN:VEVENT
DTSTART;TZID=America/New_York:20160420T173000
DTEND;TZID=America/New_York:20160420T183000
DTSTAMP:20260425T000131
CREATED:20160407T013944Z
LAST-MODIFIED:20160407T013944Z
UID:2220-1461173400-1461177000@www.hopelutheranrf.com
SUMMARY:Confirmation 5:30-6:30pm
DESCRIPTION:
URL:https://www.hopelutheranrf.com/event/confirmation-530-630pm-2/
LOCATION:WI
END:VEVENT
BEGIN:VEVENT
DTSTART;TZID=America/New_York:20160420T183000
DTEND;TZID=America/New_York:20160420T200000
DTSTAMP:20260425T000131
CREATED:20160407T014506Z
LAST-MODIFIED:20160407T014542Z
UID:2223-1461177000-1461182400@www.hopelutheranrf.com
SUMMARY:April Church Council 6:30-8:00pm
DESCRIPTION:Church Council will convene at church!
URL:https://www.hopelutheranrf.com/event/april-church-council-630pm/
LOCATION:WI
END:VEVENT
BEGIN:VEVENT
DTSTART;TZID=America/New_York:20160424T093000
DTEND;TZID=America/New_York:20160424T103000
DTSTAMP:20260425T000131
CREATED:20160328T195624Z
LAST-MODIFIED:20160328T195813Z
UID:2192-1461490200-1461493800@www.hopelutheranrf.com
SUMMARY:Sunday Morning Worship 9:30 AM
DESCRIPTION:Please join us for worship at 9:30 AM. Our new location is 3337 Kingsbarn Avenue\, River Falls\, near the east entrance to the Sterling Ponds neighborhood in River Falls. Please stay for the coffee fellowship that follows worship!
URL:https://www.hopelutheranrf.com/event/sunday-morning-worship-930-am-4/
LOCATION:WI
END:VEVENT
BEGIN:VEVENT
DTSTART;TZID=America/New_York:20160427T120000
DTEND;TZID=America/New_York:20160427T130000
DTSTAMP:20260425T000131
CREATED:20160414T204151Z
LAST-MODIFIED:20160414T204151Z
UID:2245-1461758400-1461762000@www.hopelutheranrf.com
SUMMARY:Faith Talk - Noon
DESCRIPTION:People are invited to come to HOPE at noon on Wednesdays for engaging faith conversation.  Bring a lunch.  Coffee will be provided.
URL:https://www.hopelutheranrf.com/event/faith-talk-noon/
LOCATION:HOPE Lutheran Church\, 3337 Kingsbarn Ave\, River Falls\, WI\, 54022\, United States
GEO:44.898581;-92.6327652
X-APPLE-STRUCTURED-LOCATION;VALUE=URI;X-ADDRESS=HOPE Lutheran Church 3337 Kingsbarn Ave River Falls WI 54022 United States;X-APPLE-RADIUS=500;X-TITLE=3337 Kingsbarn Ave:geo:-92.6327652,44.898581
END:VEVENT
BEGIN:VEVENT
DTSTART;TZID=America/New_York:20160427T160000
DTEND;TZID=America/New_York:20160427T171500
DTSTAMP:20260425T000131
CREATED:20160407T013605Z
LAST-MODIFIED:20160407T013758Z
UID:2218-1461772800-1461777300@www.hopelutheranrf.com
SUMMARY:Faith Adventures 4:00-5:15PM
DESCRIPTION:This is the final Faith Adventures of the 2015-2016 academic year.
URL:https://www.hopelutheranrf.com/event/faith-adventures-400-515pm-3/
LOCATION:WI
END:VEVENT
BEGIN:VEVENT
DTSTART;TZID=America/New_York:20160427T173000
DTEND;TZID=America/New_York:20160427T183000
DTSTAMP:20260425T000131
CREATED:20160407T014015Z
LAST-MODIFIED:20160407T014015Z
UID:2221-1461778200-1461781800@www.hopelutheranrf.com
SUMMARY:Confirmation 5:30-6:30pm
DESCRIPTION:
URL:https://www.hopelutheranrf.com/event/confirmation-530-630pm-3/
LOCATION:WI
END:VEVENT
BEGIN:VEVENT
DTSTART;TZID=America/New_York:20160501T093000
DTEND;TZID=America/New_York:20160501T223000
DTSTAMP:20260425T000131
CREATED:20160301T011746Z
LAST-MODIFIED:20160301T011746Z
UID:2144-1462095000-1462141800@www.hopelutheranrf.com
SUMMARY:HOPE Lutheran Charter Celebration 9:30 AM
DESCRIPTION:We celebrate HOPE Lutheran’s tenth birthday!  Join us for worship at 9:30 AM at our new location at 3337 Kingsbarn Avenue\, River Falls\, near the east entrance to the Sterling Ponds neighborhood. \nA potluck meal and our annual talent extravaganza\, HOPE’s Got Talent\, follows the service.
URL:https://www.hopelutheranrf.com/event/hope-lutheran-charter-celebration-930-am/
LOCATION:HOPE Lutheran Church\, 3337 Kingsbarn Ave\, River Falls\, WI\, 54022\, United States
GEO:44.898581;-92.6327652
X-APPLE-STRUCTURED-LOCATION;VALUE=URI;X-ADDRESS=HOPE Lutheran Church 3337 Kingsbarn Ave River Falls WI 54022 United States;X-APPLE-RADIUS=500;X-TITLE=3337 Kingsbarn Ave:geo:-92.6327652,44.898581
END:VEVENT
BEGIN:VEVENT
DTSTART;TZID=America/New_York:20160501T110000
DTEND;TZID=America/New_York:20160501T130000
DTSTAMP:20260425T000131
CREATED:20160407T013303Z
LAST-MODIFIED:20160407T013303Z
UID:2212-1462100400-1462107600@www.hopelutheranrf.com
SUMMARY:HOPE's Got Talent
DESCRIPTION:HOPE’s Got Talent is back!  Our annual talent event will be held at church on Sunday\, May 1\, following our 9:30 service.  Come for worship\, stay for the talent!
URL:https://www.hopelutheranrf.com/event/hopes-got-talent/
LOCATION:WI
END:VEVENT
BEGIN:VEVENT
DTSTART;TZID=America/New_York:20160503T140000
DTEND;TZID=America/New_York:20160503T150000
DTSTAMP:20260425T000131
CREATED:20160426T212150Z
LAST-MODIFIED:20160426T212432Z
UID:2269-1462284000-1462287600@www.hopelutheranrf.com
SUMMARY:Strings of HOPE 2:00 PM
DESCRIPTION:Strings of HOPE rehearses every Tuesday at 2:00pm at church.
URL:https://www.hopelutheranrf.com/event/strings-of-hope-200-pm/
LOCATION:HOPE Lutheran Church\, 3337 Kingsbarn Ave\, River Falls\, WI\, 54022\, United States
GEO:44.898581;-92.6327652
X-APPLE-STRUCTURED-LOCATION;VALUE=URI;X-ADDRESS=HOPE Lutheran Church 3337 Kingsbarn Ave River Falls WI 54022 United States;X-APPLE-RADIUS=500;X-TITLE=3337 Kingsbarn Ave:geo:-92.6327652,44.898581
END:VEVENT
BEGIN:VEVENT
DTSTART;TZID=America/New_York:20160504T120000
DTEND;TZID=America/New_York:20160504T130000
DTSTAMP:20260425T000131
CREATED:20160414T204223Z
LAST-MODIFIED:20160414T204223Z
UID:2246-1462363200-1462366800@www.hopelutheranrf.com
SUMMARY:Faith Talk - Noon
DESCRIPTION:People are invited to come to HOPE at noon on Wednesdays for engaging faith conversation.  Bring a lunch.  Coffee will be provided.
URL:https://www.hopelutheranrf.com/event/faith-talk-noon-2/
LOCATION:HOPE Lutheran Church\, 3337 Kingsbarn Ave\, River Falls\, WI\, 54022\, United States
GEO:44.898581;-92.6327652
X-APPLE-STRUCTURED-LOCATION;VALUE=URI;X-ADDRESS=HOPE Lutheran Church 3337 Kingsbarn Ave River Falls WI 54022 United States;X-APPLE-RADIUS=500;X-TITLE=3337 Kingsbarn Ave:geo:-92.6327652,44.898581
END:VEVENT
BEGIN:VEVENT
DTSTART;TZID=America/New_York:20160504T160000
DTEND;TZID=America/New_York:20160504T170000
DTSTAMP:20260425T000131
CREATED:20160418T180746Z
LAST-MODIFIED:20160418T181400Z
UID:2257-1462377600-1462381200@www.hopelutheranrf.com
SUMMARY:Cong. Life 4:00 PM
DESCRIPTION:Congregational Life ministry team will meet at church on May 4th at 4:00PM.
URL:https://www.hopelutheranrf.com/event/cong-life-400-pm/
LOCATION:HOPE Lutheran Church\, 3337 Kingsbarn Ave\, River Falls\, WI\, 54022\, United States
GEO:44.898581;-92.6327652
X-APPLE-STRUCTURED-LOCATION;VALUE=URI;X-ADDRESS=HOPE Lutheran Church 3337 Kingsbarn Ave River Falls WI 54022 United States;X-APPLE-RADIUS=500;X-TITLE=3337 Kingsbarn Ave:geo:-92.6327652,44.898581
END:VEVENT
BEGIN:VEVENT
DTSTART;TZID=America/New_York:20160504T173000
DTEND;TZID=America/New_York:20160504T183000
DTSTAMP:20260425T000131
CREATED:20160407T014100Z
LAST-MODIFIED:20160407T014100Z
UID:2222-1462383000-1462386600@www.hopelutheranrf.com
SUMMARY:Confirmation 5:30-6:30pm
DESCRIPTION:This is the final Confirmation class of the 2015-2016 season.
URL:https://www.hopelutheranrf.com/event/confirmation-530-630pm-4/
LOCATION:WI
END:VEVENT
BEGIN:VEVENT
DTSTART;TZID=America/New_York:20160504T190000
DTEND;TZID=America/New_York:20160504T200000
DTSTAMP:20260425T000131
CREATED:20160407T005254Z
LAST-MODIFIED:20160407T010516Z
UID:2204-1462388400-1462392000@www.hopelutheranrf.com
SUMMARY:Communications Ministry
DESCRIPTION:Communication Ministry to meet at church.
URL:https://www.hopelutheranrf.com/event/communications-ministry/
LOCATION:HOPE Lutheran Church\, 3337 Kingsbarn Ave\, River Falls\, WI\, 54022\, United States
GEO:44.898581;-92.6327652
X-APPLE-STRUCTURED-LOCATION;VALUE=URI;X-ADDRESS=HOPE Lutheran Church 3337 Kingsbarn Ave River Falls WI 54022 United States;X-APPLE-RADIUS=500;X-TITLE=3337 Kingsbarn Ave:geo:-92.6327652,44.898581
END:VEVENT
BEGIN:VEVENT
DTSTART;TZID=America/New_York:20160507T150000
DTEND;TZID=America/New_York:20160507T203000
DTSTAMP:20260425T000131
CREATED:20160414T204618Z
LAST-MODIFIED:20160414T204618Z
UID:2250-1462633200-1462653000@www.hopelutheranrf.com
SUMMARY:Brill Birthday Party
DESCRIPTION:
URL:https://www.hopelutheranrf.com/event/brill-birthday-party/
LOCATION:HOPE Lutheran Church\, 3337 Kingsbarn Ave\, River Falls\, WI\, 54022\, United States
GEO:44.898581;-92.6327652
X-APPLE-STRUCTURED-LOCATION;VALUE=URI;X-ADDRESS=HOPE Lutheran Church 3337 Kingsbarn Ave River Falls WI 54022 United States;X-APPLE-RADIUS=500;X-TITLE=3337 Kingsbarn Ave:geo:-92.6327652,44.898581
END:VEVENT
BEGIN:VEVENT
DTSTART;TZID=America/New_York:20160508T093000
DTEND;TZID=America/New_York:20160508T103000
DTSTAMP:20260425T000131
CREATED:20160407T005518Z
LAST-MODIFIED:20160407T005542Z
UID:2205-1462699800-1462703400@www.hopelutheranrf.com
SUMMARY:Sunday Worship 9:30 AM
DESCRIPTION:Please join us for Sunday Worship at 9:30 AM at our location on 3337 Kingsbarn Avenue\, River Falls\, near the east entrance to the Sterling Ponds neighborhood.  Coffee Fellowship follows at 10:30am.
URL:https://www.hopelutheranrf.com/event/sunday-worship/
LOCATION:HOPE Lutheran Church\, 3337 Kingsbarn Ave\, River Falls\, WI\, 54022\, United States
GEO:44.898581;-92.6327652
X-APPLE-STRUCTURED-LOCATION;VALUE=URI;X-ADDRESS=HOPE Lutheran Church 3337 Kingsbarn Ave River Falls WI 54022 United States;X-APPLE-RADIUS=500;X-TITLE=3337 Kingsbarn Ave:geo:-92.6327652,44.898581
END:VEVENT
BEGIN:VEVENT
DTSTART;TZID=America/New_York:20160510T140000
DTEND;TZID=America/New_York:20160510T150000
DTSTAMP:20260425T000131
CREATED:20160426T212222Z
LAST-MODIFIED:20160426T212348Z
UID:2270-1462888800-1462892400@www.hopelutheranrf.com
SUMMARY:Strings of HOPE 2:00 PM
DESCRIPTION:Strings of HOPE rehearses every Tuesday at 2:00pm at church.
URL:https://www.hopelutheranrf.com/event/strings-of-hope-200-pm-2/
LOCATION:WI
END:VEVENT
BEGIN:VEVENT
DTSTART;TZID=America/New_York:20160511T120000
DTEND;TZID=America/New_York:20160511T130000
DTSTAMP:20260425T000131
CREATED:20160414T204252Z
LAST-MODIFIED:20160414T204252Z
UID:2247-1462968000-1462971600@www.hopelutheranrf.com
SUMMARY:Faith Talk - Noon
DESCRIPTION:People are invited to come to HOPE at noon on Wednesdays for engaging faith conversation.  Bring a lunch.  Coffee will be provided.
URL:https://www.hopelutheranrf.com/event/faith-talk-noon-3/
LOCATION:HOPE Lutheran Church\, 3337 Kingsbarn Ave\, River Falls\, WI\, 54022\, United States
GEO:44.898581;-92.6327652
X-APPLE-STRUCTURED-LOCATION;VALUE=URI;X-ADDRESS=HOPE Lutheran Church 3337 Kingsbarn Ave River Falls WI 54022 United States;X-APPLE-RADIUS=500;X-TITLE=3337 Kingsbarn Ave:geo:-92.6327652,44.898581
END:VEVENT
END:VCALENDAR