BEGIN:VCALENDAR
VERSION:2.0
PRODID:-//Welcome to HOPE Lutheran Church - ECPv6.15.20//NONSGML v1.0//EN
CALSCALE:GREGORIAN
METHOD:PUBLISH
X-WR-CALNAME:Welcome to HOPE Lutheran Church
X-ORIGINAL-URL:https://www.hopelutheranrf.com
X-WR-CALDESC:Events for Welcome to HOPE Lutheran Church
REFRESH-INTERVAL;VALUE=DURATION:PT1H
X-Robots-Tag:noindex
X-PUBLISHED-TTL:PT1H
BEGIN:VTIMEZONE
TZID:America/New_York
BEGIN:DAYLIGHT
TZOFFSETFROM:-0500
TZOFFSETTO:-0400
TZNAME:EDT
DTSTART:20240310T070000
END:DAYLIGHT
BEGIN:STANDARD
TZOFFSETFROM:-0400
TZOFFSETTO:-0500
TZNAME:EST
DTSTART:20241103T060000
END:STANDARD
BEGIN:DAYLIGHT
TZOFFSETFROM:-0500
TZOFFSETTO:-0400
TZNAME:EDT
DTSTART:20250309T070000
END:DAYLIGHT
BEGIN:STANDARD
TZOFFSETFROM:-0400
TZOFFSETTO:-0500
TZNAME:EST
DTSTART:20251102T060000
END:STANDARD
BEGIN:DAYLIGHT
TZOFFSETFROM:-0500
TZOFFSETTO:-0400
TZNAME:EDT
DTSTART:20260308T070000
END:DAYLIGHT
BEGIN:STANDARD
TZOFFSETFROM:-0400
TZOFFSETTO:-0500
TZNAME:EST
DTSTART:20261101T060000
END:STANDARD
END:VTIMEZONE
BEGIN:VEVENT
DTSTART;TZID=America/New_York:20251112T174500
DTEND;TZID=America/New_York:20251112T193000
DTSTAMP:20260424T235019
CREATED:20250910T150315Z
LAST-MODIFIED:20250910T150315Z
UID:14720-1762969500-1762975800@www.hopelutheranrf.com
SUMMARY:Wednesdays of HOPE
DESCRIPTION:
URL:https://www.hopelutheranrf.com/event/wednesdays-of-hope-5/2025-11-12/
LOCATION:HOPE Lutheran Church\, 3337 Kingsbarn Ave\, River Falls\, WI\, 54022\, United States
GEO:44.898581;-92.6327652
X-APPLE-STRUCTURED-LOCATION;VALUE=URI;X-ADDRESS=HOPE Lutheran Church 3337 Kingsbarn Ave River Falls WI 54022 United States;X-APPLE-RADIUS=500;X-TITLE=3337 Kingsbarn Ave:geo:-92.6327652,44.898581
END:VEVENT
BEGIN:VEVENT
DTSTART;TZID=America/New_York:20251117T100000
DTEND;TZID=America/New_York:20251117T110000
DTSTAMP:20260424T235019
CREATED:20250107T165728Z
LAST-MODIFIED:20250107T165728Z
UID:14196-1763373600-1763377200@www.hopelutheranrf.com
SUMMARY:Coffee & Faithful Conversation
DESCRIPTION:
URL:https://www.hopelutheranrf.com/event/coffee-faithful-conversation-6/2025-11-17/
LOCATION:HOPE Lutheran Church\, 3337 Kingsbarn Ave\, River Falls\, WI\, 54022\, United States
GEO:44.898581;-92.6327652
X-APPLE-STRUCTURED-LOCATION;VALUE=URI;X-ADDRESS=HOPE Lutheran Church 3337 Kingsbarn Ave River Falls WI 54022 United States;X-APPLE-RADIUS=500;X-TITLE=3337 Kingsbarn Ave:geo:-92.6327652,44.898581
END:VEVENT
BEGIN:VEVENT
DTSTART;TZID=America/New_York:20251117T183000
DTEND;TZID=America/New_York:20251117T193000
DTSTAMP:20260424T235019
CREATED:20250909T164810Z
LAST-MODIFIED:20250909T164810Z
UID:14700-1763404200-1763407800@www.hopelutheranrf.com
SUMMARY:Carols and Candles Rehearsal
DESCRIPTION:
URL:https://www.hopelutheranrf.com/event/carols-and-candles-rehearsal-5/
LOCATION:HOPE Lutheran Church\, 3337 Kingsbarn Ave\, River Falls\, WI\, 54022\, United States
GEO:44.898581;-92.6327652
X-APPLE-STRUCTURED-LOCATION;VALUE=URI;X-ADDRESS=HOPE Lutheran Church 3337 Kingsbarn Ave River Falls WI 54022 United States;X-APPLE-RADIUS=500;X-TITLE=3337 Kingsbarn Ave:geo:-92.6327652,44.898581
END:VEVENT
BEGIN:VEVENT
DTSTART;TZID=America/New_York:20251118T183000
DTEND;TZID=America/New_York:20251118T193000
DTSTAMP:20260424T235019
CREATED:20180123T192118Z
LAST-MODIFIED:20180123T192118Z
UID:13205-1763490600-1763494200@www.hopelutheranrf.com
SUMMARY:Council Ministry
DESCRIPTION:
URL:https://www.hopelutheranrf.com/event/council-ministry/2025-11-18/
LOCATION:HOPE Lutheran Church\, 3337 Kingsbarn Ave\, River Falls\, WI\, 54022\, United States
GEO:44.898581;-92.6327652
X-APPLE-STRUCTURED-LOCATION;VALUE=URI;X-ADDRESS=HOPE Lutheran Church 3337 Kingsbarn Ave River Falls WI 54022 United States;X-APPLE-RADIUS=500;X-TITLE=3337 Kingsbarn Ave:geo:-92.6327652,44.898581
END:VEVENT
BEGIN:VEVENT
DTSTART;TZID=America/New_York:20251119T173000
DTEND;TZID=America/New_York:20251119T193000
DTSTAMP:20260424T235019
CREATED:20250909T165421Z
LAST-MODIFIED:20250909T165421Z
UID:14710-1763573400-1763580600@www.hopelutheranrf.com
SUMMARY:Advent Fair
DESCRIPTION:
URL:https://www.hopelutheranrf.com/event/advent-fair/
LOCATION:HOPE Lutheran Church\, 3337 Kingsbarn Ave\, River Falls\, WI\, 54022\, United States
GEO:44.898581;-92.6327652
X-APPLE-STRUCTURED-LOCATION;VALUE=URI;X-ADDRESS=HOPE Lutheran Church 3337 Kingsbarn Ave River Falls WI 54022 United States;X-APPLE-RADIUS=500;X-TITLE=3337 Kingsbarn Ave:geo:-92.6327652,44.898581
END:VEVENT
BEGIN:VEVENT
DTSTART;TZID=America/New_York:20251119T174500
DTEND;TZID=America/New_York:20251119T193000
DTSTAMP:20260424T235019
CREATED:20250910T150315Z
LAST-MODIFIED:20250910T150315Z
UID:14721-1763574300-1763580600@www.hopelutheranrf.com
SUMMARY:Wednesdays of HOPE
DESCRIPTION:
URL:https://www.hopelutheranrf.com/event/wednesdays-of-hope-5/2025-11-19/
LOCATION:HOPE Lutheran Church\, 3337 Kingsbarn Ave\, River Falls\, WI\, 54022\, United States
GEO:44.898581;-92.6327652
X-APPLE-STRUCTURED-LOCATION;VALUE=URI;X-ADDRESS=HOPE Lutheran Church 3337 Kingsbarn Ave River Falls WI 54022 United States;X-APPLE-RADIUS=500;X-TITLE=3337 Kingsbarn Ave:geo:-92.6327652,44.898581
END:VEVENT
BEGIN:VEVENT
DTSTART;TZID=America/New_York:20251124T100000
DTEND;TZID=America/New_York:20251124T110000
DTSTAMP:20260424T235019
CREATED:20250107T165728Z
LAST-MODIFIED:20250107T165728Z
UID:14197-1763978400-1763982000@www.hopelutheranrf.com
SUMMARY:Coffee & Faithful Conversation
DESCRIPTION:
URL:https://www.hopelutheranrf.com/event/coffee-faithful-conversation-6/2025-11-24/
LOCATION:HOPE Lutheran Church\, 3337 Kingsbarn Ave\, River Falls\, WI\, 54022\, United States
GEO:44.898581;-92.6327652
X-APPLE-STRUCTURED-LOCATION;VALUE=URI;X-ADDRESS=HOPE Lutheran Church 3337 Kingsbarn Ave River Falls WI 54022 United States;X-APPLE-RADIUS=500;X-TITLE=3337 Kingsbarn Ave:geo:-92.6327652,44.898581
END:VEVENT
BEGIN:VEVENT
DTSTART;TZID=America/New_York:20251124T183000
DTEND;TZID=America/New_York:20251124T193000
DTSTAMP:20260424T235019
CREATED:20250909T164922Z
LAST-MODIFIED:20250909T164922Z
UID:14702-1764009000-1764012600@www.hopelutheranrf.com
SUMMARY:Carols & Candles Rehearsal
DESCRIPTION:
URL:https://www.hopelutheranrf.com/event/carols-candles-rehearsal-4/
LOCATION:HOPE Lutheran Church\, 3337 Kingsbarn Ave\, River Falls\, WI\, 54022\, United States
GEO:44.898581;-92.6327652
X-APPLE-STRUCTURED-LOCATION;VALUE=URI;X-ADDRESS=HOPE Lutheran Church 3337 Kingsbarn Ave River Falls WI 54022 United States;X-APPLE-RADIUS=500;X-TITLE=3337 Kingsbarn Ave:geo:-92.6327652,44.898581
END:VEVENT
BEGIN:VEVENT
DTSTART;VALUE=DATE:20251127
DTEND;VALUE=DATE:20251128
DTSTAMP:20260424T235019
CREATED:20250107T191426Z
LAST-MODIFIED:20250107T191426Z
UID:14219-1764201600-1764287999@www.hopelutheranrf.com
SUMMARY:Thanksgiving Day
DESCRIPTION:
URL:https://www.hopelutheranrf.com/event/thanksgiving-day-4/
LOCATION:HOPE Lutheran Church\, 3337 Kingsbarn Ave\, River Falls\, WI\, 54022\, United States
GEO:44.898581;-92.6327652
X-APPLE-STRUCTURED-LOCATION;VALUE=URI;X-ADDRESS=HOPE Lutheran Church 3337 Kingsbarn Ave River Falls WI 54022 United States;X-APPLE-RADIUS=500;X-TITLE=3337 Kingsbarn Ave:geo:-92.6327652,44.898581
END:VEVENT
BEGIN:VEVENT
DTSTART;VALUE=DATE:20251130
DTEND;VALUE=DATE:20251201
DTSTAMP:20260424T235019
CREATED:20250909T135652Z
LAST-MODIFIED:20250909T135652Z
UID:14698-1764460800-1764547199@www.hopelutheranrf.com
SUMMARY:First Sunday of Advent
DESCRIPTION:
URL:https://www.hopelutheranrf.com/event/first-sunday-of-advent-3/
LOCATION:HOPE Lutheran Church\, 3337 Kingsbarn Ave\, River Falls\, WI\, 54022\, United States
GEO:44.898581;-92.6327652
X-APPLE-STRUCTURED-LOCATION;VALUE=URI;X-ADDRESS=HOPE Lutheran Church 3337 Kingsbarn Ave River Falls WI 54022 United States;X-APPLE-RADIUS=500;X-TITLE=3337 Kingsbarn Ave:geo:-92.6327652,44.898581
END:VEVENT
BEGIN:VEVENT
DTSTART;TZID=America/New_York:20251201T100000
DTEND;TZID=America/New_York:20251201T110000
DTSTAMP:20260424T235019
CREATED:20250107T165728Z
LAST-MODIFIED:20250107T165728Z
UID:14198-1764583200-1764586800@www.hopelutheranrf.com
SUMMARY:Coffee & Faithful Conversation
DESCRIPTION:
URL:https://www.hopelutheranrf.com/event/coffee-faithful-conversation-6/2025-12-01/
LOCATION:HOPE Lutheran Church\, 3337 Kingsbarn Ave\, River Falls\, WI\, 54022\, United States
GEO:44.898581;-92.6327652
X-APPLE-STRUCTURED-LOCATION;VALUE=URI;X-ADDRESS=HOPE Lutheran Church 3337 Kingsbarn Ave River Falls WI 54022 United States;X-APPLE-RADIUS=500;X-TITLE=3337 Kingsbarn Ave:geo:-92.6327652,44.898581
END:VEVENT
BEGIN:VEVENT
DTSTART;TZID=America/New_York:20251201T113000
DTEND;TZID=America/New_York:20251201T123000
DTSTAMP:20260424T235019
CREATED:20250203T200436Z
LAST-MODIFIED:20250203T200436Z
UID:14273-1764588600-1764592200@www.hopelutheranrf.com
SUMMARY:Congregational Life Meeting
DESCRIPTION:
URL:https://www.hopelutheranrf.com/event/congregational-life-meeting-2/2025-12-01/
LOCATION:HOPE Lutheran Church\, 3337 Kingsbarn Ave\, River Falls\, WI\, 54022\, United States
GEO:44.898581;-92.6327652
X-APPLE-STRUCTURED-LOCATION;VALUE=URI;X-ADDRESS=HOPE Lutheran Church 3337 Kingsbarn Ave River Falls WI 54022 United States;X-APPLE-RADIUS=500;X-TITLE=3337 Kingsbarn Ave:geo:-92.6327652,44.898581
END:VEVENT
BEGIN:VEVENT
DTSTART;TZID=America/New_York:20251201T183000
DTEND;TZID=America/New_York:20251201T193000
DTSTAMP:20260424T235019
CREATED:20250909T165028Z
LAST-MODIFIED:20250909T165028Z
UID:14704-1764613800-1764617400@www.hopelutheranrf.com
SUMMARY:Carols and Candles Rehearsal
DESCRIPTION:
URL:https://www.hopelutheranrf.com/event/carols-and-candles-rehearsal-6/
LOCATION:HOPE Lutheran Church\, 3337 Kingsbarn Ave\, River Falls\, WI\, 54022\, United States
GEO:44.898581;-92.6327652
X-APPLE-STRUCTURED-LOCATION;VALUE=URI;X-ADDRESS=HOPE Lutheran Church 3337 Kingsbarn Ave River Falls WI 54022 United States;X-APPLE-RADIUS=500;X-TITLE=3337 Kingsbarn Ave:geo:-92.6327652,44.898581
END:VEVENT
BEGIN:VEVENT
DTSTART;TZID=America/New_York:20251202T183000
DTEND;TZID=America/New_York:20251202T193000
DTSTAMP:20260424T235019
CREATED:20250205T145504Z
LAST-MODIFIED:20250205T145504Z
UID:14286-1764700200-1764703800@www.hopelutheranrf.com
SUMMARY:Property Ministry Meeting
DESCRIPTION:
URL:https://www.hopelutheranrf.com/event/property-ministry-meeting-10/2025-12-02/
LOCATION:HOPE Lutheran Church\, 3337 Kingsbarn Ave\, River Falls\, WI\, 54022\, United States
GEO:44.898581;-92.6327652
X-APPLE-STRUCTURED-LOCATION;VALUE=URI;X-ADDRESS=HOPE Lutheran Church 3337 Kingsbarn Ave River Falls WI 54022 United States;X-APPLE-RADIUS=500;X-TITLE=3337 Kingsbarn Ave:geo:-92.6327652,44.898581
END:VEVENT
BEGIN:VEVENT
DTSTART;TZID=America/New_York:20251202T190000
DTEND;TZID=America/New_York:20251202T200000
DTSTAMP:20260424T235019
CREATED:20250205T150042Z
LAST-MODIFIED:20250205T150042Z
UID:14314-1764702000-1764705600@www.hopelutheranrf.com
SUMMARY:Communication Ministry Meeting
DESCRIPTION:
URL:https://www.hopelutheranrf.com/event/communication-ministry-meeting-5/2025-12-02/
LOCATION:HOPE Lutheran Church\, 3337 Kingsbarn Ave\, River Falls\, WI\, 54022\, United States
GEO:44.898581;-92.6327652
X-APPLE-STRUCTURED-LOCATION;VALUE=URI;X-ADDRESS=HOPE Lutheran Church 3337 Kingsbarn Ave River Falls WI 54022 United States;X-APPLE-RADIUS=500;X-TITLE=3337 Kingsbarn Ave:geo:-92.6327652,44.898581
END:VEVENT
BEGIN:VEVENT
DTSTART;TZID=America/New_York:20251204T190000
DTEND;TZID=America/New_York:20251204T200000
DTSTAMP:20260424T235019
CREATED:20250205T145823Z
LAST-MODIFIED:20250205T145823Z
UID:14300-1764874800-1764878400@www.hopelutheranrf.com
SUMMARY:Mission Ministry Meeting
DESCRIPTION:
URL:https://www.hopelutheranrf.com/event/mission-ministry-meeting-7/2025-12-04/
LOCATION:HOPE Lutheran Church\, 3337 Kingsbarn Ave\, River Falls\, WI\, 54022\, United States
GEO:44.898581;-92.6327652
X-APPLE-STRUCTURED-LOCATION;VALUE=URI;X-ADDRESS=HOPE Lutheran Church 3337 Kingsbarn Ave River Falls WI 54022 United States;X-APPLE-RADIUS=500;X-TITLE=3337 Kingsbarn Ave:geo:-92.6327652,44.898581
END:VEVENT
BEGIN:VEVENT
DTSTART;VALUE=DATE:20251206
DTEND;VALUE=DATE:20251207
DTSTAMP:20260424T235019
CREATED:20250826T161617Z
LAST-MODIFIED:20250826T161617Z
UID:14670-1764979200-1765065599@www.hopelutheranrf.com
SUMMARY:Cameron Shea Birthday Party
DESCRIPTION:
URL:https://www.hopelutheranrf.com/event/cameron-shea-birthday-party/
LOCATION:HOPE Lutheran Church\, 3337 Kingsbarn Ave\, River Falls\, WI\, 54022\, United States
GEO:44.898581;-92.6327652
X-APPLE-STRUCTURED-LOCATION;VALUE=URI;X-ADDRESS=HOPE Lutheran Church 3337 Kingsbarn Ave River Falls WI 54022 United States;X-APPLE-RADIUS=500;X-TITLE=3337 Kingsbarn Ave:geo:-92.6327652,44.898581
END:VEVENT
BEGIN:VEVENT
DTSTART;TZID=America/New_York:20251206T093000
DTEND;TZID=America/New_York:20251206T170000
DTSTAMP:20260424T235019
CREATED:20251124T143216Z
LAST-MODIFIED:20251124T143216Z
UID:14868-1765013400-1765040400@www.hopelutheranrf.com
SUMMARY:Lefse Baking Day
DESCRIPTION:
URL:https://www.hopelutheranrf.com/event/lefse-baking-day/
LOCATION:HOPE Lutheran Church\, 3337 Kingsbarn Ave\, River Falls\, WI\, 54022\, United States
GEO:44.898581;-92.6327652
X-APPLE-STRUCTURED-LOCATION;VALUE=URI;X-ADDRESS=HOPE Lutheran Church 3337 Kingsbarn Ave River Falls WI 54022 United States;X-APPLE-RADIUS=500;X-TITLE=3337 Kingsbarn Ave:geo:-92.6327652,44.898581
END:VEVENT
BEGIN:VEVENT
DTSTART;TZID=America/New_York:20251207T103000
DTEND;TZID=America/New_York:20251207T113000
DTSTAMP:20260424T235019
CREATED:20251124T143335Z
LAST-MODIFIED:20251124T143335Z
UID:14870-1765103400-1765107000@www.hopelutheranrf.com
SUMMARY:Christmas Bake Sale
DESCRIPTION:
URL:https://www.hopelutheranrf.com/event/christmas-bake-sale-4/
LOCATION:HOPE Lutheran Church\, 3337 Kingsbarn Ave\, River Falls\, WI\, 54022\, United States
GEO:44.898581;-92.6327652
X-APPLE-STRUCTURED-LOCATION;VALUE=URI;X-ADDRESS=HOPE Lutheran Church 3337 Kingsbarn Ave River Falls WI 54022 United States;X-APPLE-RADIUS=500;X-TITLE=3337 Kingsbarn Ave:geo:-92.6327652,44.898581
END:VEVENT
BEGIN:VEVENT
DTSTART;TZID=America/New_York:20251207T123000
DTEND;TZID=America/New_York:20251207T180000
DTSTAMP:20260424T235019
CREATED:20250908T191235Z
LAST-MODIFIED:20250908T191235Z
UID:14690-1765110600-1765130400@www.hopelutheranrf.com
SUMMARY:Piano Recital - Emily Charland
DESCRIPTION:
URL:https://www.hopelutheranrf.com/event/piano-recital-emily-charland/
LOCATION:HOPE Lutheran Church\, 3337 Kingsbarn Ave\, River Falls\, WI\, 54022\, United States
GEO:44.898581;-92.6327652
X-APPLE-STRUCTURED-LOCATION;VALUE=URI;X-ADDRESS=HOPE Lutheran Church 3337 Kingsbarn Ave River Falls WI 54022 United States;X-APPLE-RADIUS=500;X-TITLE=3337 Kingsbarn Ave:geo:-92.6327652,44.898581
END:VEVENT
BEGIN:VEVENT
DTSTART;TZID=America/New_York:20251208T100000
DTEND;TZID=America/New_York:20251208T110000
DTSTAMP:20260424T235019
CREATED:20250107T165728Z
LAST-MODIFIED:20250107T165728Z
UID:14199-1765188000-1765191600@www.hopelutheranrf.com
SUMMARY:Coffee & Faithful Conversation
DESCRIPTION:
URL:https://www.hopelutheranrf.com/event/coffee-faithful-conversation-6/2025-12-08/
LOCATION:HOPE Lutheran Church\, 3337 Kingsbarn Ave\, River Falls\, WI\, 54022\, United States
GEO:44.898581;-92.6327652
X-APPLE-STRUCTURED-LOCATION;VALUE=URI;X-ADDRESS=HOPE Lutheran Church 3337 Kingsbarn Ave River Falls WI 54022 United States;X-APPLE-RADIUS=500;X-TITLE=3337 Kingsbarn Ave:geo:-92.6327652,44.898581
END:VEVENT
BEGIN:VEVENT
DTSTART;TZID=America/New_York:20251208T183000
DTEND;TZID=America/New_York:20251208T193000
DTSTAMP:20260424T235019
CREATED:20250909T165119Z
LAST-MODIFIED:20250909T165119Z
UID:14705-1765218600-1765222200@www.hopelutheranrf.com
SUMMARY:Carols and Candles Rehearsal
DESCRIPTION:
URL:https://www.hopelutheranrf.com/event/carols-and-candles-rehearsal-7/
LOCATION:HOPE Lutheran Church\, 3337 Kingsbarn Ave\, River Falls\, WI\, 54022\, United States
GEO:44.898581;-92.6327652
X-APPLE-STRUCTURED-LOCATION;VALUE=URI;X-ADDRESS=HOPE Lutheran Church 3337 Kingsbarn Ave River Falls WI 54022 United States;X-APPLE-RADIUS=500;X-TITLE=3337 Kingsbarn Ave:geo:-92.6327652,44.898581
END:VEVENT
BEGIN:VEVENT
DTSTART;TZID=America/New_York:20251211T170000
DTEND;TZID=America/New_York:20251211T220000
DTSTAMP:20260424T235019
CREATED:20250819T132935Z
LAST-MODIFIED:20250819T132935Z
UID:14658-1765472400-1765490400@www.hopelutheranrf.com
SUMMARY:St Crpox Valley Genealogical Society (Darcy Boock
DESCRIPTION:
URL:https://www.hopelutheranrf.com/event/st-crpox-valley-genealogical-society-darcy-boock/
LOCATION:HOPE Lutheran Church\, 3337 Kingsbarn Ave\, River Falls\, WI\, 54022\, United States
GEO:44.898581;-92.6327652
X-APPLE-STRUCTURED-LOCATION;VALUE=URI;X-ADDRESS=HOPE Lutheran Church 3337 Kingsbarn Ave River Falls WI 54022 United States;X-APPLE-RADIUS=500;X-TITLE=3337 Kingsbarn Ave:geo:-92.6327652,44.898581
END:VEVENT
BEGIN:VEVENT
DTSTART;TZID=America/New_York:20251213T093000
DTEND;TZID=America/New_York:20251213T103000
DTSTAMP:20260424T235019
CREATED:20250909T165232Z
LAST-MODIFIED:20250909T165232Z
UID:14708-1765618200-1765621800@www.hopelutheranrf.com
SUMMARY:Carols and Candles Rehearsal
DESCRIPTION:
URL:https://www.hopelutheranrf.com/event/carols-and-candles-rehearsal-8/
LOCATION:HOPE Lutheran Church\, 3337 Kingsbarn Ave\, River Falls\, WI\, 54022\, United States
GEO:44.898581;-92.6327652
X-APPLE-STRUCTURED-LOCATION;VALUE=URI;X-ADDRESS=HOPE Lutheran Church 3337 Kingsbarn Ave River Falls WI 54022 United States;X-APPLE-RADIUS=500;X-TITLE=3337 Kingsbarn Ave:geo:-92.6327652,44.898581
END:VEVENT
BEGIN:VEVENT
DTSTART;TZID=America/New_York:20251214T160000
DTEND;TZID=America/New_York:20251214T180000
DTSTAMP:20260424T235019
CREATED:20250819T132756Z
LAST-MODIFIED:20250819T132756Z
UID:14656-1765728000-1765735200@www.hopelutheranrf.com
SUMMARY:Carols and Candles
DESCRIPTION:
URL:https://www.hopelutheranrf.com/event/carols-and-candles-3/
LOCATION:HOPE Lutheran Church\, 3337 Kingsbarn Ave\, River Falls\, WI\, 54022\, United States
GEO:44.898581;-92.6327652
X-APPLE-STRUCTURED-LOCATION;VALUE=URI;X-ADDRESS=HOPE Lutheran Church 3337 Kingsbarn Ave River Falls WI 54022 United States;X-APPLE-RADIUS=500;X-TITLE=3337 Kingsbarn Ave:geo:-92.6327652,44.898581
END:VEVENT
BEGIN:VEVENT
DTSTART;TZID=America/New_York:20251215T100000
DTEND;TZID=America/New_York:20251215T110000
DTSTAMP:20260424T235019
CREATED:20250107T165728Z
LAST-MODIFIED:20250107T165728Z
UID:14200-1765792800-1765796400@www.hopelutheranrf.com
SUMMARY:Coffee & Faithful Conversation
DESCRIPTION:
URL:https://www.hopelutheranrf.com/event/coffee-faithful-conversation-6/2025-12-15/
LOCATION:HOPE Lutheran Church\, 3337 Kingsbarn Ave\, River Falls\, WI\, 54022\, United States
GEO:44.898581;-92.6327652
X-APPLE-STRUCTURED-LOCATION;VALUE=URI;X-ADDRESS=HOPE Lutheran Church 3337 Kingsbarn Ave River Falls WI 54022 United States;X-APPLE-RADIUS=500;X-TITLE=3337 Kingsbarn Ave:geo:-92.6327652,44.898581
END:VEVENT
BEGIN:VEVENT
DTSTART;TZID=America/New_York:20251216T183000
DTEND;TZID=America/New_York:20251216T193000
DTSTAMP:20260424T235019
CREATED:20180123T192118Z
LAST-MODIFIED:20180123T192118Z
UID:13239-1765909800-1765913400@www.hopelutheranrf.com
SUMMARY:Council Ministry
DESCRIPTION:
URL:https://www.hopelutheranrf.com/event/council-ministry/2025-12-16/
LOCATION:HOPE Lutheran Church\, 3337 Kingsbarn Ave\, River Falls\, WI\, 54022\, United States
GEO:44.898581;-92.6327652
X-APPLE-STRUCTURED-LOCATION;VALUE=URI;X-ADDRESS=HOPE Lutheran Church 3337 Kingsbarn Ave River Falls WI 54022 United States;X-APPLE-RADIUS=500;X-TITLE=3337 Kingsbarn Ave:geo:-92.6327652,44.898581
END:VEVENT
BEGIN:VEVENT
DTSTART;TZID=America/New_York:20251222T100000
DTEND;TZID=America/New_York:20251222T110000
DTSTAMP:20260424T235019
CREATED:20250107T165728Z
LAST-MODIFIED:20250107T165728Z
UID:14201-1766397600-1766401200@www.hopelutheranrf.com
SUMMARY:Coffee & Faithful Conversation
DESCRIPTION:
URL:https://www.hopelutheranrf.com/event/coffee-faithful-conversation-6/2025-12-22/
LOCATION:HOPE Lutheran Church\, 3337 Kingsbarn Ave\, River Falls\, WI\, 54022\, United States
GEO:44.898581;-92.6327652
X-APPLE-STRUCTURED-LOCATION;VALUE=URI;X-ADDRESS=HOPE Lutheran Church 3337 Kingsbarn Ave River Falls WI 54022 United States;X-APPLE-RADIUS=500;X-TITLE=3337 Kingsbarn Ave:geo:-92.6327652,44.898581
END:VEVENT
BEGIN:VEVENT
DTSTART;VALUE=DATE:20251224
DTEND;VALUE=DATE:20251225
DTSTAMP:20260424T235019
CREATED:20250107T191454Z
LAST-MODIFIED:20250107T191454Z
UID:14221-1766534400-1766620799@www.hopelutheranrf.com
SUMMARY:Christmas Eve
DESCRIPTION:
URL:https://www.hopelutheranrf.com/event/christmas-eve-4/
LOCATION:HOPE Lutheran Church\, 3337 Kingsbarn Ave\, River Falls\, WI\, 54022\, United States
GEO:44.898581;-92.6327652
X-APPLE-STRUCTURED-LOCATION;VALUE=URI;X-ADDRESS=HOPE Lutheran Church 3337 Kingsbarn Ave River Falls WI 54022 United States;X-APPLE-RADIUS=500;X-TITLE=3337 Kingsbarn Ave:geo:-92.6327652,44.898581
END:VEVENT
BEGIN:VEVENT
DTSTART;VALUE=DATE:20251225
DTEND;VALUE=DATE:20251226
DTSTAMP:20260424T235019
CREATED:20250107T191526Z
LAST-MODIFIED:20250107T191526Z
UID:14223-1766620800-1766707199@www.hopelutheranrf.com
SUMMARY:Christmas Day
DESCRIPTION:
URL:https://www.hopelutheranrf.com/event/christmas-day-5/
LOCATION:HOPE Lutheran Church\, 3337 Kingsbarn Ave\, River Falls\, WI\, 54022\, United States
GEO:44.898581;-92.6327652
X-APPLE-STRUCTURED-LOCATION;VALUE=URI;X-ADDRESS=HOPE Lutheran Church 3337 Kingsbarn Ave River Falls WI 54022 United States;X-APPLE-RADIUS=500;X-TITLE=3337 Kingsbarn Ave:geo:-92.6327652,44.898581
END:VEVENT
END:VCALENDAR