BEGIN:VCALENDAR
VERSION:2.0
PRODID:-//Welcome to HOPE Lutheran Church - ECPv6.15.20//NONSGML v1.0//EN
CALSCALE:GREGORIAN
METHOD:PUBLISH
X-WR-CALNAME:Welcome to HOPE Lutheran Church
X-ORIGINAL-URL:https://www.hopelutheranrf.com
X-WR-CALDESC:Events for Welcome to HOPE Lutheran Church
REFRESH-INTERVAL;VALUE=DURATION:PT1H
X-Robots-Tag:noindex
X-PUBLISHED-TTL:PT1H
BEGIN:VTIMEZONE
TZID:America/New_York
BEGIN:DAYLIGHT
TZOFFSETFROM:-0500
TZOFFSETTO:-0400
TZNAME:EDT
DTSTART:20240310T070000
END:DAYLIGHT
BEGIN:STANDARD
TZOFFSETFROM:-0400
TZOFFSETTO:-0500
TZNAME:EST
DTSTART:20241103T060000
END:STANDARD
BEGIN:DAYLIGHT
TZOFFSETFROM:-0500
TZOFFSETTO:-0400
TZNAME:EDT
DTSTART:20250309T070000
END:DAYLIGHT
BEGIN:STANDARD
TZOFFSETFROM:-0400
TZOFFSETTO:-0500
TZNAME:EST
DTSTART:20251102T060000
END:STANDARD
BEGIN:DAYLIGHT
TZOFFSETFROM:-0500
TZOFFSETTO:-0400
TZNAME:EDT
DTSTART:20260308T070000
END:DAYLIGHT
BEGIN:STANDARD
TZOFFSETFROM:-0400
TZOFFSETTO:-0500
TZNAME:EST
DTSTART:20261101T060000
END:STANDARD
END:VTIMEZONE
BEGIN:VEVENT
DTSTART;TZID=America/New_York:20251103T113000
DTEND;TZID=America/New_York:20251103T123000
DTSTAMP:20260424T231151
CREATED:20250203T200436Z
LAST-MODIFIED:20250203T200436Z
UID:14272-1762169400-1762173000@www.hopelutheranrf.com
SUMMARY:Congregational Life Meeting
DESCRIPTION:
URL:https://www.hopelutheranrf.com/event/congregational-life-meeting-2/2025-11-03/
LOCATION:HOPE Lutheran Church\, 3337 Kingsbarn Ave\, River Falls\, WI\, 54022\, United States
GEO:44.898581;-92.6327652
X-APPLE-STRUCTURED-LOCATION;VALUE=URI;X-ADDRESS=HOPE Lutheran Church 3337 Kingsbarn Ave River Falls WI 54022 United States;X-APPLE-RADIUS=500;X-TITLE=3337 Kingsbarn Ave:geo:-92.6327652,44.898581
END:VEVENT
BEGIN:VEVENT
DTSTART;TZID=America/New_York:20251103T100000
DTEND;TZID=America/New_York:20251103T110000
DTSTAMP:20260424T231151
CREATED:20250107T165728Z
LAST-MODIFIED:20250107T165728Z
UID:14194-1762164000-1762167600@www.hopelutheranrf.com
SUMMARY:Coffee & Faithful Conversation
DESCRIPTION:
URL:https://www.hopelutheranrf.com/event/coffee-faithful-conversation-6/2025-11-03/
LOCATION:HOPE Lutheran Church\, 3337 Kingsbarn Ave\, River Falls\, WI\, 54022\, United States
GEO:44.898581;-92.6327652
X-APPLE-STRUCTURED-LOCATION;VALUE=URI;X-ADDRESS=HOPE Lutheran Church 3337 Kingsbarn Ave River Falls WI 54022 United States;X-APPLE-RADIUS=500;X-TITLE=3337 Kingsbarn Ave:geo:-92.6327652,44.898581
END:VEVENT
BEGIN:VEVENT
DTSTART;VALUE=DATE:20251102
DTEND;VALUE=DATE:20251103
DTSTAMP:20260424T231151
CREATED:20250909T135520Z
LAST-MODIFIED:20250909T135520Z
UID:14695-1762041600-1762127999@www.hopelutheranrf.com
SUMMARY:Saints Sunday
DESCRIPTION:
URL:https://www.hopelutheranrf.com/event/saints-sunday/
LOCATION:HOPE Lutheran Church\, 3337 Kingsbarn Ave\, River Falls\, WI\, 54022\, United States
GEO:44.898581;-92.6327652
X-APPLE-STRUCTURED-LOCATION;VALUE=URI;X-ADDRESS=HOPE Lutheran Church 3337 Kingsbarn Ave River Falls WI 54022 United States;X-APPLE-RADIUS=500;X-TITLE=3337 Kingsbarn Ave:geo:-92.6327652,44.898581
END:VEVENT
BEGIN:VEVENT
DTSTART;TZID=America/New_York:20251029T174500
DTEND;TZID=America/New_York:20251029T193000
DTSTAMP:20260424T231151
CREATED:20250910T150315Z
LAST-MODIFIED:20250910T150315Z
UID:14718-1761759900-1761766200@www.hopelutheranrf.com
SUMMARY:Wednesdays of HOPE
DESCRIPTION:
URL:https://www.hopelutheranrf.com/event/wednesdays-of-hope-5/2025-10-29/
LOCATION:HOPE Lutheran Church\, 3337 Kingsbarn Ave\, River Falls\, WI\, 54022\, United States
GEO:44.898581;-92.6327652
X-APPLE-STRUCTURED-LOCATION;VALUE=URI;X-ADDRESS=HOPE Lutheran Church 3337 Kingsbarn Ave River Falls WI 54022 United States;X-APPLE-RADIUS=500;X-TITLE=3337 Kingsbarn Ave:geo:-92.6327652,44.898581
END:VEVENT
BEGIN:VEVENT
DTSTART;TZID=America/New_York:20251029T163000
DTEND;TZID=America/New_York:20251029T190000
DTSTAMP:20260424T231151
CREATED:20250909T134612Z
LAST-MODIFIED:20250909T134612Z
UID:14692-1761755400-1761764400@www.hopelutheranrf.com
SUMMARY:Trunk or Treat
DESCRIPTION:
URL:https://www.hopelutheranrf.com/event/trunk-or-treat-5/
LOCATION:HOPE Lutheran Church\, 3337 Kingsbarn Ave\, River Falls\, WI\, 54022\, United States
GEO:44.898581;-92.6327652
X-APPLE-STRUCTURED-LOCATION;VALUE=URI;X-ADDRESS=HOPE Lutheran Church 3337 Kingsbarn Ave River Falls WI 54022 United States;X-APPLE-RADIUS=500;X-TITLE=3337 Kingsbarn Ave:geo:-92.6327652,44.898581
END:VEVENT
BEGIN:VEVENT
DTSTART;TZID=America/New_York:20251027T100000
DTEND;TZID=America/New_York:20251027T110000
DTSTAMP:20260424T231151
CREATED:20250107T165728Z
LAST-MODIFIED:20250107T165728Z
UID:14193-1761559200-1761562800@www.hopelutheranrf.com
SUMMARY:Coffee & Faithful Conversation
DESCRIPTION:
URL:https://www.hopelutheranrf.com/event/coffee-faithful-conversation-6/2025-10-27/
LOCATION:HOPE Lutheran Church\, 3337 Kingsbarn Ave\, River Falls\, WI\, 54022\, United States
GEO:44.898581;-92.6327652
X-APPLE-STRUCTURED-LOCATION;VALUE=URI;X-ADDRESS=HOPE Lutheran Church 3337 Kingsbarn Ave River Falls WI 54022 United States;X-APPLE-RADIUS=500;X-TITLE=3337 Kingsbarn Ave:geo:-92.6327652,44.898581
END:VEVENT
BEGIN:VEVENT
DTSTART;TZID=America/New_York:20251026T110000
DTEND;TZID=America/New_York:20251026T130000
DTSTAMP:20260424T231151
CREATED:20250929T144522Z
LAST-MODIFIED:20250929T144522Z
UID:14779-1761476400-1761483600@www.hopelutheranrf.com
SUMMARY:Rodewald Baptism Luncheon
DESCRIPTION:
URL:https://www.hopelutheranrf.com/event/rodewald-baptism-luncheon/
LOCATION:HOPE Lutheran Church\, 3337 Kingsbarn Ave\, River Falls\, WI\, 54022\, United States
GEO:44.898581;-92.6327652
X-APPLE-STRUCTURED-LOCATION;VALUE=URI;X-ADDRESS=HOPE Lutheran Church 3337 Kingsbarn Ave River Falls WI 54022 United States;X-APPLE-RADIUS=500;X-TITLE=3337 Kingsbarn Ave:geo:-92.6327652,44.898581
END:VEVENT
BEGIN:VEVENT
DTSTART;VALUE=DATE:20251026
DTEND;VALUE=DATE:20251027
DTSTAMP:20260424T231151
CREATED:20250909T135448Z
LAST-MODIFIED:20250909T135448Z
UID:14694-1761436800-1761523199@www.hopelutheranrf.com
SUMMARY:Reformation Sunday
DESCRIPTION:
URL:https://www.hopelutheranrf.com/event/reformation-sunday-2/
LOCATION:HOPE Lutheran Church\, 3337 Kingsbarn Ave\, River Falls\, WI\, 54022\, United States
GEO:44.898581;-92.6327652
X-APPLE-STRUCTURED-LOCATION;VALUE=URI;X-ADDRESS=HOPE Lutheran Church 3337 Kingsbarn Ave River Falls WI 54022 United States;X-APPLE-RADIUS=500;X-TITLE=3337 Kingsbarn Ave:geo:-92.6327652,44.898581
END:VEVENT
BEGIN:VEVENT
DTSTART;TZID=America/New_York:20251022T174500
DTEND;TZID=America/New_York:20251022T193000
DTSTAMP:20260424T231151
CREATED:20250910T150315Z
LAST-MODIFIED:20250910T150315Z
UID:14717-1761155100-1761161400@www.hopelutheranrf.com
SUMMARY:Wednesdays of HOPE
DESCRIPTION:
URL:https://www.hopelutheranrf.com/event/wednesdays-of-hope-5/2025-10-22/
LOCATION:HOPE Lutheran Church\, 3337 Kingsbarn Ave\, River Falls\, WI\, 54022\, United States
GEO:44.898581;-92.6327652
X-APPLE-STRUCTURED-LOCATION;VALUE=URI;X-ADDRESS=HOPE Lutheran Church 3337 Kingsbarn Ave River Falls WI 54022 United States;X-APPLE-RADIUS=500;X-TITLE=3337 Kingsbarn Ave:geo:-92.6327652,44.898581
END:VEVENT
BEGIN:VEVENT
DTSTART;TZID=America/New_York:20251021T183000
DTEND;TZID=America/New_York:20251021T193000
DTSTAMP:20260424T231151
CREATED:20180123T192118Z
LAST-MODIFIED:20180123T192118Z
UID:13140-1761071400-1761075000@www.hopelutheranrf.com
SUMMARY:Council Ministry
DESCRIPTION:
URL:https://www.hopelutheranrf.com/event/council-ministry/2025-10-21/
LOCATION:HOPE Lutheran Church\, 3337 Kingsbarn Ave\, River Falls\, WI\, 54022\, United States
GEO:44.898581;-92.6327652
X-APPLE-STRUCTURED-LOCATION;VALUE=URI;X-ADDRESS=HOPE Lutheran Church 3337 Kingsbarn Ave River Falls WI 54022 United States;X-APPLE-RADIUS=500;X-TITLE=3337 Kingsbarn Ave:geo:-92.6327652,44.898581
END:VEVENT
BEGIN:VEVENT
DTSTART;TZID=America/New_York:20251020T100000
DTEND;TZID=America/New_York:20251020T110000
DTSTAMP:20260424T231151
CREATED:20250107T165728Z
LAST-MODIFIED:20250107T165728Z
UID:14192-1760954400-1760958000@www.hopelutheranrf.com
SUMMARY:Coffee & Faithful Conversation
DESCRIPTION:
URL:https://www.hopelutheranrf.com/event/coffee-faithful-conversation-6/2025-10-20/
LOCATION:HOPE Lutheran Church\, 3337 Kingsbarn Ave\, River Falls\, WI\, 54022\, United States
GEO:44.898581;-92.6327652
X-APPLE-STRUCTURED-LOCATION;VALUE=URI;X-ADDRESS=HOPE Lutheran Church 3337 Kingsbarn Ave River Falls WI 54022 United States;X-APPLE-RADIUS=500;X-TITLE=3337 Kingsbarn Ave:geo:-92.6327652,44.898581
END:VEVENT
BEGIN:VEVENT
DTSTART;TZID=America/New_York:20251018T150000
DTEND;TZID=America/New_York:20251018T190000
DTSTAMP:20260424T231151
CREATED:20251006T174245Z
LAST-MODIFIED:20251006T174245Z
UID:14789-1760799600-1760814000@www.hopelutheranrf.com
SUMMARY:Debra James Halloween Party
DESCRIPTION:
URL:https://www.hopelutheranrf.com/event/debra-james-halloween-party/
LOCATION:HOPE Lutheran Church\, 3337 Kingsbarn Ave\, River Falls\, WI\, 54022\, United States
GEO:44.898581;-92.6327652
X-APPLE-STRUCTURED-LOCATION;VALUE=URI;X-ADDRESS=HOPE Lutheran Church 3337 Kingsbarn Ave River Falls WI 54022 United States;X-APPLE-RADIUS=500;X-TITLE=3337 Kingsbarn Ave:geo:-92.6327652,44.898581
END:VEVENT
BEGIN:VEVENT
DTSTART;TZID=America/New_York:20251015T174500
DTEND;TZID=America/New_York:20251015T193000
DTSTAMP:20260424T231151
CREATED:20250910T150315Z
LAST-MODIFIED:20250910T150315Z
UID:14716-1760550300-1760556600@www.hopelutheranrf.com
SUMMARY:Wednesdays of HOPE
DESCRIPTION:
URL:https://www.hopelutheranrf.com/event/wednesdays-of-hope-5/2025-10-15/
LOCATION:HOPE Lutheran Church\, 3337 Kingsbarn Ave\, River Falls\, WI\, 54022\, United States
GEO:44.898581;-92.6327652
X-APPLE-STRUCTURED-LOCATION;VALUE=URI;X-ADDRESS=HOPE Lutheran Church 3337 Kingsbarn Ave River Falls WI 54022 United States;X-APPLE-RADIUS=500;X-TITLE=3337 Kingsbarn Ave:geo:-92.6327652,44.898581
END:VEVENT
BEGIN:VEVENT
DTSTART;TZID=America/New_York:20251013T100000
DTEND;TZID=America/New_York:20251013T110000
DTSTAMP:20260424T231151
CREATED:20250107T165728Z
LAST-MODIFIED:20250107T165728Z
UID:14191-1760349600-1760353200@www.hopelutheranrf.com
SUMMARY:Coffee & Faithful Conversation
DESCRIPTION:
URL:https://www.hopelutheranrf.com/event/coffee-faithful-conversation-6/2025-10-13/
LOCATION:HOPE Lutheran Church\, 3337 Kingsbarn Ave\, River Falls\, WI\, 54022\, United States
GEO:44.898581;-92.6327652
X-APPLE-STRUCTURED-LOCATION;VALUE=URI;X-ADDRESS=HOPE Lutheran Church 3337 Kingsbarn Ave River Falls WI 54022 United States;X-APPLE-RADIUS=500;X-TITLE=3337 Kingsbarn Ave:geo:-92.6327652,44.898581
END:VEVENT
BEGIN:VEVENT
DTSTART;TZID=America/New_York:20251008T174500
DTEND;TZID=America/New_York:20251008T193000
DTSTAMP:20260424T231151
CREATED:20250910T150315Z
LAST-MODIFIED:20250910T150315Z
UID:14715-1759945500-1759951800@www.hopelutheranrf.com
SUMMARY:Wednesdays of HOPE
DESCRIPTION:
URL:https://www.hopelutheranrf.com/event/wednesdays-of-hope-5/2025-10-08/
LOCATION:HOPE Lutheran Church\, 3337 Kingsbarn Ave\, River Falls\, WI\, 54022\, United States
GEO:44.898581;-92.6327652
X-APPLE-STRUCTURED-LOCATION;VALUE=URI;X-ADDRESS=HOPE Lutheran Church 3337 Kingsbarn Ave River Falls WI 54022 United States;X-APPLE-RADIUS=500;X-TITLE=3337 Kingsbarn Ave:geo:-92.6327652,44.898581
END:VEVENT
BEGIN:VEVENT
DTSTART;TZID=America/New_York:20251007T190000
DTEND;TZID=America/New_York:20251007T200000
DTSTAMP:20260424T231151
CREATED:20250205T150042Z
LAST-MODIFIED:20250205T150042Z
UID:14312-1759863600-1759867200@www.hopelutheranrf.com
SUMMARY:Communication Ministry Meeting
DESCRIPTION:
URL:https://www.hopelutheranrf.com/event/communication-ministry-meeting-5/2025-10-07/
LOCATION:HOPE Lutheran Church\, 3337 Kingsbarn Ave\, River Falls\, WI\, 54022\, United States
GEO:44.898581;-92.6327652
X-APPLE-STRUCTURED-LOCATION;VALUE=URI;X-ADDRESS=HOPE Lutheran Church 3337 Kingsbarn Ave River Falls WI 54022 United States;X-APPLE-RADIUS=500;X-TITLE=3337 Kingsbarn Ave:geo:-92.6327652,44.898581
END:VEVENT
BEGIN:VEVENT
DTSTART;TZID=America/New_York:20251007T183000
DTEND;TZID=America/New_York:20251007T193000
DTSTAMP:20260424T231151
CREATED:20250205T145504Z
LAST-MODIFIED:20250205T145504Z
UID:14284-1759861800-1759865400@www.hopelutheranrf.com
SUMMARY:Property Ministry Meeting
DESCRIPTION:
URL:https://www.hopelutheranrf.com/event/property-ministry-meeting-10/2025-10-07/
LOCATION:HOPE Lutheran Church\, 3337 Kingsbarn Ave\, River Falls\, WI\, 54022\, United States
GEO:44.898581;-92.6327652
X-APPLE-STRUCTURED-LOCATION;VALUE=URI;X-ADDRESS=HOPE Lutheran Church 3337 Kingsbarn Ave River Falls WI 54022 United States;X-APPLE-RADIUS=500;X-TITLE=3337 Kingsbarn Ave:geo:-92.6327652,44.898581
END:VEVENT
BEGIN:VEVENT
DTSTART;TZID=America/New_York:20251006T113000
DTEND;TZID=America/New_York:20251006T123000
DTSTAMP:20260424T231151
CREATED:20250203T200436Z
LAST-MODIFIED:20250203T200436Z
UID:14271-1759750200-1759753800@www.hopelutheranrf.com
SUMMARY:Congregational Life Meeting
DESCRIPTION:
URL:https://www.hopelutheranrf.com/event/congregational-life-meeting-2/2025-10-06/
LOCATION:HOPE Lutheran Church\, 3337 Kingsbarn Ave\, River Falls\, WI\, 54022\, United States
GEO:44.898581;-92.6327652
X-APPLE-STRUCTURED-LOCATION;VALUE=URI;X-ADDRESS=HOPE Lutheran Church 3337 Kingsbarn Ave River Falls WI 54022 United States;X-APPLE-RADIUS=500;X-TITLE=3337 Kingsbarn Ave:geo:-92.6327652,44.898581
END:VEVENT
BEGIN:VEVENT
DTSTART;TZID=America/New_York:20251006T100000
DTEND;TZID=America/New_York:20251006T110000
DTSTAMP:20260424T231151
CREATED:20250107T165728Z
LAST-MODIFIED:20250107T165728Z
UID:14190-1759744800-1759748400@www.hopelutheranrf.com
SUMMARY:Coffee & Faithful Conversation
DESCRIPTION:
URL:https://www.hopelutheranrf.com/event/coffee-faithful-conversation-6/2025-10-06/
LOCATION:HOPE Lutheran Church\, 3337 Kingsbarn Ave\, River Falls\, WI\, 54022\, United States
GEO:44.898581;-92.6327652
X-APPLE-STRUCTURED-LOCATION;VALUE=URI;X-ADDRESS=HOPE Lutheran Church 3337 Kingsbarn Ave River Falls WI 54022 United States;X-APPLE-RADIUS=500;X-TITLE=3337 Kingsbarn Ave:geo:-92.6327652,44.898581
END:VEVENT
BEGIN:VEVENT
DTSTART;TZID=America/New_York:20251002T190000
DTEND;TZID=America/New_York:20251002T200000
DTSTAMP:20260424T231151
CREATED:20250205T145823Z
LAST-MODIFIED:20250205T145823Z
UID:14298-1759431600-1759435200@www.hopelutheranrf.com
SUMMARY:Mission Ministry Meeting
DESCRIPTION:
URL:https://www.hopelutheranrf.com/event/mission-ministry-meeting-7/2025-10-02/
LOCATION:HOPE Lutheran Church\, 3337 Kingsbarn Ave\, River Falls\, WI\, 54022\, United States
GEO:44.898581;-92.6327652
X-APPLE-STRUCTURED-LOCATION;VALUE=URI;X-ADDRESS=HOPE Lutheran Church 3337 Kingsbarn Ave River Falls WI 54022 United States;X-APPLE-RADIUS=500;X-TITLE=3337 Kingsbarn Ave:geo:-92.6327652,44.898581
END:VEVENT
BEGIN:VEVENT
DTSTART;TZID=America/New_York:20251001T174500
DTEND;TZID=America/New_York:20251001T193000
DTSTAMP:20260424T231151
CREATED:20250910T150315Z
LAST-MODIFIED:20250910T150315Z
UID:14714-1759340700-1759347000@www.hopelutheranrf.com
SUMMARY:Wednesdays of HOPE
DESCRIPTION:
URL:https://www.hopelutheranrf.com/event/wednesdays-of-hope-5/2025-10-01/
LOCATION:HOPE Lutheran Church\, 3337 Kingsbarn Ave\, River Falls\, WI\, 54022\, United States
GEO:44.898581;-92.6327652
X-APPLE-STRUCTURED-LOCATION;VALUE=URI;X-ADDRESS=HOPE Lutheran Church 3337 Kingsbarn Ave River Falls WI 54022 United States;X-APPLE-RADIUS=500;X-TITLE=3337 Kingsbarn Ave:geo:-92.6327652,44.898581
END:VEVENT
BEGIN:VEVENT
DTSTART;TZID=America/New_York:20250929T100000
DTEND;TZID=America/New_York:20250929T110000
DTSTAMP:20260424T231151
CREATED:20250107T165728Z
LAST-MODIFIED:20250107T165728Z
UID:14189-1759140000-1759143600@www.hopelutheranrf.com
SUMMARY:Coffee & Faithful Conversation
DESCRIPTION:
URL:https://www.hopelutheranrf.com/event/coffee-faithful-conversation-6/2025-09-29/
LOCATION:HOPE Lutheran Church\, 3337 Kingsbarn Ave\, River Falls\, WI\, 54022\, United States
GEO:44.898581;-92.6327652
X-APPLE-STRUCTURED-LOCATION;VALUE=URI;X-ADDRESS=HOPE Lutheran Church 3337 Kingsbarn Ave River Falls WI 54022 United States;X-APPLE-RADIUS=500;X-TITLE=3337 Kingsbarn Ave:geo:-92.6327652,44.898581
END:VEVENT
BEGIN:VEVENT
DTSTART;TZID=America/New_York:20250924T174500
DTEND;TZID=America/New_York:20250924T193000
DTSTAMP:20260424T231151
CREATED:20250910T150315Z
LAST-MODIFIED:20250910T150315Z
UID:14713-1758735900-1758742200@www.hopelutheranrf.com
SUMMARY:Wednesdays of HOPE
DESCRIPTION:
URL:https://www.hopelutheranrf.com/event/wednesdays-of-hope-5/2025-09-24/
LOCATION:HOPE Lutheran Church\, 3337 Kingsbarn Ave\, River Falls\, WI\, 54022\, United States
GEO:44.898581;-92.6327652
X-APPLE-STRUCTURED-LOCATION;VALUE=URI;X-ADDRESS=HOPE Lutheran Church 3337 Kingsbarn Ave River Falls WI 54022 United States;X-APPLE-RADIUS=500;X-TITLE=3337 Kingsbarn Ave:geo:-92.6327652,44.898581
END:VEVENT
BEGIN:VEVENT
DTSTART;TZID=America/New_York:20250922T100000
DTEND;TZID=America/New_York:20250922T110000
DTSTAMP:20260424T231151
CREATED:20250107T165728Z
LAST-MODIFIED:20250107T165728Z
UID:14188-1758535200-1758538800@www.hopelutheranrf.com
SUMMARY:Coffee & Faithful Conversation
DESCRIPTION:
URL:https://www.hopelutheranrf.com/event/coffee-faithful-conversation-6/2025-09-22/
LOCATION:HOPE Lutheran Church\, 3337 Kingsbarn Ave\, River Falls\, WI\, 54022\, United States
GEO:44.898581;-92.6327652
X-APPLE-STRUCTURED-LOCATION;VALUE=URI;X-ADDRESS=HOPE Lutheran Church 3337 Kingsbarn Ave River Falls WI 54022 United States;X-APPLE-RADIUS=500;X-TITLE=3337 Kingsbarn Ave:geo:-92.6327652,44.898581
END:VEVENT
BEGIN:VEVENT
DTSTART;TZID=America/New_York:20250917T174500
DTEND;TZID=America/New_York:20250917T193000
DTSTAMP:20260424T231151
CREATED:20250910T150315Z
LAST-MODIFIED:20250910T150315Z
UID:14712-1758131100-1758137400@www.hopelutheranrf.com
SUMMARY:Wednesdays of HOPE
DESCRIPTION:
URL:https://www.hopelutheranrf.com/event/wednesdays-of-hope-5/2025-09-17/
LOCATION:HOPE Lutheran Church\, 3337 Kingsbarn Ave\, River Falls\, WI\, 54022\, United States
GEO:44.898581;-92.6327652
X-APPLE-STRUCTURED-LOCATION;VALUE=URI;X-ADDRESS=HOPE Lutheran Church 3337 Kingsbarn Ave River Falls WI 54022 United States;X-APPLE-RADIUS=500;X-TITLE=3337 Kingsbarn Ave:geo:-92.6327652,44.898581
END:VEVENT
BEGIN:VEVENT
DTSTART;TZID=America/New_York:20250916T183000
DTEND;TZID=America/New_York:20250916T193000
DTSTAMP:20260424T231151
CREATED:20180123T192118Z
LAST-MODIFIED:20180123T192118Z
UID:12927-1758047400-1758051000@www.hopelutheranrf.com
SUMMARY:Council Ministry
DESCRIPTION:
URL:https://www.hopelutheranrf.com/event/council-ministry/2025-09-16/
LOCATION:HOPE Lutheran Church\, 3337 Kingsbarn Ave\, River Falls\, WI\, 54022\, United States
GEO:44.898581;-92.6327652
X-APPLE-STRUCTURED-LOCATION;VALUE=URI;X-ADDRESS=HOPE Lutheran Church 3337 Kingsbarn Ave River Falls WI 54022 United States;X-APPLE-RADIUS=500;X-TITLE=3337 Kingsbarn Ave:geo:-92.6327652,44.898581
END:VEVENT
BEGIN:VEVENT
DTSTART;TZID=America/New_York:20250915T100000
DTEND;TZID=America/New_York:20250915T110000
DTSTAMP:20260424T231151
CREATED:20250107T165728Z
LAST-MODIFIED:20250107T165728Z
UID:14187-1757930400-1757934000@www.hopelutheranrf.com
SUMMARY:Coffee & Faithful Conversation
DESCRIPTION:
URL:https://www.hopelutheranrf.com/event/coffee-faithful-conversation-6/2025-09-15/
LOCATION:HOPE Lutheran Church\, 3337 Kingsbarn Ave\, River Falls\, WI\, 54022\, United States
GEO:44.898581;-92.6327652
X-APPLE-STRUCTURED-LOCATION;VALUE=URI;X-ADDRESS=HOPE Lutheran Church 3337 Kingsbarn Ave River Falls WI 54022 United States;X-APPLE-RADIUS=500;X-TITLE=3337 Kingsbarn Ave:geo:-92.6327652,44.898581
END:VEVENT
BEGIN:VEVENT
DTSTART;TZID=America/New_York:20250914T093000
DTEND;TZID=America/New_York:20250914T120000
DTSTAMP:20260424T231151
CREATED:20250819T154114Z
LAST-MODIFIED:20250819T154114Z
UID:14660-1757842200-1757851200@www.hopelutheranrf.com
SUMMARY:God's Work Our Hands
DESCRIPTION:
URL:https://www.hopelutheranrf.com/event/gods-work-our-hands-5/
LOCATION:HOPE Lutheran Church\, 3337 Kingsbarn Ave\, River Falls\, WI\, 54022\, United States
GEO:44.898581;-92.6327652
X-APPLE-STRUCTURED-LOCATION;VALUE=URI;X-ADDRESS=HOPE Lutheran Church 3337 Kingsbarn Ave River Falls WI 54022 United States;X-APPLE-RADIUS=500;X-TITLE=3337 Kingsbarn Ave:geo:-92.6327652,44.898581
END:VEVENT
BEGIN:VEVENT
DTSTART;TZID=America/New_York:20250909T090000
DTEND;TZID=America/New_York:20250909T100000
DTSTAMP:20260424T231151
CREATED:20250819T132633Z
LAST-MODIFIED:20250819T132633Z
UID:14654-1757408400-1757412000@www.hopelutheranrf.com
SUMMARY:River Falls Ministerium
DESCRIPTION:
URL:https://www.hopelutheranrf.com/event/river-falls-ministerium/
LOCATION:HOPE Lutheran Church\, 3337 Kingsbarn Ave\, River Falls\, WI\, 54022\, United States
GEO:44.898581;-92.6327652
X-APPLE-STRUCTURED-LOCATION;VALUE=URI;X-ADDRESS=HOPE Lutheran Church 3337 Kingsbarn Ave River Falls WI 54022 United States;X-APPLE-RADIUS=500;X-TITLE=3337 Kingsbarn Ave:geo:-92.6327652,44.898581
END:VEVENT
BEGIN:VEVENT
DTSTART;TZID=America/New_York:20250908T100000
DTEND;TZID=America/New_York:20250908T110000
DTSTAMP:20260424T231151
CREATED:20250107T165728Z
LAST-MODIFIED:20250107T165728Z
UID:14186-1757325600-1757329200@www.hopelutheranrf.com
SUMMARY:Coffee & Faithful Conversation
DESCRIPTION:
URL:https://www.hopelutheranrf.com/event/coffee-faithful-conversation-6/2025-09-08/
LOCATION:HOPE Lutheran Church\, 3337 Kingsbarn Ave\, River Falls\, WI\, 54022\, United States
GEO:44.898581;-92.6327652
X-APPLE-STRUCTURED-LOCATION;VALUE=URI;X-ADDRESS=HOPE Lutheran Church 3337 Kingsbarn Ave River Falls WI 54022 United States;X-APPLE-RADIUS=500;X-TITLE=3337 Kingsbarn Ave:geo:-92.6327652,44.898581
END:VEVENT
END:VCALENDAR