BEGIN:VCALENDAR
VERSION:2.0
PRODID:-//Welcome to HOPE Lutheran Church - ECPv6.15.20//NONSGML v1.0//EN
CALSCALE:GREGORIAN
METHOD:PUBLISH
X-ORIGINAL-URL:https://www.hopelutheranrf.com
X-WR-CALDESC:Events for Welcome to HOPE Lutheran Church
REFRESH-INTERVAL;VALUE=DURATION:PT1H
X-Robots-Tag:noindex
X-PUBLISHED-TTL:PT1H
BEGIN:VTIMEZONE
TZID:America/New_York
BEGIN:DAYLIGHT
TZOFFSETFROM:-0500
TZOFFSETTO:-0400
TZNAME:EDT
DTSTART:20250309T070000
END:DAYLIGHT
BEGIN:STANDARD
TZOFFSETFROM:-0400
TZOFFSETTO:-0500
TZNAME:EST
DTSTART:20251102T060000
END:STANDARD
BEGIN:DAYLIGHT
TZOFFSETFROM:-0500
TZOFFSETTO:-0400
TZNAME:EDT
DTSTART:20260308T070000
END:DAYLIGHT
BEGIN:STANDARD
TZOFFSETFROM:-0400
TZOFFSETTO:-0500
TZNAME:EST
DTSTART:20261101T060000
END:STANDARD
BEGIN:DAYLIGHT
TZOFFSETFROM:-0500
TZOFFSETTO:-0400
TZNAME:EDT
DTSTART:20270314T070000
END:DAYLIGHT
BEGIN:STANDARD
TZOFFSETFROM:-0400
TZOFFSETTO:-0500
TZNAME:EST
DTSTART:20271107T060000
END:STANDARD
BEGIN:DAYLIGHT
TZOFFSETFROM:-0500
TZOFFSETTO:-0400
TZNAME:EDT
DTSTART:20280312T070000
END:DAYLIGHT
BEGIN:STANDARD
TZOFFSETFROM:-0400
TZOFFSETTO:-0500
TZNAME:EST
DTSTART:20281105T060000
END:STANDARD
END:VTIMEZONE
BEGIN:VEVENT
DTSTART;TZID=America/New_York:20260818T183000
DTEND;TZID=America/New_York:20260818T193000
DTSTAMP:20260424T154325
CREATED:20180123T192118Z
LAST-MODIFIED:20180123T192118Z
UID:13918-1787077800-1787081400@www.hopelutheranrf.com
SUMMARY:Council Ministry
DESCRIPTION:
URL:https://www.hopelutheranrf.com/event/council-ministry/2026-08-18/
LOCATION:HOPE Lutheran Church\, 3337 Kingsbarn Ave\, River Falls\, WI\, 54022\, United States
GEO:44.898581;-92.6327652
X-APPLE-STRUCTURED-LOCATION;VALUE=URI;X-ADDRESS=HOPE Lutheran Church 3337 Kingsbarn Ave River Falls WI 54022 United States;X-APPLE-RADIUS=500;X-TITLE=3337 Kingsbarn Ave:geo:-92.6327652,44.898581
END:VEVENT
BEGIN:VEVENT
DTSTART;TZID=America/New_York:20260901T183000
DTEND;TZID=America/New_York:20260901T193000
DTSTAMP:20260424T154325
CREATED:20260211T152225Z
LAST-MODIFIED:20260211T152225Z
UID:15052-1788287400-1788291000@www.hopelutheranrf.com
SUMMARY:Property Ministry Meeting
DESCRIPTION:
URL:https://www.hopelutheranrf.com/event/property-ministry-meeting-11/2026-09-01/
LOCATION:HOPE Lutheran Church\, 3337 Kingsbarn Ave\, River Falls\, WI\, 54022\, United States
GEO:44.898581;-92.6327652
X-APPLE-STRUCTURED-LOCATION;VALUE=URI;X-ADDRESS=HOPE Lutheran Church 3337 Kingsbarn Ave River Falls WI 54022 United States;X-APPLE-RADIUS=500;X-TITLE=3337 Kingsbarn Ave:geo:-92.6327652,44.898581
END:VEVENT
BEGIN:VEVENT
DTSTART;TZID=America/New_York:20260901T190000
DTEND;TZID=America/New_York:20260901T200000
DTSTAMP:20260424T154325
CREATED:20260211T152002Z
LAST-MODIFIED:20260211T152002Z
UID:15039-1788289200-1788292800@www.hopelutheranrf.com
SUMMARY:Communication Ministry Meeting
DESCRIPTION:
URL:https://www.hopelutheranrf.com/event/communication-ministry-meeting-6/2026-09-01/
LOCATION:HOPE Lutheran Church\, 3337 Kingsbarn Ave\, River Falls\, WI\, 54022\, United States
GEO:44.898581;-92.6327652
X-APPLE-STRUCTURED-LOCATION;VALUE=URI;X-ADDRESS=HOPE Lutheran Church 3337 Kingsbarn Ave River Falls WI 54022 United States;X-APPLE-RADIUS=500;X-TITLE=3337 Kingsbarn Ave:geo:-92.6327652,44.898581
END:VEVENT
BEGIN:VEVENT
DTSTART;TZID=America/New_York:20260903T190000
DTEND;TZID=America/New_York:20260903T200000
DTSTAMP:20260424T154325
CREATED:20260211T151753Z
LAST-MODIFIED:20260211T151753Z
UID:15026-1788462000-1788465600@www.hopelutheranrf.com
SUMMARY:Mission Ministry Meeting
DESCRIPTION:
URL:https://www.hopelutheranrf.com/event/mission-ministry-meeting-8/2026-09-03/
LOCATION:HOPE Lutheran Church\, 3337 Kingsbarn Ave\, River Falls\, WI\, 54022\, United States
GEO:44.898581;-92.6327652
X-APPLE-STRUCTURED-LOCATION;VALUE=URI;X-ADDRESS=HOPE Lutheran Church 3337 Kingsbarn Ave River Falls WI 54022 United States;X-APPLE-RADIUS=500;X-TITLE=3337 Kingsbarn Ave:geo:-92.6327652,44.898581
END:VEVENT
BEGIN:VEVENT
DTSTART;TZID=America/New_York:20260907T113000
DTEND;TZID=America/New_York:20260907T170000
DTSTAMP:20260424T154325
CREATED:20260224T200456Z
LAST-MODIFIED:20260224T200456Z
UID:15113-1788780600-1788800400@www.hopelutheranrf.com
SUMMARY:Congregational Life Ministry Meeting
DESCRIPTION:
URL:https://www.hopelutheranrf.com/event/congregational-life-ministry-meeting/2026-09-07/
LOCATION:HOPE Lutheran Church\, 3337 Kingsbarn Ave\, River Falls\, WI\, 54022\, United States
GEO:44.898581;-92.6327652
X-APPLE-STRUCTURED-LOCATION;VALUE=URI;X-ADDRESS=HOPE Lutheran Church 3337 Kingsbarn Ave River Falls WI 54022 United States;X-APPLE-RADIUS=500;X-TITLE=3337 Kingsbarn Ave:geo:-92.6327652,44.898581
END:VEVENT
BEGIN:VEVENT
DTSTART;TZID=America/New_York:20260907T183000
DTEND;TZID=America/New_York:20260907T193000
DTSTAMP:20260424T154325
CREATED:20260211T152431Z
LAST-MODIFIED:20260211T152431Z
UID:15065-1788805800-1788809400@www.hopelutheranrf.com
SUMMARY:Worship Ministry Meeting
DESCRIPTION:
URL:https://www.hopelutheranrf.com/event/worship-ministry-meeting-4/2026-09-07/
LOCATION:HOPE Lutheran Church\, 3337 Kingsbarn Ave\, River Falls\, WI\, 54022\, United States
GEO:44.898581;-92.6327652
X-APPLE-STRUCTURED-LOCATION;VALUE=URI;X-ADDRESS=HOPE Lutheran Church 3337 Kingsbarn Ave River Falls WI 54022 United States;X-APPLE-RADIUS=500;X-TITLE=3337 Kingsbarn Ave:geo:-92.6327652,44.898581
END:VEVENT
BEGIN:VEVENT
DTSTART;VALUE=DATE:20260913
DTEND;VALUE=DATE:20260914
DTSTAMP:20260424T154325
CREATED:20260310T150126Z
LAST-MODIFIED:20260310T150126Z
UID:15156-1789257600-1789343999@www.hopelutheranrf.com
SUMMARY:God's Work Our Hands
DESCRIPTION:
URL:https://www.hopelutheranrf.com/event/gods-work-our-hands-6/
LOCATION:HOPE Lutheran Church\, 3337 Kingsbarn Ave\, River Falls\, WI\, 54022\, United States
GEO:44.898581;-92.6327652
X-APPLE-STRUCTURED-LOCATION;VALUE=URI;X-ADDRESS=HOPE Lutheran Church 3337 Kingsbarn Ave River Falls WI 54022 United States;X-APPLE-RADIUS=500;X-TITLE=3337 Kingsbarn Ave:geo:-92.6327652,44.898581
END:VEVENT
BEGIN:VEVENT
DTSTART;TZID=America/New_York:20260915T183000
DTEND;TZID=America/New_York:20260915T193000
DTSTAMP:20260424T154325
CREATED:20180123T192118Z
LAST-MODIFIED:20180123T192118Z
UID:13972-1789497000-1789500600@www.hopelutheranrf.com
SUMMARY:Council Ministry
DESCRIPTION:
URL:https://www.hopelutheranrf.com/event/council-ministry/2026-09-15/
LOCATION:HOPE Lutheran Church\, 3337 Kingsbarn Ave\, River Falls\, WI\, 54022\, United States
GEO:44.898581;-92.6327652
X-APPLE-STRUCTURED-LOCATION;VALUE=URI;X-ADDRESS=HOPE Lutheran Church 3337 Kingsbarn Ave River Falls WI 54022 United States;X-APPLE-RADIUS=500;X-TITLE=3337 Kingsbarn Ave:geo:-92.6327652,44.898581
END:VEVENT
BEGIN:VEVENT
DTSTART;TZID=America/New_York:20261001T190000
DTEND;TZID=America/New_York:20261001T200000
DTSTAMP:20260424T154325
CREATED:20260211T151753Z
LAST-MODIFIED:20260211T151753Z
UID:15027-1790881200-1790884800@www.hopelutheranrf.com
SUMMARY:Mission Ministry Meeting
DESCRIPTION:
URL:https://www.hopelutheranrf.com/event/mission-ministry-meeting-8/2026-10-01/
LOCATION:HOPE Lutheran Church\, 3337 Kingsbarn Ave\, River Falls\, WI\, 54022\, United States
GEO:44.898581;-92.6327652
X-APPLE-STRUCTURED-LOCATION;VALUE=URI;X-ADDRESS=HOPE Lutheran Church 3337 Kingsbarn Ave River Falls WI 54022 United States;X-APPLE-RADIUS=500;X-TITLE=3337 Kingsbarn Ave:geo:-92.6327652,44.898581
END:VEVENT
BEGIN:VEVENT
DTSTART;TZID=America/New_York:20261005T113000
DTEND;TZID=America/New_York:20261005T170000
DTSTAMP:20260424T154325
CREATED:20260224T200456Z
LAST-MODIFIED:20260224T200456Z
UID:15114-1791199800-1791219600@www.hopelutheranrf.com
SUMMARY:Congregational Life Ministry Meeting
DESCRIPTION:
URL:https://www.hopelutheranrf.com/event/congregational-life-ministry-meeting/2026-10-05/
LOCATION:HOPE Lutheran Church\, 3337 Kingsbarn Ave\, River Falls\, WI\, 54022\, United States
GEO:44.898581;-92.6327652
X-APPLE-STRUCTURED-LOCATION;VALUE=URI;X-ADDRESS=HOPE Lutheran Church 3337 Kingsbarn Ave River Falls WI 54022 United States;X-APPLE-RADIUS=500;X-TITLE=3337 Kingsbarn Ave:geo:-92.6327652,44.898581
END:VEVENT
BEGIN:VEVENT
DTSTART;TZID=America/New_York:20261005T183000
DTEND;TZID=America/New_York:20261005T193000
DTSTAMP:20260424T154325
CREATED:20260211T152431Z
LAST-MODIFIED:20260211T152431Z
UID:15066-1791225000-1791228600@www.hopelutheranrf.com
SUMMARY:Worship Ministry Meeting
DESCRIPTION:
URL:https://www.hopelutheranrf.com/event/worship-ministry-meeting-4/2026-10-05/
LOCATION:HOPE Lutheran Church\, 3337 Kingsbarn Ave\, River Falls\, WI\, 54022\, United States
GEO:44.898581;-92.6327652
X-APPLE-STRUCTURED-LOCATION;VALUE=URI;X-ADDRESS=HOPE Lutheran Church 3337 Kingsbarn Ave River Falls WI 54022 United States;X-APPLE-RADIUS=500;X-TITLE=3337 Kingsbarn Ave:geo:-92.6327652,44.898581
END:VEVENT
BEGIN:VEVENT
DTSTART;TZID=America/New_York:20261006T183000
DTEND;TZID=America/New_York:20261006T193000
DTSTAMP:20260424T154325
CREATED:20260211T152225Z
LAST-MODIFIED:20260211T152225Z
UID:15053-1791311400-1791315000@www.hopelutheranrf.com
SUMMARY:Property Ministry Meeting
DESCRIPTION:
URL:https://www.hopelutheranrf.com/event/property-ministry-meeting-11/2026-10-06/
LOCATION:HOPE Lutheran Church\, 3337 Kingsbarn Ave\, River Falls\, WI\, 54022\, United States
GEO:44.898581;-92.6327652
X-APPLE-STRUCTURED-LOCATION;VALUE=URI;X-ADDRESS=HOPE Lutheran Church 3337 Kingsbarn Ave River Falls WI 54022 United States;X-APPLE-RADIUS=500;X-TITLE=3337 Kingsbarn Ave:geo:-92.6327652,44.898581
END:VEVENT
BEGIN:VEVENT
DTSTART;TZID=America/New_York:20261006T190000
DTEND;TZID=America/New_York:20261006T200000
DTSTAMP:20260424T154325
CREATED:20260211T152002Z
LAST-MODIFIED:20260211T152002Z
UID:15040-1791313200-1791316800@www.hopelutheranrf.com
SUMMARY:Communication Ministry Meeting
DESCRIPTION:
URL:https://www.hopelutheranrf.com/event/communication-ministry-meeting-6/2026-10-06/
LOCATION:HOPE Lutheran Church\, 3337 Kingsbarn Ave\, River Falls\, WI\, 54022\, United States
GEO:44.898581;-92.6327652
X-APPLE-STRUCTURED-LOCATION;VALUE=URI;X-ADDRESS=HOPE Lutheran Church 3337 Kingsbarn Ave River Falls WI 54022 United States;X-APPLE-RADIUS=500;X-TITLE=3337 Kingsbarn Ave:geo:-92.6327652,44.898581
END:VEVENT
BEGIN:VEVENT
DTSTART;TZID=America/New_York:20261020T183000
DTEND;TZID=America/New_York:20261020T193000
DTSTAMP:20260424T154325
CREATED:20180123T192118Z
LAST-MODIFIED:20180123T192118Z
UID:14024-1792521000-1792524600@www.hopelutheranrf.com
SUMMARY:Council Ministry
DESCRIPTION:
URL:https://www.hopelutheranrf.com/event/council-ministry/2026-10-20/
LOCATION:HOPE Lutheran Church\, 3337 Kingsbarn Ave\, River Falls\, WI\, 54022\, United States
GEO:44.898581;-92.6327652
X-APPLE-STRUCTURED-LOCATION;VALUE=URI;X-ADDRESS=HOPE Lutheran Church 3337 Kingsbarn Ave River Falls WI 54022 United States;X-APPLE-RADIUS=500;X-TITLE=3337 Kingsbarn Ave:geo:-92.6327652,44.898581
END:VEVENT
BEGIN:VEVENT
DTSTART;TZID=America/New_York:20261102T113000
DTEND;TZID=America/New_York:20261102T170000
DTSTAMP:20260424T154325
CREATED:20260224T200456Z
LAST-MODIFIED:20260224T200456Z
UID:15115-1793619000-1793638800@www.hopelutheranrf.com
SUMMARY:Congregational Life Ministry Meeting
DESCRIPTION:
URL:https://www.hopelutheranrf.com/event/congregational-life-ministry-meeting/2026-11-02/
LOCATION:HOPE Lutheran Church\, 3337 Kingsbarn Ave\, River Falls\, WI\, 54022\, United States
GEO:44.898581;-92.6327652
X-APPLE-STRUCTURED-LOCATION;VALUE=URI;X-ADDRESS=HOPE Lutheran Church 3337 Kingsbarn Ave River Falls WI 54022 United States;X-APPLE-RADIUS=500;X-TITLE=3337 Kingsbarn Ave:geo:-92.6327652,44.898581
END:VEVENT
BEGIN:VEVENT
DTSTART;TZID=America/New_York:20261102T183000
DTEND;TZID=America/New_York:20261102T193000
DTSTAMP:20260424T154325
CREATED:20260211T152431Z
LAST-MODIFIED:20260211T152431Z
UID:15067-1793644200-1793647800@www.hopelutheranrf.com
SUMMARY:Worship Ministry Meeting
DESCRIPTION:
URL:https://www.hopelutheranrf.com/event/worship-ministry-meeting-4/2026-11-02/
LOCATION:HOPE Lutheran Church\, 3337 Kingsbarn Ave\, River Falls\, WI\, 54022\, United States
GEO:44.898581;-92.6327652
X-APPLE-STRUCTURED-LOCATION;VALUE=URI;X-ADDRESS=HOPE Lutheran Church 3337 Kingsbarn Ave River Falls WI 54022 United States;X-APPLE-RADIUS=500;X-TITLE=3337 Kingsbarn Ave:geo:-92.6327652,44.898581
END:VEVENT
BEGIN:VEVENT
DTSTART;TZID=America/New_York:20261103T183000
DTEND;TZID=America/New_York:20261103T193000
DTSTAMP:20260424T154325
CREATED:20260211T152225Z
LAST-MODIFIED:20260211T152225Z
UID:15054-1793730600-1793734200@www.hopelutheranrf.com
SUMMARY:Property Ministry Meeting
DESCRIPTION:
URL:https://www.hopelutheranrf.com/event/property-ministry-meeting-11/2026-11-03/
LOCATION:HOPE Lutheran Church\, 3337 Kingsbarn Ave\, River Falls\, WI\, 54022\, United States
GEO:44.898581;-92.6327652
X-APPLE-STRUCTURED-LOCATION;VALUE=URI;X-ADDRESS=HOPE Lutheran Church 3337 Kingsbarn Ave River Falls WI 54022 United States;X-APPLE-RADIUS=500;X-TITLE=3337 Kingsbarn Ave:geo:-92.6327652,44.898581
END:VEVENT
BEGIN:VEVENT
DTSTART;TZID=America/New_York:20261103T190000
DTEND;TZID=America/New_York:20261103T200000
DTSTAMP:20260424T154325
CREATED:20260211T152002Z
LAST-MODIFIED:20260211T152002Z
UID:15041-1793732400-1793736000@www.hopelutheranrf.com
SUMMARY:Communication Ministry Meeting
DESCRIPTION:
URL:https://www.hopelutheranrf.com/event/communication-ministry-meeting-6/2026-11-03/
LOCATION:HOPE Lutheran Church\, 3337 Kingsbarn Ave\, River Falls\, WI\, 54022\, United States
GEO:44.898581;-92.6327652
X-APPLE-STRUCTURED-LOCATION;VALUE=URI;X-ADDRESS=HOPE Lutheran Church 3337 Kingsbarn Ave River Falls WI 54022 United States;X-APPLE-RADIUS=500;X-TITLE=3337 Kingsbarn Ave:geo:-92.6327652,44.898581
END:VEVENT
BEGIN:VEVENT
DTSTART;TZID=America/New_York:20261105T190000
DTEND;TZID=America/New_York:20261105T200000
DTSTAMP:20260424T154325
CREATED:20260211T151753Z
LAST-MODIFIED:20260211T151753Z
UID:15028-1793905200-1793908800@www.hopelutheranrf.com
SUMMARY:Mission Ministry Meeting
DESCRIPTION:
URL:https://www.hopelutheranrf.com/event/mission-ministry-meeting-8/2026-11-05/
LOCATION:HOPE Lutheran Church\, 3337 Kingsbarn Ave\, River Falls\, WI\, 54022\, United States
GEO:44.898581;-92.6327652
X-APPLE-STRUCTURED-LOCATION;VALUE=URI;X-ADDRESS=HOPE Lutheran Church 3337 Kingsbarn Ave River Falls WI 54022 United States;X-APPLE-RADIUS=500;X-TITLE=3337 Kingsbarn Ave:geo:-92.6327652,44.898581
END:VEVENT
BEGIN:VEVENT
DTSTART;TZID=America/New_York:20261117T183000
DTEND;TZID=America/New_York:20261117T193000
DTSTAMP:20260424T154325
CREATED:20180123T192118Z
LAST-MODIFIED:20180123T192118Z
UID:14075-1794940200-1794943800@www.hopelutheranrf.com
SUMMARY:Council Ministry
DESCRIPTION:
URL:https://www.hopelutheranrf.com/event/council-ministry/2026-11-17/
LOCATION:HOPE Lutheran Church\, 3337 Kingsbarn Ave\, River Falls\, WI\, 54022\, United States
GEO:44.898581;-92.6327652
X-APPLE-STRUCTURED-LOCATION;VALUE=URI;X-ADDRESS=HOPE Lutheran Church 3337 Kingsbarn Ave River Falls WI 54022 United States;X-APPLE-RADIUS=500;X-TITLE=3337 Kingsbarn Ave:geo:-92.6327652,44.898581
END:VEVENT
BEGIN:VEVENT
DTSTART;TZID=America/New_York:20261201T183000
DTEND;TZID=America/New_York:20261201T193000
DTSTAMP:20260424T154325
CREATED:20260211T152225Z
LAST-MODIFIED:20260211T152225Z
UID:15055-1796149800-1796153400@www.hopelutheranrf.com
SUMMARY:Property Ministry Meeting
DESCRIPTION:
URL:https://www.hopelutheranrf.com/event/property-ministry-meeting-11/2026-12-01/
LOCATION:HOPE Lutheran Church\, 3337 Kingsbarn Ave\, River Falls\, WI\, 54022\, United States
GEO:44.898581;-92.6327652
X-APPLE-STRUCTURED-LOCATION;VALUE=URI;X-ADDRESS=HOPE Lutheran Church 3337 Kingsbarn Ave River Falls WI 54022 United States;X-APPLE-RADIUS=500;X-TITLE=3337 Kingsbarn Ave:geo:-92.6327652,44.898581
END:VEVENT
BEGIN:VEVENT
DTSTART;TZID=America/New_York:20261201T190000
DTEND;TZID=America/New_York:20261201T200000
DTSTAMP:20260424T154325
CREATED:20260211T152002Z
LAST-MODIFIED:20260211T152002Z
UID:15042-1796151600-1796155200@www.hopelutheranrf.com
SUMMARY:Communication Ministry Meeting
DESCRIPTION:
URL:https://www.hopelutheranrf.com/event/communication-ministry-meeting-6/2026-12-01/
LOCATION:HOPE Lutheran Church\, 3337 Kingsbarn Ave\, River Falls\, WI\, 54022\, United States
GEO:44.898581;-92.6327652
X-APPLE-STRUCTURED-LOCATION;VALUE=URI;X-ADDRESS=HOPE Lutheran Church 3337 Kingsbarn Ave River Falls WI 54022 United States;X-APPLE-RADIUS=500;X-TITLE=3337 Kingsbarn Ave:geo:-92.6327652,44.898581
END:VEVENT
BEGIN:VEVENT
DTSTART;TZID=America/New_York:20261203T190000
DTEND;TZID=America/New_York:20261203T200000
DTSTAMP:20260424T154325
CREATED:20260211T151753Z
LAST-MODIFIED:20260211T151753Z
UID:15029-1796324400-1796328000@www.hopelutheranrf.com
SUMMARY:Mission Ministry Meeting
DESCRIPTION:
URL:https://www.hopelutheranrf.com/event/mission-ministry-meeting-8/2026-12-03/
LOCATION:HOPE Lutheran Church\, 3337 Kingsbarn Ave\, River Falls\, WI\, 54022\, United States
GEO:44.898581;-92.6327652
X-APPLE-STRUCTURED-LOCATION;VALUE=URI;X-ADDRESS=HOPE Lutheran Church 3337 Kingsbarn Ave River Falls WI 54022 United States;X-APPLE-RADIUS=500;X-TITLE=3337 Kingsbarn Ave:geo:-92.6327652,44.898581
END:VEVENT
BEGIN:VEVENT
DTSTART;TZID=America/New_York:20261207T113000
DTEND;TZID=America/New_York:20261207T170000
DTSTAMP:20260424T154325
CREATED:20260224T200456Z
LAST-MODIFIED:20260224T200456Z
UID:15116-1796643000-1796662800@www.hopelutheranrf.com
SUMMARY:Congregational Life Ministry Meeting
DESCRIPTION:
URL:https://www.hopelutheranrf.com/event/congregational-life-ministry-meeting/2026-12-07/
LOCATION:HOPE Lutheran Church\, 3337 Kingsbarn Ave\, River Falls\, WI\, 54022\, United States
GEO:44.898581;-92.6327652
X-APPLE-STRUCTURED-LOCATION;VALUE=URI;X-ADDRESS=HOPE Lutheran Church 3337 Kingsbarn Ave River Falls WI 54022 United States;X-APPLE-RADIUS=500;X-TITLE=3337 Kingsbarn Ave:geo:-92.6327652,44.898581
END:VEVENT
BEGIN:VEVENT
DTSTART;TZID=America/New_York:20261207T183000
DTEND;TZID=America/New_York:20261207T193000
DTSTAMP:20260424T154325
CREATED:20260211T152431Z
LAST-MODIFIED:20260211T152431Z
UID:15068-1796668200-1796671800@www.hopelutheranrf.com
SUMMARY:Worship Ministry Meeting
DESCRIPTION:
URL:https://www.hopelutheranrf.com/event/worship-ministry-meeting-4/2026-12-07/
LOCATION:HOPE Lutheran Church\, 3337 Kingsbarn Ave\, River Falls\, WI\, 54022\, United States
GEO:44.898581;-92.6327652
X-APPLE-STRUCTURED-LOCATION;VALUE=URI;X-ADDRESS=HOPE Lutheran Church 3337 Kingsbarn Ave River Falls WI 54022 United States;X-APPLE-RADIUS=500;X-TITLE=3337 Kingsbarn Ave:geo:-92.6327652,44.898581
END:VEVENT
BEGIN:VEVENT
DTSTART;TZID=America/New_York:20261215T183000
DTEND;TZID=America/New_York:20261215T193000
DTSTAMP:20260424T154325
CREATED:20180123T192118Z
LAST-MODIFIED:20180123T192118Z
UID:14125-1797359400-1797363000@www.hopelutheranrf.com
SUMMARY:Council Ministry
DESCRIPTION:
URL:https://www.hopelutheranrf.com/event/council-ministry/2026-12-15/
LOCATION:HOPE Lutheran Church\, 3337 Kingsbarn Ave\, River Falls\, WI\, 54022\, United States
GEO:44.898581;-92.6327652
X-APPLE-STRUCTURED-LOCATION;VALUE=URI;X-ADDRESS=HOPE Lutheran Church 3337 Kingsbarn Ave River Falls WI 54022 United States;X-APPLE-RADIUS=500;X-TITLE=3337 Kingsbarn Ave:geo:-92.6327652,44.898581
END:VEVENT
BEGIN:VEVENT
DTSTART;TZID=America/New_York:20270104T113000
DTEND;TZID=America/New_York:20270104T170000
DTSTAMP:20260424T154325
CREATED:20260224T200456Z
LAST-MODIFIED:20260224T200456Z
UID:15117-1799062200-1799082000@www.hopelutheranrf.com
SUMMARY:Congregational Life Ministry Meeting
DESCRIPTION:
URL:https://www.hopelutheranrf.com/event/congregational-life-ministry-meeting/2027-01-04/
LOCATION:HOPE Lutheran Church\, 3337 Kingsbarn Ave\, River Falls\, WI\, 54022\, United States
GEO:44.898581;-92.6327652
X-APPLE-STRUCTURED-LOCATION;VALUE=URI;X-ADDRESS=HOPE Lutheran Church 3337 Kingsbarn Ave River Falls WI 54022 United States;X-APPLE-RADIUS=500;X-TITLE=3337 Kingsbarn Ave:geo:-92.6327652,44.898581
END:VEVENT
BEGIN:VEVENT
DTSTART;TZID=America/New_York:20270104T183000
DTEND;TZID=America/New_York:20270104T193000
DTSTAMP:20260424T154325
CREATED:20260211T152431Z
LAST-MODIFIED:20260211T152431Z
UID:15069-1799087400-1799091000@www.hopelutheranrf.com
SUMMARY:Worship Ministry Meeting
DESCRIPTION:
URL:https://www.hopelutheranrf.com/event/worship-ministry-meeting-4/2027-01-04/
LOCATION:HOPE Lutheran Church\, 3337 Kingsbarn Ave\, River Falls\, WI\, 54022\, United States
GEO:44.898581;-92.6327652
X-APPLE-STRUCTURED-LOCATION;VALUE=URI;X-ADDRESS=HOPE Lutheran Church 3337 Kingsbarn Ave River Falls WI 54022 United States;X-APPLE-RADIUS=500;X-TITLE=3337 Kingsbarn Ave:geo:-92.6327652,44.898581
END:VEVENT
BEGIN:VEVENT
DTSTART;TZID=America/New_York:20270105T183000
DTEND;TZID=America/New_York:20270105T193000
DTSTAMP:20260424T154325
CREATED:20260211T152225Z
LAST-MODIFIED:20260211T152225Z
UID:15056-1799173800-1799177400@www.hopelutheranrf.com
SUMMARY:Property Ministry Meeting
DESCRIPTION:
URL:https://www.hopelutheranrf.com/event/property-ministry-meeting-11/2027-01-05/
LOCATION:HOPE Lutheran Church\, 3337 Kingsbarn Ave\, River Falls\, WI\, 54022\, United States
GEO:44.898581;-92.6327652
X-APPLE-STRUCTURED-LOCATION;VALUE=URI;X-ADDRESS=HOPE Lutheran Church 3337 Kingsbarn Ave River Falls WI 54022 United States;X-APPLE-RADIUS=500;X-TITLE=3337 Kingsbarn Ave:geo:-92.6327652,44.898581
END:VEVENT
BEGIN:VEVENT
DTSTART;TZID=America/New_York:20270105T190000
DTEND;TZID=America/New_York:20270105T200000
DTSTAMP:20260424T154325
CREATED:20260211T152002Z
LAST-MODIFIED:20260211T152002Z
UID:15043-1799175600-1799179200@www.hopelutheranrf.com
SUMMARY:Communication Ministry Meeting
DESCRIPTION:
URL:https://www.hopelutheranrf.com/event/communication-ministry-meeting-6/2027-01-05/
LOCATION:HOPE Lutheran Church\, 3337 Kingsbarn Ave\, River Falls\, WI\, 54022\, United States
GEO:44.898581;-92.6327652
X-APPLE-STRUCTURED-LOCATION;VALUE=URI;X-ADDRESS=HOPE Lutheran Church 3337 Kingsbarn Ave River Falls WI 54022 United States;X-APPLE-RADIUS=500;X-TITLE=3337 Kingsbarn Ave:geo:-92.6327652,44.898581
END:VEVENT
END:VCALENDAR