BEGIN:VCALENDAR
VERSION:2.0
PRODID:-//Welcome to HOPE Lutheran Church - ECPv6.15.20//NONSGML v1.0//EN
CALSCALE:GREGORIAN
METHOD:PUBLISH
X-WR-CALNAME:Welcome to HOPE Lutheran Church
X-ORIGINAL-URL:https://www.hopelutheranrf.com
X-WR-CALDESC:Events for Welcome to HOPE Lutheran Church
REFRESH-INTERVAL;VALUE=DURATION:PT1H
X-Robots-Tag:noindex
X-PUBLISHED-TTL:PT1H
BEGIN:VTIMEZONE
TZID:America/New_York
BEGIN:DAYLIGHT
TZOFFSETFROM:-0500
TZOFFSETTO:-0400
TZNAME:EDT
DTSTART:20240310T070000
END:DAYLIGHT
BEGIN:STANDARD
TZOFFSETFROM:-0400
TZOFFSETTO:-0500
TZNAME:EST
DTSTART:20241103T060000
END:STANDARD
BEGIN:DAYLIGHT
TZOFFSETFROM:-0500
TZOFFSETTO:-0400
TZNAME:EDT
DTSTART:20250309T070000
END:DAYLIGHT
BEGIN:STANDARD
TZOFFSETFROM:-0400
TZOFFSETTO:-0500
TZNAME:EST
DTSTART:20251102T060000
END:STANDARD
BEGIN:DAYLIGHT
TZOFFSETFROM:-0500
TZOFFSETTO:-0400
TZNAME:EDT
DTSTART:20260308T070000
END:DAYLIGHT
BEGIN:STANDARD
TZOFFSETFROM:-0400
TZOFFSETTO:-0500
TZNAME:EST
DTSTART:20261101T060000
END:STANDARD
END:VTIMEZONE
BEGIN:VEVENT
DTSTART;VALUE=DATE:20251206
DTEND;VALUE=DATE:20251207
DTSTAMP:20260424T151913
CREATED:20250826T161617Z
LAST-MODIFIED:20250826T161617Z
UID:14670-1764979200-1765065599@www.hopelutheranrf.com
SUMMARY:Cameron Shea Birthday Party
DESCRIPTION:
URL:https://www.hopelutheranrf.com/event/cameron-shea-birthday-party/
LOCATION:HOPE Lutheran Church\, 3337 Kingsbarn Ave\, River Falls\, WI\, 54022\, United States
GEO:44.898581;-92.6327652
X-APPLE-STRUCTURED-LOCATION;VALUE=URI;X-ADDRESS=HOPE Lutheran Church 3337 Kingsbarn Ave River Falls WI 54022 United States;X-APPLE-RADIUS=500;X-TITLE=3337 Kingsbarn Ave:geo:-92.6327652,44.898581
END:VEVENT
BEGIN:VEVENT
DTSTART;TZID=America/New_York:20251206T093000
DTEND;TZID=America/New_York:20251206T170000
DTSTAMP:20260424T151913
CREATED:20251124T143216Z
LAST-MODIFIED:20251124T143216Z
UID:14868-1765013400-1765040400@www.hopelutheranrf.com
SUMMARY:Lefse Baking Day
DESCRIPTION:
URL:https://www.hopelutheranrf.com/event/lefse-baking-day/
LOCATION:HOPE Lutheran Church\, 3337 Kingsbarn Ave\, River Falls\, WI\, 54022\, United States
GEO:44.898581;-92.6327652
X-APPLE-STRUCTURED-LOCATION;VALUE=URI;X-ADDRESS=HOPE Lutheran Church 3337 Kingsbarn Ave River Falls WI 54022 United States;X-APPLE-RADIUS=500;X-TITLE=3337 Kingsbarn Ave:geo:-92.6327652,44.898581
END:VEVENT
END:VCALENDAR