BEGIN:VCALENDAR
VERSION:2.0
PRODID:-//Welcome to HOPE Lutheran Church - ECPv6.15.20//NONSGML v1.0//EN
CALSCALE:GREGORIAN
METHOD:PUBLISH
X-ORIGINAL-URL:https://www.hopelutheranrf.com
X-WR-CALDESC:Events for Welcome to HOPE Lutheran Church
REFRESH-INTERVAL;VALUE=DURATION:PT1H
X-Robots-Tag:noindex
X-PUBLISHED-TTL:PT1H
BEGIN:VTIMEZONE
TZID:America/New_York
BEGIN:DAYLIGHT
TZOFFSETFROM:-0500
TZOFFSETTO:-0400
TZNAME:EDT
DTSTART:20250309T070000
END:DAYLIGHT
BEGIN:STANDARD
TZOFFSETFROM:-0400
TZOFFSETTO:-0500
TZNAME:EST
DTSTART:20251102T060000
END:STANDARD
BEGIN:DAYLIGHT
TZOFFSETFROM:-0500
TZOFFSETTO:-0400
TZNAME:EDT
DTSTART:20260308T070000
END:DAYLIGHT
BEGIN:STANDARD
TZOFFSETFROM:-0400
TZOFFSETTO:-0500
TZNAME:EST
DTSTART:20261101T060000
END:STANDARD
BEGIN:DAYLIGHT
TZOFFSETFROM:-0500
TZOFFSETTO:-0400
TZNAME:EDT
DTSTART:20270314T070000
END:DAYLIGHT
BEGIN:STANDARD
TZOFFSETFROM:-0400
TZOFFSETTO:-0500
TZNAME:EST
DTSTART:20271107T060000
END:STANDARD
BEGIN:DAYLIGHT
TZOFFSETFROM:-0500
TZOFFSETTO:-0400
TZNAME:EDT
DTSTART:20280312T070000
END:DAYLIGHT
BEGIN:STANDARD
TZOFFSETFROM:-0400
TZOFFSETTO:-0500
TZNAME:EST
DTSTART:20281105T060000
END:STANDARD
END:VTIMEZONE
BEGIN:VEVENT
DTSTART;TZID=America/New_York:20260504T183000
DTEND;TZID=America/New_York:20260504T193000
DTSTAMP:20260424T092017
CREATED:20260211T152431Z
LAST-MODIFIED:20260211T152431Z
UID:15061-1777919400-1777923000@www.hopelutheranrf.com
SUMMARY:Worship Ministry Meeting
DESCRIPTION:
URL:https://www.hopelutheranrf.com/event/worship-ministry-meeting-4/2026-05-04/
LOCATION:HOPE Lutheran Church\, 3337 Kingsbarn Ave\, River Falls\, WI\, 54022\, United States
GEO:44.898581;-92.6327652
X-APPLE-STRUCTURED-LOCATION;VALUE=URI;X-ADDRESS=HOPE Lutheran Church 3337 Kingsbarn Ave River Falls WI 54022 United States;X-APPLE-RADIUS=500;X-TITLE=3337 Kingsbarn Ave:geo:-92.6327652,44.898581
END:VEVENT
BEGIN:VEVENT
DTSTART;TZID=America/New_York:20260601T183000
DTEND;TZID=America/New_York:20260601T193000
DTSTAMP:20260424T092017
CREATED:20260211T152431Z
LAST-MODIFIED:20260211T152431Z
UID:15062-1780338600-1780342200@www.hopelutheranrf.com
SUMMARY:Worship Ministry Meeting
DESCRIPTION:
URL:https://www.hopelutheranrf.com/event/worship-ministry-meeting-4/2026-06-01/
LOCATION:HOPE Lutheran Church\, 3337 Kingsbarn Ave\, River Falls\, WI\, 54022\, United States
GEO:44.898581;-92.6327652
X-APPLE-STRUCTURED-LOCATION;VALUE=URI;X-ADDRESS=HOPE Lutheran Church 3337 Kingsbarn Ave River Falls WI 54022 United States;X-APPLE-RADIUS=500;X-TITLE=3337 Kingsbarn Ave:geo:-92.6327652,44.898581
END:VEVENT
BEGIN:VEVENT
DTSTART;TZID=America/New_York:20260706T183000
DTEND;TZID=America/New_York:20260706T193000
DTSTAMP:20260424T092017
CREATED:20260211T152431Z
LAST-MODIFIED:20260211T152431Z
UID:15063-1783362600-1783366200@www.hopelutheranrf.com
SUMMARY:Worship Ministry Meeting
DESCRIPTION:
URL:https://www.hopelutheranrf.com/event/worship-ministry-meeting-4/2026-07-06/
LOCATION:HOPE Lutheran Church\, 3337 Kingsbarn Ave\, River Falls\, WI\, 54022\, United States
GEO:44.898581;-92.6327652
X-APPLE-STRUCTURED-LOCATION;VALUE=URI;X-ADDRESS=HOPE Lutheran Church 3337 Kingsbarn Ave River Falls WI 54022 United States;X-APPLE-RADIUS=500;X-TITLE=3337 Kingsbarn Ave:geo:-92.6327652,44.898581
END:VEVENT
BEGIN:VEVENT
DTSTART;TZID=America/New_York:20260803T183000
DTEND;TZID=America/New_York:20260803T193000
DTSTAMP:20260424T092017
CREATED:20260211T152431Z
LAST-MODIFIED:20260211T152431Z
UID:15064-1785781800-1785785400@www.hopelutheranrf.com
SUMMARY:Worship Ministry Meeting
DESCRIPTION:
URL:https://www.hopelutheranrf.com/event/worship-ministry-meeting-4/2026-08-03/
LOCATION:HOPE Lutheran Church\, 3337 Kingsbarn Ave\, River Falls\, WI\, 54022\, United States
GEO:44.898581;-92.6327652
X-APPLE-STRUCTURED-LOCATION;VALUE=URI;X-ADDRESS=HOPE Lutheran Church 3337 Kingsbarn Ave River Falls WI 54022 United States;X-APPLE-RADIUS=500;X-TITLE=3337 Kingsbarn Ave:geo:-92.6327652,44.898581
END:VEVENT
BEGIN:VEVENT
DTSTART;TZID=America/New_York:20260907T183000
DTEND;TZID=America/New_York:20260907T193000
DTSTAMP:20260424T092017
CREATED:20260211T152431Z
LAST-MODIFIED:20260211T152431Z
UID:15065-1788805800-1788809400@www.hopelutheranrf.com
SUMMARY:Worship Ministry Meeting
DESCRIPTION:
URL:https://www.hopelutheranrf.com/event/worship-ministry-meeting-4/2026-09-07/
LOCATION:HOPE Lutheran Church\, 3337 Kingsbarn Ave\, River Falls\, WI\, 54022\, United States
GEO:44.898581;-92.6327652
X-APPLE-STRUCTURED-LOCATION;VALUE=URI;X-ADDRESS=HOPE Lutheran Church 3337 Kingsbarn Ave River Falls WI 54022 United States;X-APPLE-RADIUS=500;X-TITLE=3337 Kingsbarn Ave:geo:-92.6327652,44.898581
END:VEVENT
BEGIN:VEVENT
DTSTART;TZID=America/New_York:20261005T183000
DTEND;TZID=America/New_York:20261005T193000
DTSTAMP:20260424T092017
CREATED:20260211T152431Z
LAST-MODIFIED:20260211T152431Z
UID:15066-1791225000-1791228600@www.hopelutheranrf.com
SUMMARY:Worship Ministry Meeting
DESCRIPTION:
URL:https://www.hopelutheranrf.com/event/worship-ministry-meeting-4/2026-10-05/
LOCATION:HOPE Lutheran Church\, 3337 Kingsbarn Ave\, River Falls\, WI\, 54022\, United States
GEO:44.898581;-92.6327652
X-APPLE-STRUCTURED-LOCATION;VALUE=URI;X-ADDRESS=HOPE Lutheran Church 3337 Kingsbarn Ave River Falls WI 54022 United States;X-APPLE-RADIUS=500;X-TITLE=3337 Kingsbarn Ave:geo:-92.6327652,44.898581
END:VEVENT
BEGIN:VEVENT
DTSTART;TZID=America/New_York:20261102T183000
DTEND;TZID=America/New_York:20261102T193000
DTSTAMP:20260424T092017
CREATED:20260211T152431Z
LAST-MODIFIED:20260211T152431Z
UID:15067-1793644200-1793647800@www.hopelutheranrf.com
SUMMARY:Worship Ministry Meeting
DESCRIPTION:
URL:https://www.hopelutheranrf.com/event/worship-ministry-meeting-4/2026-11-02/
LOCATION:HOPE Lutheran Church\, 3337 Kingsbarn Ave\, River Falls\, WI\, 54022\, United States
GEO:44.898581;-92.6327652
X-APPLE-STRUCTURED-LOCATION;VALUE=URI;X-ADDRESS=HOPE Lutheran Church 3337 Kingsbarn Ave River Falls WI 54022 United States;X-APPLE-RADIUS=500;X-TITLE=3337 Kingsbarn Ave:geo:-92.6327652,44.898581
END:VEVENT
BEGIN:VEVENT
DTSTART;TZID=America/New_York:20261207T183000
DTEND;TZID=America/New_York:20261207T193000
DTSTAMP:20260424T092017
CREATED:20260211T152431Z
LAST-MODIFIED:20260211T152431Z
UID:15068-1796668200-1796671800@www.hopelutheranrf.com
SUMMARY:Worship Ministry Meeting
DESCRIPTION:
URL:https://www.hopelutheranrf.com/event/worship-ministry-meeting-4/2026-12-07/
LOCATION:HOPE Lutheran Church\, 3337 Kingsbarn Ave\, River Falls\, WI\, 54022\, United States
GEO:44.898581;-92.6327652
X-APPLE-STRUCTURED-LOCATION;VALUE=URI;X-ADDRESS=HOPE Lutheran Church 3337 Kingsbarn Ave River Falls WI 54022 United States;X-APPLE-RADIUS=500;X-TITLE=3337 Kingsbarn Ave:geo:-92.6327652,44.898581
END:VEVENT
BEGIN:VEVENT
DTSTART;TZID=America/New_York:20270104T183000
DTEND;TZID=America/New_York:20270104T193000
DTSTAMP:20260424T092017
CREATED:20260211T152431Z
LAST-MODIFIED:20260211T152431Z
UID:15069-1799087400-1799091000@www.hopelutheranrf.com
SUMMARY:Worship Ministry Meeting
DESCRIPTION:
URL:https://www.hopelutheranrf.com/event/worship-ministry-meeting-4/2027-01-04/
LOCATION:HOPE Lutheran Church\, 3337 Kingsbarn Ave\, River Falls\, WI\, 54022\, United States
GEO:44.898581;-92.6327652
X-APPLE-STRUCTURED-LOCATION;VALUE=URI;X-ADDRESS=HOPE Lutheran Church 3337 Kingsbarn Ave River Falls WI 54022 United States;X-APPLE-RADIUS=500;X-TITLE=3337 Kingsbarn Ave:geo:-92.6327652,44.898581
END:VEVENT
BEGIN:VEVENT
DTSTART;TZID=America/New_York:20270201T183000
DTEND;TZID=America/New_York:20270201T193000
DTSTAMP:20260424T092017
CREATED:20260211T152431Z
LAST-MODIFIED:20260211T152431Z
UID:15071-1801506600-1801510200@www.hopelutheranrf.com
SUMMARY:Worship Ministry Meeting
DESCRIPTION:
URL:https://www.hopelutheranrf.com/event/worship-ministry-meeting-4/2027-02-01/
LOCATION:HOPE Lutheran Church\, 3337 Kingsbarn Ave\, River Falls\, WI\, 54022\, United States
GEO:44.898581;-92.6327652
X-APPLE-STRUCTURED-LOCATION;VALUE=URI;X-ADDRESS=HOPE Lutheran Church 3337 Kingsbarn Ave River Falls WI 54022 United States;X-APPLE-RADIUS=500;X-TITLE=3337 Kingsbarn Ave:geo:-92.6327652,44.898581
END:VEVENT
END:VCALENDAR