BEGIN:VCALENDAR
VERSION:2.0
PRODID:-//Welcome to HOPE Lutheran Church - ECPv6.15.20//NONSGML v1.0//EN
CALSCALE:GREGORIAN
METHOD:PUBLISH
X-WR-CALNAME:Welcome to HOPE Lutheran Church
X-ORIGINAL-URL:https://www.hopelutheranrf.com
X-WR-CALDESC:Events for Welcome to HOPE Lutheran Church
REFRESH-INTERVAL;VALUE=DURATION:PT1H
X-Robots-Tag:noindex
X-PUBLISHED-TTL:PT1H
BEGIN:VTIMEZONE
TZID:America/New_York
BEGIN:DAYLIGHT
TZOFFSETFROM:-0500
TZOFFSETTO:-0400
TZNAME:EDT
DTSTART:20240310T070000
END:DAYLIGHT
BEGIN:STANDARD
TZOFFSETFROM:-0400
TZOFFSETTO:-0500
TZNAME:EST
DTSTART:20241103T060000
END:STANDARD
BEGIN:DAYLIGHT
TZOFFSETFROM:-0500
TZOFFSETTO:-0400
TZNAME:EDT
DTSTART:20250309T070000
END:DAYLIGHT
BEGIN:STANDARD
TZOFFSETFROM:-0400
TZOFFSETTO:-0500
TZNAME:EST
DTSTART:20251102T060000
END:STANDARD
BEGIN:DAYLIGHT
TZOFFSETFROM:-0500
TZOFFSETTO:-0400
TZNAME:EDT
DTSTART:20260308T070000
END:DAYLIGHT
BEGIN:STANDARD
TZOFFSETFROM:-0400
TZOFFSETTO:-0500
TZNAME:EST
DTSTART:20261101T060000
END:STANDARD
END:VTIMEZONE
BEGIN:VEVENT
DTSTART;TZID=America/New_York:20250521T174500
DTEND;TZID=America/New_York:20250521T190000
DTSTAMP:20260424T203806
CREATED:20240911T132017Z
LAST-MODIFIED:20240911T132017Z
UID:13966-1747849500-1747854000@www.hopelutheranrf.com
SUMMARY:Wednesdays of HOPE
DESCRIPTION:
URL:https://www.hopelutheranrf.com/event/wednesdays-of-hope-4/2025-05-21/
LOCATION:HOPE Lutheran Church\, 3337 Kingsbarn Ave\, River Falls\, WI\, 54022\, United States
GEO:44.898581;-92.6327652
X-APPLE-STRUCTURED-LOCATION;VALUE=URI;X-ADDRESS=HOPE Lutheran Church 3337 Kingsbarn Ave River Falls WI 54022 United States;X-APPLE-RADIUS=500;X-TITLE=3337 Kingsbarn Ave:geo:-92.6327652,44.898581
END:VEVENT
BEGIN:VEVENT
DTSTART;TZID=America/New_York:20250514T174500
DTEND;TZID=America/New_York:20250514T190000
DTSTAMP:20260424T203806
CREATED:20240911T132017Z
LAST-MODIFIED:20240911T132017Z
UID:13965-1747244700-1747249200@www.hopelutheranrf.com
SUMMARY:Wednesdays of HOPE
DESCRIPTION:
URL:https://www.hopelutheranrf.com/event/wednesdays-of-hope-4/2025-05-14/
LOCATION:HOPE Lutheran Church\, 3337 Kingsbarn Ave\, River Falls\, WI\, 54022\, United States
GEO:44.898581;-92.6327652
X-APPLE-STRUCTURED-LOCATION;VALUE=URI;X-ADDRESS=HOPE Lutheran Church 3337 Kingsbarn Ave River Falls WI 54022 United States;X-APPLE-RADIUS=500;X-TITLE=3337 Kingsbarn Ave:geo:-92.6327652,44.898581
END:VEVENT
BEGIN:VEVENT
DTSTART;TZID=America/New_York:20250507T174500
DTEND;TZID=America/New_York:20250507T190000
DTSTAMP:20260424T203806
CREATED:20240911T132017Z
LAST-MODIFIED:20240911T132017Z
UID:13964-1746639900-1746644400@www.hopelutheranrf.com
SUMMARY:Wednesdays of HOPE
DESCRIPTION:
URL:https://www.hopelutheranrf.com/event/wednesdays-of-hope-4/2025-05-07/
LOCATION:HOPE Lutheran Church\, 3337 Kingsbarn Ave\, River Falls\, WI\, 54022\, United States
GEO:44.898581;-92.6327652
X-APPLE-STRUCTURED-LOCATION;VALUE=URI;X-ADDRESS=HOPE Lutheran Church 3337 Kingsbarn Ave River Falls WI 54022 United States;X-APPLE-RADIUS=500;X-TITLE=3337 Kingsbarn Ave:geo:-92.6327652,44.898581
END:VEVENT
BEGIN:VEVENT
DTSTART;TZID=America/New_York:20250430T174500
DTEND;TZID=America/New_York:20250430T190000
DTSTAMP:20260424T203806
CREATED:20240911T132017Z
LAST-MODIFIED:20240911T132017Z
UID:13963-1746035100-1746039600@www.hopelutheranrf.com
SUMMARY:Wednesdays of HOPE
DESCRIPTION:
URL:https://www.hopelutheranrf.com/event/wednesdays-of-hope-4/2025-04-30/
LOCATION:HOPE Lutheran Church\, 3337 Kingsbarn Ave\, River Falls\, WI\, 54022\, United States
GEO:44.898581;-92.6327652
X-APPLE-STRUCTURED-LOCATION;VALUE=URI;X-ADDRESS=HOPE Lutheran Church 3337 Kingsbarn Ave River Falls WI 54022 United States;X-APPLE-RADIUS=500;X-TITLE=3337 Kingsbarn Ave:geo:-92.6327652,44.898581
END:VEVENT
END:VCALENDAR