BEGIN:VCALENDAR
VERSION:2.0
PRODID:-//Welcome to HOPE Lutheran Church - ECPv6.15.20//NONSGML v1.0//EN
CALSCALE:GREGORIAN
METHOD:PUBLISH
X-WR-CALNAME:Welcome to HOPE Lutheran Church
X-ORIGINAL-URL:https://www.hopelutheranrf.com
X-WR-CALDESC:Events for Welcome to HOPE Lutheran Church
REFRESH-INTERVAL;VALUE=DURATION:PT1H
X-Robots-Tag:noindex
X-PUBLISHED-TTL:PT1H
BEGIN:VTIMEZONE
TZID:America/New_York
BEGIN:DAYLIGHT
TZOFFSETFROM:-0500
TZOFFSETTO:-0400
TZNAME:EDT
DTSTART:20240310T070000
END:DAYLIGHT
BEGIN:STANDARD
TZOFFSETFROM:-0400
TZOFFSETTO:-0500
TZNAME:EST
DTSTART:20241103T060000
END:STANDARD
BEGIN:DAYLIGHT
TZOFFSETFROM:-0500
TZOFFSETTO:-0400
TZNAME:EDT
DTSTART:20250309T070000
END:DAYLIGHT
BEGIN:STANDARD
TZOFFSETFROM:-0400
TZOFFSETTO:-0500
TZNAME:EST
DTSTART:20251102T060000
END:STANDARD
BEGIN:DAYLIGHT
TZOFFSETFROM:-0500
TZOFFSETTO:-0400
TZNAME:EDT
DTSTART:20260308T070000
END:DAYLIGHT
BEGIN:STANDARD
TZOFFSETFROM:-0400
TZOFFSETTO:-0500
TZNAME:EST
DTSTART:20261101T060000
END:STANDARD
BEGIN:DAYLIGHT
TZOFFSETFROM:-0500
TZOFFSETTO:-0400
TZNAME:EDT
DTSTART:20270314T070000
END:DAYLIGHT
BEGIN:STANDARD
TZOFFSETFROM:-0400
TZOFFSETTO:-0500
TZNAME:EST
DTSTART:20271107T060000
END:STANDARD
END:VTIMEZONE
BEGIN:VEVENT
DTSTART;TZID=America/New_York:20260303T183000
DTEND;TZID=America/New_York:20260303T193000
DTSTAMP:20260424T122228
CREATED:20250205T145504Z
LAST-MODIFIED:20250205T145504Z
UID:14290-1772562600-1772566200@www.hopelutheranrf.com
SUMMARY:Property Ministry Meeting
DESCRIPTION:
URL:https://www.hopelutheranrf.com/event/property-ministry-meeting-10/2026-03-03/
LOCATION:HOPE Lutheran Church\, 3337 Kingsbarn Ave\, River Falls\, WI\, 54022\, United States
GEO:44.898581;-92.6327652
X-APPLE-STRUCTURED-LOCATION;VALUE=URI;X-ADDRESS=HOPE Lutheran Church 3337 Kingsbarn Ave River Falls WI 54022 United States;X-APPLE-RADIUS=500;X-TITLE=3337 Kingsbarn Ave:geo:-92.6327652,44.898581
END:VEVENT
BEGIN:VEVENT
DTSTART;TZID=America/New_York:20260203T183000
DTEND;TZID=America/New_York:20260203T193000
DTSTAMP:20260424T122228
CREATED:20250205T145504Z
LAST-MODIFIED:20250205T145504Z
UID:14289-1770143400-1770147000@www.hopelutheranrf.com
SUMMARY:Property Ministry Meeting
DESCRIPTION:
URL:https://www.hopelutheranrf.com/event/property-ministry-meeting-10/2026-02-03/
LOCATION:HOPE Lutheran Church\, 3337 Kingsbarn Ave\, River Falls\, WI\, 54022\, United States
GEO:44.898581;-92.6327652
X-APPLE-STRUCTURED-LOCATION;VALUE=URI;X-ADDRESS=HOPE Lutheran Church 3337 Kingsbarn Ave River Falls WI 54022 United States;X-APPLE-RADIUS=500;X-TITLE=3337 Kingsbarn Ave:geo:-92.6327652,44.898581
END:VEVENT
BEGIN:VEVENT
DTSTART;TZID=America/New_York:20260106T183000
DTEND;TZID=America/New_York:20260106T193000
DTSTAMP:20260424T122228
CREATED:20250205T145504Z
LAST-MODIFIED:20250205T145504Z
UID:14287-1767724200-1767727800@www.hopelutheranrf.com
SUMMARY:Property Ministry Meeting
DESCRIPTION:
URL:https://www.hopelutheranrf.com/event/property-ministry-meeting-10/2026-01-06/
LOCATION:HOPE Lutheran Church\, 3337 Kingsbarn Ave\, River Falls\, WI\, 54022\, United States
GEO:44.898581;-92.6327652
X-APPLE-STRUCTURED-LOCATION;VALUE=URI;X-ADDRESS=HOPE Lutheran Church 3337 Kingsbarn Ave River Falls WI 54022 United States;X-APPLE-RADIUS=500;X-TITLE=3337 Kingsbarn Ave:geo:-92.6327652,44.898581
END:VEVENT
BEGIN:VEVENT
DTSTART;TZID=America/New_York:20251202T183000
DTEND;TZID=America/New_York:20251202T193000
DTSTAMP:20260424T122228
CREATED:20250205T145504Z
LAST-MODIFIED:20250205T145504Z
UID:14286-1764700200-1764703800@www.hopelutheranrf.com
SUMMARY:Property Ministry Meeting
DESCRIPTION:
URL:https://www.hopelutheranrf.com/event/property-ministry-meeting-10/2025-12-02/
LOCATION:HOPE Lutheran Church\, 3337 Kingsbarn Ave\, River Falls\, WI\, 54022\, United States
GEO:44.898581;-92.6327652
X-APPLE-STRUCTURED-LOCATION;VALUE=URI;X-ADDRESS=HOPE Lutheran Church 3337 Kingsbarn Ave River Falls WI 54022 United States;X-APPLE-RADIUS=500;X-TITLE=3337 Kingsbarn Ave:geo:-92.6327652,44.898581
END:VEVENT
BEGIN:VEVENT
DTSTART;TZID=America/New_York:20251104T183000
DTEND;TZID=America/New_York:20251104T193000
DTSTAMP:20260424T122228
CREATED:20250205T145504Z
LAST-MODIFIED:20250205T145504Z
UID:14285-1762281000-1762284600@www.hopelutheranrf.com
SUMMARY:Property Ministry Meeting
DESCRIPTION:
URL:https://www.hopelutheranrf.com/event/property-ministry-meeting-10/2025-11-04/
LOCATION:HOPE Lutheran Church\, 3337 Kingsbarn Ave\, River Falls\, WI\, 54022\, United States
GEO:44.898581;-92.6327652
X-APPLE-STRUCTURED-LOCATION;VALUE=URI;X-ADDRESS=HOPE Lutheran Church 3337 Kingsbarn Ave River Falls WI 54022 United States;X-APPLE-RADIUS=500;X-TITLE=3337 Kingsbarn Ave:geo:-92.6327652,44.898581
END:VEVENT
BEGIN:VEVENT
DTSTART;TZID=America/New_York:20251007T183000
DTEND;TZID=America/New_York:20251007T193000
DTSTAMP:20260424T122228
CREATED:20250205T145504Z
LAST-MODIFIED:20250205T145504Z
UID:14284-1759861800-1759865400@www.hopelutheranrf.com
SUMMARY:Property Ministry Meeting
DESCRIPTION:
URL:https://www.hopelutheranrf.com/event/property-ministry-meeting-10/2025-10-07/
LOCATION:HOPE Lutheran Church\, 3337 Kingsbarn Ave\, River Falls\, WI\, 54022\, United States
GEO:44.898581;-92.6327652
X-APPLE-STRUCTURED-LOCATION;VALUE=URI;X-ADDRESS=HOPE Lutheran Church 3337 Kingsbarn Ave River Falls WI 54022 United States;X-APPLE-RADIUS=500;X-TITLE=3337 Kingsbarn Ave:geo:-92.6327652,44.898581
END:VEVENT
BEGIN:VEVENT
DTSTART;TZID=America/New_York:20250902T183000
DTEND;TZID=America/New_York:20250902T193000
DTSTAMP:20260424T122228
CREATED:20250205T145504Z
LAST-MODIFIED:20250205T145504Z
UID:14283-1756837800-1756841400@www.hopelutheranrf.com
SUMMARY:Property Ministry Meeting
DESCRIPTION:
URL:https://www.hopelutheranrf.com/event/property-ministry-meeting-10/2025-09-02/
LOCATION:HOPE Lutheran Church\, 3337 Kingsbarn Ave\, River Falls\, WI\, 54022\, United States
GEO:44.898581;-92.6327652
X-APPLE-STRUCTURED-LOCATION;VALUE=URI;X-ADDRESS=HOPE Lutheran Church 3337 Kingsbarn Ave River Falls WI 54022 United States;X-APPLE-RADIUS=500;X-TITLE=3337 Kingsbarn Ave:geo:-92.6327652,44.898581
END:VEVENT
BEGIN:VEVENT
DTSTART;TZID=America/New_York:20250805T183000
DTEND;TZID=America/New_York:20250805T193000
DTSTAMP:20260424T122228
CREATED:20250205T145504Z
LAST-MODIFIED:20250205T145504Z
UID:14282-1754418600-1754422200@www.hopelutheranrf.com
SUMMARY:Property Ministry Meeting
DESCRIPTION:
URL:https://www.hopelutheranrf.com/event/property-ministry-meeting-10/2025-08-05/
LOCATION:HOPE Lutheran Church\, 3337 Kingsbarn Ave\, River Falls\, WI\, 54022\, United States
GEO:44.898581;-92.6327652
X-APPLE-STRUCTURED-LOCATION;VALUE=URI;X-ADDRESS=HOPE Lutheran Church 3337 Kingsbarn Ave River Falls WI 54022 United States;X-APPLE-RADIUS=500;X-TITLE=3337 Kingsbarn Ave:geo:-92.6327652,44.898581
END:VEVENT
BEGIN:VEVENT
DTSTART;TZID=America/New_York:20250701T183000
DTEND;TZID=America/New_York:20250701T193000
DTSTAMP:20260424T122228
CREATED:20250205T145504Z
LAST-MODIFIED:20250205T145504Z
UID:14281-1751394600-1751398200@www.hopelutheranrf.com
SUMMARY:Property Ministry Meeting
DESCRIPTION:
URL:https://www.hopelutheranrf.com/event/property-ministry-meeting-10/2025-07-01/
LOCATION:HOPE Lutheran Church\, 3337 Kingsbarn Ave\, River Falls\, WI\, 54022\, United States
GEO:44.898581;-92.6327652
X-APPLE-STRUCTURED-LOCATION;VALUE=URI;X-ADDRESS=HOPE Lutheran Church 3337 Kingsbarn Ave River Falls WI 54022 United States;X-APPLE-RADIUS=500;X-TITLE=3337 Kingsbarn Ave:geo:-92.6327652,44.898581
END:VEVENT
BEGIN:VEVENT
DTSTART;TZID=America/New_York:20250603T183000
DTEND;TZID=America/New_York:20250603T193000
DTSTAMP:20260424T122228
CREATED:20250205T145504Z
LAST-MODIFIED:20250205T145504Z
UID:14280-1748975400-1748979000@www.hopelutheranrf.com
SUMMARY:Property Ministry Meeting
DESCRIPTION:
URL:https://www.hopelutheranrf.com/event/property-ministry-meeting-10/2025-06-03/
LOCATION:HOPE Lutheran Church\, 3337 Kingsbarn Ave\, River Falls\, WI\, 54022\, United States
GEO:44.898581;-92.6327652
X-APPLE-STRUCTURED-LOCATION;VALUE=URI;X-ADDRESS=HOPE Lutheran Church 3337 Kingsbarn Ave River Falls WI 54022 United States;X-APPLE-RADIUS=500;X-TITLE=3337 Kingsbarn Ave:geo:-92.6327652,44.898581
END:VEVENT
BEGIN:VEVENT
DTSTART;TZID=America/New_York:20250506T183000
DTEND;TZID=America/New_York:20250506T193000
DTSTAMP:20260424T122228
CREATED:20250205T145504Z
LAST-MODIFIED:20250205T145504Z
UID:14279-1746556200-1746559800@www.hopelutheranrf.com
SUMMARY:Property Ministry Meeting
DESCRIPTION:
URL:https://www.hopelutheranrf.com/event/property-ministry-meeting-10/2025-05-06/
LOCATION:HOPE Lutheran Church\, 3337 Kingsbarn Ave\, River Falls\, WI\, 54022\, United States
GEO:44.898581;-92.6327652
X-APPLE-STRUCTURED-LOCATION;VALUE=URI;X-ADDRESS=HOPE Lutheran Church 3337 Kingsbarn Ave River Falls WI 54022 United States;X-APPLE-RADIUS=500;X-TITLE=3337 Kingsbarn Ave:geo:-92.6327652,44.898581
END:VEVENT
BEGIN:VEVENT
DTSTART;TZID=America/New_York:20250401T183000
DTEND;TZID=America/New_York:20250401T193000
DTSTAMP:20260424T122228
CREATED:20250205T145504Z
LAST-MODIFIED:20250205T145504Z
UID:14278-1743532200-1743535800@www.hopelutheranrf.com
SUMMARY:Property Ministry Meeting
DESCRIPTION:
URL:https://www.hopelutheranrf.com/event/property-ministry-meeting-10/2025-04-01/
LOCATION:HOPE Lutheran Church\, 3337 Kingsbarn Ave\, River Falls\, WI\, 54022\, United States
GEO:44.898581;-92.6327652
X-APPLE-STRUCTURED-LOCATION;VALUE=URI;X-ADDRESS=HOPE Lutheran Church 3337 Kingsbarn Ave River Falls WI 54022 United States;X-APPLE-RADIUS=500;X-TITLE=3337 Kingsbarn Ave:geo:-92.6327652,44.898581
END:VEVENT
BEGIN:VEVENT
DTSTART;TZID=America/New_York:20250304T183000
DTEND;TZID=America/New_York:20250304T193000
DTSTAMP:20260424T122228
CREATED:20250205T145504Z
LAST-MODIFIED:20250205T145504Z
UID:14277-1741113000-1741116600@www.hopelutheranrf.com
SUMMARY:Property Ministry Meeting
DESCRIPTION:
URL:https://www.hopelutheranrf.com/event/property-ministry-meeting-10/2025-03-04/
LOCATION:HOPE Lutheran Church\, 3337 Kingsbarn Ave\, River Falls\, WI\, 54022\, United States
GEO:44.898581;-92.6327652
X-APPLE-STRUCTURED-LOCATION;VALUE=URI;X-ADDRESS=HOPE Lutheran Church 3337 Kingsbarn Ave River Falls WI 54022 United States;X-APPLE-RADIUS=500;X-TITLE=3337 Kingsbarn Ave:geo:-92.6327652,44.898581
END:VEVENT
END:VCALENDAR